BEGIN:VCALENDAR
VERSION:2.0
PRODID:-//Easthaven Baptist Church - ECPv6.15.9//NONSGML v1.0//EN
CALSCALE:GREGORIAN
METHOD:PUBLISH
X-WR-CALNAME:Easthaven Baptist Church
X-ORIGINAL-URL:https://easthavenbaptistchurch.com
X-WR-CALDESC:Events for Easthaven Baptist Church
REFRESH-INTERVAL;VALUE=DURATION:PT1H
X-Robots-Tag:noindex
X-PUBLISHED-TTL:PT1H
BEGIN:VTIMEZONE
TZID:America/Chicago
BEGIN:DAYLIGHT
TZOFFSETFROM:-0600
TZOFFSETTO:-0500
TZNAME:CDT
DTSTART:20240310T080000
END:DAYLIGHT
BEGIN:STANDARD
TZOFFSETFROM:-0500
TZOFFSETTO:-0600
TZNAME:CST
DTSTART:20241103T070000
END:STANDARD
BEGIN:DAYLIGHT
TZOFFSETFROM:-0600
TZOFFSETTO:-0500
TZNAME:CDT
DTSTART:20250309T080000
END:DAYLIGHT
BEGIN:STANDARD
TZOFFSETFROM:-0500
TZOFFSETTO:-0600
TZNAME:CST
DTSTART:20251102T070000
END:STANDARD
BEGIN:DAYLIGHT
TZOFFSETFROM:-0600
TZOFFSETTO:-0500
TZNAME:CDT
DTSTART:20260308T080000
END:DAYLIGHT
BEGIN:STANDARD
TZOFFSETFROM:-0500
TZOFFSETTO:-0600
TZNAME:CST
DTSTART:20261101T070000
END:STANDARD
END:VTIMEZONE
BEGIN:VEVENT
DTSTART;TZID=America/Chicago:20251002T053000
DTEND;TZID=America/Chicago:20251002T070000
DTSTAMP:20260419T083403
CREATED:20251023T143845Z
LAST-MODIFIED:20251024T160232Z
UID:10000682-1759383000-1759388400@easthavenbaptistchurch.com
SUMMARY:Hungry Men 2025
DESCRIPTION:A Transformative Men’s Study Series | Every Thursday Morning | Oct. 2 – Nov. 20 \nStep Into the Story. Sharpen Your Faith. Strengthen Your Brotherhood. \nJoin us for Hungry Men 2025\, an in-depth and dynamic study series centered on “The Colorful Character of Joseph”. Each Thursday morning\, from October 2 to November 20\, we’ll dive into the extraordinary life of Joseph—his integrity\, resilience\, forgiveness\, and unwavering trust in God amidst betrayal\, injustice\, and leadership. \nWhether you’re navigating your own challenges or seeking deeper spiritual direction\, this series will equip you with timeless principles for modern manhood.
URL:https://easthavenbaptistchurch.com/event/hungry-men-2025/2025-10-02/
ATTACH;FMTTYPE=image/jpeg:https://easthavenbaptistchurch.com/wp-content/uploads/HUNGRY_MEN_2025_card_page-0001.jpg
END:VEVENT
BEGIN:VEVENT
DTSTART;TZID=America/Chicago:20251005T090000
DTEND;TZID=America/Chicago:20251005T100000
DTSTAMP:20260419T083403
CREATED:20251023T150259Z
LAST-MODIFIED:20251023T150259Z
UID:10000006-1759654800-1759658400@easthavenbaptistchurch.com
SUMMARY:Sunday School
DESCRIPTION:
URL:https://easthavenbaptistchurch.com/event/sunday-school/2025-10-05/
END:VEVENT
BEGIN:VEVENT
DTSTART;TZID=America/Chicago:20251005T103000
DTEND;TZID=America/Chicago:20251005T233000
DTSTAMP:20260419T083403
CREATED:20251023T150259Z
LAST-MODIFIED:20251023T150259Z
UID:10000267-1759660200-1759707000@easthavenbaptistchurch.com
SUMMARY:Sunday Morning Worship Service
DESCRIPTION:
URL:https://easthavenbaptistchurch.com/event/sunday-morning-worship-service/2025-10-05/
END:VEVENT
BEGIN:VEVENT
DTSTART;TZID=America/Chicago:20251008T164500
DTEND;TZID=America/Chicago:20251008T180000
DTSTAMP:20260419T083403
CREATED:20251023T150259Z
LAST-MODIFIED:20251120T165358Z
UID:10000528-1759941900-1759946400@easthavenbaptistchurch.com
SUMMARY:Fellowship Meal
DESCRIPTION:
URL:https://easthavenbaptistchurch.com/event/fellowship-meal/2025-10-08/
END:VEVENT
BEGIN:VEVENT
DTSTART;TZID=America/Chicago:20251008T180000
DTEND;TZID=America/Chicago:20251008T190000
DTSTAMP:20260419T083403
CREATED:20251023T150259Z
LAST-MODIFIED:20251118T161921Z
UID:10000614-1759946400-1759950000@easthavenbaptistchurch.com
SUMMARY:Ministry Groups (All Ages)
DESCRIPTION:
URL:https://easthavenbaptistchurch.com/event/bible-studies-all-ages/2025-10-08/
END:VEVENT
BEGIN:VEVENT
DTSTART;TZID=America/Chicago:20251008T180000
DTEND;TZID=America/Chicago:20251008T190000
DTSTAMP:20260419T083403
CREATED:20251118T195348Z
LAST-MODIFIED:20251118T195348Z
UID:10000627-1759946400-1759950000@easthavenbaptistchurch.com
SUMMARY:Ministry Groups (All Ages)
DESCRIPTION:
URL:https://easthavenbaptistchurch.com/event/ministry-groups-all-ages/2025-10-08/
END:VEVENT
BEGIN:VEVENT
DTSTART;TZID=America/Chicago:20251009T053000
DTEND;TZID=America/Chicago:20251009T070000
DTSTAMP:20260419T083403
CREATED:20251023T143845Z
LAST-MODIFIED:20251024T160232Z
UID:10000683-1759987800-1759993200@easthavenbaptistchurch.com
SUMMARY:Hungry Men 2025
DESCRIPTION:A Transformative Men’s Study Series | Every Thursday Morning | Oct. 2 – Nov. 20 \nStep Into the Story. Sharpen Your Faith. Strengthen Your Brotherhood. \nJoin us for Hungry Men 2025\, an in-depth and dynamic study series centered on “The Colorful Character of Joseph”. Each Thursday morning\, from October 2 to November 20\, we’ll dive into the extraordinary life of Joseph—his integrity\, resilience\, forgiveness\, and unwavering trust in God amidst betrayal\, injustice\, and leadership. \nWhether you’re navigating your own challenges or seeking deeper spiritual direction\, this series will equip you with timeless principles for modern manhood.
URL:https://easthavenbaptistchurch.com/event/hungry-men-2025/2025-10-09/
ATTACH;FMTTYPE=image/jpeg:https://easthavenbaptistchurch.com/wp-content/uploads/HUNGRY_MEN_2025_card_page-0001.jpg
END:VEVENT
BEGIN:VEVENT
DTSTART;TZID=America/Chicago:20251012T090000
DTEND;TZID=America/Chicago:20251012T100000
DTSTAMP:20260419T083403
CREATED:20251023T150259Z
LAST-MODIFIED:20251023T150259Z
UID:10000007-1760259600-1760263200@easthavenbaptistchurch.com
SUMMARY:Sunday School
DESCRIPTION:
URL:https://easthavenbaptistchurch.com/event/sunday-school/2025-10-12/
END:VEVENT
BEGIN:VEVENT
DTSTART;TZID=America/Chicago:20251012T103000
DTEND;TZID=America/Chicago:20251012T233000
DTSTAMP:20260419T083403
CREATED:20251023T150259Z
LAST-MODIFIED:20251023T150259Z
UID:10000268-1760265000-1760311800@easthavenbaptistchurch.com
SUMMARY:Sunday Morning Worship Service
DESCRIPTION:
URL:https://easthavenbaptistchurch.com/event/sunday-morning-worship-service/2025-10-12/
END:VEVENT
BEGIN:VEVENT
DTSTART;TZID=America/Chicago:20251015T164500
DTEND;TZID=America/Chicago:20251015T180000
DTSTAMP:20260419T083403
CREATED:20251023T150259Z
LAST-MODIFIED:20251120T165358Z
UID:10000529-1760546700-1760551200@easthavenbaptistchurch.com
SUMMARY:Fellowship Meal
DESCRIPTION:
URL:https://easthavenbaptistchurch.com/event/fellowship-meal/2025-10-15/
END:VEVENT
BEGIN:VEVENT
DTSTART;TZID=America/Chicago:20251016T053000
DTEND;TZID=America/Chicago:20251016T070000
DTSTAMP:20260419T083403
CREATED:20251023T143845Z
LAST-MODIFIED:20251024T160232Z
UID:10000684-1760592600-1760598000@easthavenbaptistchurch.com
SUMMARY:Hungry Men 2025
DESCRIPTION:A Transformative Men’s Study Series | Every Thursday Morning | Oct. 2 – Nov. 20 \nStep Into the Story. Sharpen Your Faith. Strengthen Your Brotherhood. \nJoin us for Hungry Men 2025\, an in-depth and dynamic study series centered on “The Colorful Character of Joseph”. Each Thursday morning\, from October 2 to November 20\, we’ll dive into the extraordinary life of Joseph—his integrity\, resilience\, forgiveness\, and unwavering trust in God amidst betrayal\, injustice\, and leadership. \nWhether you’re navigating your own challenges or seeking deeper spiritual direction\, this series will equip you with timeless principles for modern manhood.
URL:https://easthavenbaptistchurch.com/event/hungry-men-2025/2025-10-16/
ATTACH;FMTTYPE=image/jpeg:https://easthavenbaptistchurch.com/wp-content/uploads/HUNGRY_MEN_2025_card_page-0001.jpg
END:VEVENT
BEGIN:VEVENT
DTSTART;TZID=America/Chicago:20251019T090000
DTEND;TZID=America/Chicago:20251019T100000
DTSTAMP:20260419T083403
CREATED:20251023T150259Z
LAST-MODIFIED:20251023T150259Z
UID:10000008-1760864400-1760868000@easthavenbaptistchurch.com
SUMMARY:Sunday School
DESCRIPTION:
URL:https://easthavenbaptistchurch.com/event/sunday-school/2025-10-19/
END:VEVENT
BEGIN:VEVENT
DTSTART;TZID=America/Chicago:20251019T103000
DTEND;TZID=America/Chicago:20251019T233000
DTSTAMP:20260419T083403
CREATED:20251023T150259Z
LAST-MODIFIED:20251023T150259Z
UID:10000269-1760869800-1760916600@easthavenbaptistchurch.com
SUMMARY:Sunday Morning Worship Service
DESCRIPTION:
URL:https://easthavenbaptistchurch.com/event/sunday-morning-worship-service/2025-10-19/
END:VEVENT
BEGIN:VEVENT
DTSTART;TZID=America/Chicago:20251022T164500
DTEND;TZID=America/Chicago:20251022T180000
DTSTAMP:20260419T083403
CREATED:20251023T150259Z
LAST-MODIFIED:20251120T165358Z
UID:10000530-1761151500-1761156000@easthavenbaptistchurch.com
SUMMARY:Fellowship Meal
DESCRIPTION:
URL:https://easthavenbaptistchurch.com/event/fellowship-meal/2025-10-22/
END:VEVENT
BEGIN:VEVENT
DTSTART;TZID=America/Chicago:20251023T053000
DTEND;TZID=America/Chicago:20251023T070000
DTSTAMP:20260419T083403
CREATED:20251023T143845Z
LAST-MODIFIED:20251024T160232Z
UID:10000685-1761197400-1761202800@easthavenbaptistchurch.com
SUMMARY:Hungry Men 2025
DESCRIPTION:A Transformative Men’s Study Series | Every Thursday Morning | Oct. 2 – Nov. 20 \nStep Into the Story. Sharpen Your Faith. Strengthen Your Brotherhood. \nJoin us for Hungry Men 2025\, an in-depth and dynamic study series centered on “The Colorful Character of Joseph”. Each Thursday morning\, from October 2 to November 20\, we’ll dive into the extraordinary life of Joseph—his integrity\, resilience\, forgiveness\, and unwavering trust in God amidst betrayal\, injustice\, and leadership. \nWhether you’re navigating your own challenges or seeking deeper spiritual direction\, this series will equip you with timeless principles for modern manhood.
URL:https://easthavenbaptistchurch.com/event/hungry-men-2025/2025-10-23/
ATTACH;FMTTYPE=image/jpeg:https://easthavenbaptistchurch.com/wp-content/uploads/HUNGRY_MEN_2025_card_page-0001.jpg
END:VEVENT
BEGIN:VEVENT
DTSTART;TZID=America/Chicago:20251026T090000
DTEND;TZID=America/Chicago:20251026T100000
DTSTAMP:20260419T083403
CREATED:20251023T150259Z
LAST-MODIFIED:20251023T150259Z
UID:10000009-1761469200-1761472800@easthavenbaptistchurch.com
SUMMARY:Sunday School
DESCRIPTION:
URL:https://easthavenbaptistchurch.com/event/sunday-school/2025-10-26/
END:VEVENT
BEGIN:VEVENT
DTSTART;TZID=America/Chicago:20251026T103000
DTEND;TZID=America/Chicago:20251026T233000
DTSTAMP:20260419T083403
CREATED:20251023T150259Z
LAST-MODIFIED:20251023T150259Z
UID:10000270-1761474600-1761521400@easthavenbaptistchurch.com
SUMMARY:Sunday Morning Worship Service
DESCRIPTION:
URL:https://easthavenbaptistchurch.com/event/sunday-morning-worship-service/2025-10-26/
END:VEVENT
BEGIN:VEVENT
DTSTART;TZID=America/Chicago:20251029T164500
DTEND;TZID=America/Chicago:20251029T180000
DTSTAMP:20260419T083403
CREATED:20251023T150259Z
LAST-MODIFIED:20251120T165358Z
UID:10000531-1761756300-1761760800@easthavenbaptistchurch.com
SUMMARY:Fellowship Meal
DESCRIPTION:
URL:https://easthavenbaptistchurch.com/event/fellowship-meal/2025-10-29/
END:VEVENT
BEGIN:VEVENT
DTSTART;TZID=America/Chicago:20251030T053000
DTEND;TZID=America/Chicago:20251030T070000
DTSTAMP:20260419T083403
CREATED:20251023T143845Z
LAST-MODIFIED:20251024T160232Z
UID:10000686-1761802200-1761807600@easthavenbaptistchurch.com
SUMMARY:Hungry Men 2025
DESCRIPTION:A Transformative Men’s Study Series | Every Thursday Morning | Oct. 2 – Nov. 20 \nStep Into the Story. Sharpen Your Faith. Strengthen Your Brotherhood. \nJoin us for Hungry Men 2025\, an in-depth and dynamic study series centered on “The Colorful Character of Joseph”. Each Thursday morning\, from October 2 to November 20\, we’ll dive into the extraordinary life of Joseph—his integrity\, resilience\, forgiveness\, and unwavering trust in God amidst betrayal\, injustice\, and leadership. \nWhether you’re navigating your own challenges or seeking deeper spiritual direction\, this series will equip you with timeless principles for modern manhood.
URL:https://easthavenbaptistchurch.com/event/hungry-men-2025/2025-10-30/
ATTACH;FMTTYPE=image/jpeg:https://easthavenbaptistchurch.com/wp-content/uploads/HUNGRY_MEN_2025_card_page-0001.jpg
END:VEVENT
END:VCALENDAR