BEGIN:VCALENDAR
VERSION:2.0
PRODID:-//Easthaven Baptist Church - ECPv6.15.9//NONSGML v1.0//EN
CALSCALE:GREGORIAN
METHOD:PUBLISH
X-ORIGINAL-URL:https://easthavenbaptistchurch.com
X-WR-CALDESC:Events for Easthaven Baptist Church
REFRESH-INTERVAL;VALUE=DURATION:PT1H
X-Robots-Tag:noindex
X-PUBLISHED-TTL:PT1H
BEGIN:VTIMEZONE
TZID:America/Chicago
BEGIN:DAYLIGHT
TZOFFSETFROM:-0600
TZOFFSETTO:-0500
TZNAME:CDT
DTSTART:20250309T080000
END:DAYLIGHT
BEGIN:STANDARD
TZOFFSETFROM:-0500
TZOFFSETTO:-0600
TZNAME:CST
DTSTART:20251102T070000
END:STANDARD
BEGIN:DAYLIGHT
TZOFFSETFROM:-0600
TZOFFSETTO:-0500
TZNAME:CDT
DTSTART:20260308T080000
END:DAYLIGHT
BEGIN:STANDARD
TZOFFSETFROM:-0500
TZOFFSETTO:-0600
TZNAME:CST
DTSTART:20261101T070000
END:STANDARD
BEGIN:DAYLIGHT
TZOFFSETFROM:-0600
TZOFFSETTO:-0500
TZNAME:CDT
DTSTART:20270314T080000
END:DAYLIGHT
BEGIN:STANDARD
TZOFFSETFROM:-0500
TZOFFSETTO:-0600
TZNAME:CST
DTSTART:20271107T070000
END:STANDARD
END:VTIMEZONE
BEGIN:VEVENT
DTSTART;TZID=America/Chicago:20261101T090000
DTEND;TZID=America/Chicago:20261101T100000
DTSTAMP:20260419T130228
CREATED:20251023T150259Z
LAST-MODIFIED:20251023T150259Z
UID:10000062-1793523600-1793527200@easthavenbaptistchurch.com
SUMMARY:Sunday School
DESCRIPTION:
URL:https://easthavenbaptistchurch.com/event/sunday-school/2026-11-01/
END:VEVENT
BEGIN:VEVENT
DTSTART;TZID=America/Chicago:20261101T103000
DTEND;TZID=America/Chicago:20261101T233000
DTSTAMP:20260419T130228
CREATED:20251023T150259Z
LAST-MODIFIED:20251023T150259Z
UID:10000323-1793529000-1793575800@easthavenbaptistchurch.com
SUMMARY:Sunday Morning Worship Service
DESCRIPTION:
URL:https://easthavenbaptistchurch.com/event/sunday-morning-worship-service/2026-11-01/
END:VEVENT
BEGIN:VEVENT
DTSTART;TZID=America/Chicago:20261102T100000
DTEND;TZID=America/Chicago:20261102T110000
DTSTAMP:20260419T130228
CREATED:20260112T163027Z
LAST-MODIFIED:20260112T163027Z
UID:10000946-1793613600-1793617200@easthavenbaptistchurch.com
SUMMARY:Women’s Bible Study
DESCRIPTION:
URL:https://easthavenbaptistchurch.com/event/womens-bible-study/2026-11-02/
END:VEVENT
BEGIN:VEVENT
DTSTART;TZID=America/Chicago:20261108T090000
DTEND;TZID=America/Chicago:20261108T100000
DTSTAMP:20260419T130228
CREATED:20251023T150259Z
LAST-MODIFIED:20251023T150259Z
UID:10000063-1794128400-1794132000@easthavenbaptistchurch.com
SUMMARY:Sunday School
DESCRIPTION:
URL:https://easthavenbaptistchurch.com/event/sunday-school/2026-11-08/
END:VEVENT
BEGIN:VEVENT
DTSTART;TZID=America/Chicago:20261108T103000
DTEND;TZID=America/Chicago:20261108T233000
DTSTAMP:20260419T130228
CREATED:20251023T150259Z
LAST-MODIFIED:20251023T150259Z
UID:10000324-1794133800-1794180600@easthavenbaptistchurch.com
SUMMARY:Sunday Morning Worship Service
DESCRIPTION:
URL:https://easthavenbaptistchurch.com/event/sunday-morning-worship-service/2026-11-08/
END:VEVENT
BEGIN:VEVENT
DTSTART;TZID=America/Chicago:20261109T100000
DTEND;TZID=America/Chicago:20261109T110000
DTSTAMP:20260419T130228
CREATED:20260112T163027Z
LAST-MODIFIED:20260112T163027Z
UID:10000947-1794218400-1794222000@easthavenbaptistchurch.com
SUMMARY:Women’s Bible Study
DESCRIPTION:
URL:https://easthavenbaptistchurch.com/event/womens-bible-study/2026-11-09/
END:VEVENT
BEGIN:VEVENT
DTSTART;TZID=America/Chicago:20261115T090000
DTEND;TZID=America/Chicago:20261115T100000
DTSTAMP:20260419T130228
CREATED:20251023T150259Z
LAST-MODIFIED:20251023T150259Z
UID:10000064-1794733200-1794736800@easthavenbaptistchurch.com
SUMMARY:Sunday School
DESCRIPTION:
URL:https://easthavenbaptistchurch.com/event/sunday-school/2026-11-15/
END:VEVENT
BEGIN:VEVENT
DTSTART;TZID=America/Chicago:20261115T103000
DTEND;TZID=America/Chicago:20261115T233000
DTSTAMP:20260419T130228
CREATED:20251023T150259Z
LAST-MODIFIED:20251023T150259Z
UID:10000325-1794738600-1794785400@easthavenbaptistchurch.com
SUMMARY:Sunday Morning Worship Service
DESCRIPTION:
URL:https://easthavenbaptistchurch.com/event/sunday-morning-worship-service/2026-11-15/
END:VEVENT
BEGIN:VEVENT
DTSTART;TZID=America/Chicago:20261115T120000
DTEND;TZID=America/Chicago:20261115T130000
DTSTAMP:20260419T130228
CREATED:20260112T172848Z
LAST-MODIFIED:20260112T172848Z
UID:10001207-1794744000-1794747600@easthavenbaptistchurch.com
SUMMARY:New Member Lunch
DESCRIPTION:November 15th– New Member Lunch at noon
URL:https://easthavenbaptistchurch.com/event/new-member-lunch-4/
END:VEVENT
BEGIN:VEVENT
DTSTART;TZID=America/Chicago:20261116T100000
DTEND;TZID=America/Chicago:20261116T110000
DTSTAMP:20260419T130228
CREATED:20260112T163027Z
LAST-MODIFIED:20260112T163027Z
UID:10000948-1794823200-1794826800@easthavenbaptistchurch.com
SUMMARY:Women’s Bible Study
DESCRIPTION:
URL:https://easthavenbaptistchurch.com/event/womens-bible-study/2026-11-16/
END:VEVENT
BEGIN:VEVENT
DTSTART;VALUE=DATE:20261119
DTEND;VALUE=DATE:20261120
DTSTAMP:20260419T130228
CREATED:20260112T172949Z
LAST-MODIFIED:20260112T172949Z
UID:10001208-1795046400-1795132799@easthavenbaptistchurch.com
SUMMARY:Hungry Men semester ends
DESCRIPTION:November 19th-Hungry Men semester ends
URL:https://easthavenbaptistchurch.com/event/hungry-men-semester-ends/
END:VEVENT
BEGIN:VEVENT
DTSTART;TZID=America/Chicago:20261122T090000
DTEND;TZID=America/Chicago:20261122T100000
DTSTAMP:20260419T130228
CREATED:20251023T150259Z
LAST-MODIFIED:20251023T150259Z
UID:10000065-1795338000-1795341600@easthavenbaptistchurch.com
SUMMARY:Sunday School
DESCRIPTION:
URL:https://easthavenbaptistchurch.com/event/sunday-school/2026-11-22/
END:VEVENT
BEGIN:VEVENT
DTSTART;TZID=America/Chicago:20261122T103000
DTEND;TZID=America/Chicago:20261122T233000
DTSTAMP:20260419T130228
CREATED:20251023T150259Z
LAST-MODIFIED:20251023T150259Z
UID:10000326-1795343400-1795390200@easthavenbaptistchurch.com
SUMMARY:Sunday Morning Worship Service
DESCRIPTION:
URL:https://easthavenbaptistchurch.com/event/sunday-morning-worship-service/2026-11-22/
END:VEVENT
BEGIN:VEVENT
DTSTART;TZID=America/Chicago:20261122T170000
DTEND;TZID=America/Chicago:20261122T180000
DTSTAMP:20260419T130228
CREATED:20260112T173031Z
LAST-MODIFIED:20260112T173031Z
UID:10001209-1795366800-1795370400@easthavenbaptistchurch.com
SUMMARY:Community Thanksgiving Service
DESCRIPTION:November 22nd-Community Thanksgiving Service at 5:00 p.m.
URL:https://easthavenbaptistchurch.com/event/community-thanksgiving-service/
END:VEVENT
BEGIN:VEVENT
DTSTART;TZID=America/Chicago:20261123T100000
DTEND;TZID=America/Chicago:20261123T110000
DTSTAMP:20260419T130228
CREATED:20260112T163027Z
LAST-MODIFIED:20260112T163027Z
UID:10000949-1795428000-1795431600@easthavenbaptistchurch.com
SUMMARY:Women’s Bible Study
DESCRIPTION:
URL:https://easthavenbaptistchurch.com/event/womens-bible-study/2026-11-23/
END:VEVENT
BEGIN:VEVENT
DTSTART;TZID=America/Chicago:20261129T090000
DTEND;TZID=America/Chicago:20261129T100000
DTSTAMP:20260419T130228
CREATED:20251023T150259Z
LAST-MODIFIED:20251023T150259Z
UID:10000066-1795942800-1795946400@easthavenbaptistchurch.com
SUMMARY:Sunday School
DESCRIPTION:
URL:https://easthavenbaptistchurch.com/event/sunday-school/2026-11-29/
END:VEVENT
BEGIN:VEVENT
DTSTART;TZID=America/Chicago:20261129T103000
DTEND;TZID=America/Chicago:20261129T233000
DTSTAMP:20260419T130228
CREATED:20251023T150259Z
LAST-MODIFIED:20251023T150259Z
UID:10000327-1795948200-1795995000@easthavenbaptistchurch.com
SUMMARY:Sunday Morning Worship Service
DESCRIPTION:
URL:https://easthavenbaptistchurch.com/event/sunday-morning-worship-service/2026-11-29/
END:VEVENT
BEGIN:VEVENT
DTSTART;TZID=America/Chicago:20261130T100000
DTEND;TZID=America/Chicago:20261130T110000
DTSTAMP:20260419T130228
CREATED:20260112T163027Z
LAST-MODIFIED:20260112T163027Z
UID:10000950-1796032800-1796036400@easthavenbaptistchurch.com
SUMMARY:Women’s Bible Study
DESCRIPTION:
URL:https://easthavenbaptistchurch.com/event/womens-bible-study/2026-11-30/
END:VEVENT
END:VCALENDAR