BEGIN:VCALENDAR
VERSION:2.0
PRODID:-//Easthaven Baptist Church - ECPv6.15.9//NONSGML v1.0//EN
CALSCALE:GREGORIAN
METHOD:PUBLISH
X-ORIGINAL-URL:https://easthavenbaptistchurch.com
X-WR-CALDESC:Events for Easthaven Baptist Church
REFRESH-INTERVAL;VALUE=DURATION:PT1H
X-Robots-Tag:noindex
X-PUBLISHED-TTL:PT1H
BEGIN:VTIMEZONE
TZID:America/Chicago
BEGIN:DAYLIGHT
TZOFFSETFROM:-0600
TZOFFSETTO:-0500
TZNAME:CDT
DTSTART:20250309T080000
END:DAYLIGHT
BEGIN:STANDARD
TZOFFSETFROM:-0500
TZOFFSETTO:-0600
TZNAME:CST
DTSTART:20251102T070000
END:STANDARD
BEGIN:DAYLIGHT
TZOFFSETFROM:-0600
TZOFFSETTO:-0500
TZNAME:CDT
DTSTART:20260308T080000
END:DAYLIGHT
BEGIN:STANDARD
TZOFFSETFROM:-0500
TZOFFSETTO:-0600
TZNAME:CST
DTSTART:20261101T070000
END:STANDARD
BEGIN:DAYLIGHT
TZOFFSETFROM:-0600
TZOFFSETTO:-0500
TZNAME:CDT
DTSTART:20270314T080000
END:DAYLIGHT
BEGIN:STANDARD
TZOFFSETFROM:-0500
TZOFFSETTO:-0600
TZNAME:CST
DTSTART:20271107T070000
END:STANDARD
END:VTIMEZONE
BEGIN:VEVENT
DTSTART;VALUE=DATE:20261204
DTEND;VALUE=DATE:20261207
DTSTAMP:20260419T144148
CREATED:20260112T173112Z
LAST-MODIFIED:20260112T173112Z
UID:10001210-1796342400-1796601599@easthavenbaptistchurch.com
SUMMARY:Christmas at the Haven Cross
DESCRIPTION:December 4th-6th Christmas at the Haven Cross
URL:https://easthavenbaptistchurch.com/event/christmas-at-the-haven-cross/
END:VEVENT
BEGIN:VEVENT
DTSTART;TZID=America/Chicago:20261206T090000
DTEND;TZID=America/Chicago:20261206T100000
DTSTAMP:20260419T144148
CREATED:20251023T150259Z
LAST-MODIFIED:20251023T150259Z
UID:10000067-1796547600-1796551200@easthavenbaptistchurch.com
SUMMARY:Sunday School
DESCRIPTION:
URL:https://easthavenbaptistchurch.com/event/sunday-school/2026-12-06/
END:VEVENT
BEGIN:VEVENT
DTSTART;TZID=America/Chicago:20261206T103000
DTEND;TZID=America/Chicago:20261206T233000
DTSTAMP:20260419T144148
CREATED:20251023T150259Z
LAST-MODIFIED:20251023T150259Z
UID:10000328-1796553000-1796599800@easthavenbaptistchurch.com
SUMMARY:Sunday Morning Worship Service
DESCRIPTION:
URL:https://easthavenbaptistchurch.com/event/sunday-morning-worship-service/2026-12-06/
END:VEVENT
BEGIN:VEVENT
DTSTART;TZID=America/Chicago:20261206T140000
DTEND;TZID=America/Chicago:20261206T150000
DTSTAMP:20260419T144148
CREATED:20260112T173158Z
LAST-MODIFIED:20260112T173158Z
UID:10001211-1796565600-1796569200@easthavenbaptistchurch.com
SUMMARY:LBA Nursing Home Ministry
DESCRIPTION:December 6th– LBA Nursing Home Ministry at 2:00pm
URL:https://easthavenbaptistchurch.com/event/lba-nursing-home-ministry/
END:VEVENT
BEGIN:VEVENT
DTSTART;TZID=America/Chicago:20261207T100000
DTEND;TZID=America/Chicago:20261207T110000
DTSTAMP:20260419T144148
CREATED:20260112T163027Z
LAST-MODIFIED:20260112T163027Z
UID:10000951-1796637600-1796641200@easthavenbaptistchurch.com
SUMMARY:Women’s Bible Study
DESCRIPTION:
URL:https://easthavenbaptistchurch.com/event/womens-bible-study/2026-12-07/
END:VEVENT
BEGIN:VEVENT
DTSTART;VALUE=DATE:20261211
DTEND;VALUE=DATE:20261213
DTSTAMP:20260419T144148
CREATED:20260112T173237Z
LAST-MODIFIED:20260112T173237Z
UID:10001212-1796947200-1797119999@easthavenbaptistchurch.com
SUMMARY:Carols By Candlelight at FBC Jackson (Church trip)
DESCRIPTION:December 11th-12th-Carols By Candlelight at FBC Jackson (Church trip)
URL:https://easthavenbaptistchurch.com/event/carols-by-candlelight-at-fbc-jackson-church-trip/
END:VEVENT
BEGIN:VEVENT
DTSTART;VALUE=DATE:20261213
DTEND;VALUE=DATE:20261214
DTSTAMP:20260419T144148
CREATED:20260112T173311Z
LAST-MODIFIED:20260112T173311Z
UID:10001213-1797120000-1797206399@easthavenbaptistchurch.com
SUMMARY:EBC Homebound Visits
DESCRIPTION:December 13th-EBC Homebound Visits
URL:https://easthavenbaptistchurch.com/event/ebc-homebound-visits/
END:VEVENT
BEGIN:VEVENT
DTSTART;TZID=America/Chicago:20261213T090000
DTEND;TZID=America/Chicago:20261213T100000
DTSTAMP:20260419T144148
CREATED:20251023T150259Z
LAST-MODIFIED:20251023T150259Z
UID:10000068-1797152400-1797156000@easthavenbaptistchurch.com
SUMMARY:Sunday School
DESCRIPTION:
URL:https://easthavenbaptistchurch.com/event/sunday-school/2026-12-13/
END:VEVENT
BEGIN:VEVENT
DTSTART;TZID=America/Chicago:20261213T103000
DTEND;TZID=America/Chicago:20261213T233000
DTSTAMP:20260419T144148
CREATED:20251023T150259Z
LAST-MODIFIED:20251023T150259Z
UID:10000329-1797157800-1797204600@easthavenbaptistchurch.com
SUMMARY:Sunday Morning Worship Service
DESCRIPTION:
URL:https://easthavenbaptistchurch.com/event/sunday-morning-worship-service/2026-12-13/
END:VEVENT
BEGIN:VEVENT
DTSTART;TZID=America/Chicago:20261214T100000
DTEND;TZID=America/Chicago:20261214T110000
DTSTAMP:20260419T144148
CREATED:20260112T163027Z
LAST-MODIFIED:20260112T163027Z
UID:10000952-1797242400-1797246000@easthavenbaptistchurch.com
SUMMARY:Women’s Bible Study
DESCRIPTION:
URL:https://easthavenbaptistchurch.com/event/womens-bible-study/2026-12-14/
END:VEVENT
BEGIN:VEVENT
DTSTART;TZID=America/Chicago:20261220T090000
DTEND;TZID=America/Chicago:20261220T100000
DTSTAMP:20260419T144148
CREATED:20251023T150259Z
LAST-MODIFIED:20251023T150259Z
UID:10000069-1797757200-1797760800@easthavenbaptistchurch.com
SUMMARY:Sunday School
DESCRIPTION:
URL:https://easthavenbaptistchurch.com/event/sunday-school/2026-12-20/
END:VEVENT
BEGIN:VEVENT
DTSTART;TZID=America/Chicago:20261220T103000
DTEND;TZID=America/Chicago:20261220T233000
DTSTAMP:20260419T144148
CREATED:20251023T150259Z
LAST-MODIFIED:20251023T150259Z
UID:10000330-1797762600-1797809400@easthavenbaptistchurch.com
SUMMARY:Sunday Morning Worship Service
DESCRIPTION:
URL:https://easthavenbaptistchurch.com/event/sunday-morning-worship-service/2026-12-20/
END:VEVENT
BEGIN:VEVENT
DTSTART;TZID=America/Chicago:20261221T100000
DTEND;TZID=America/Chicago:20261221T110000
DTSTAMP:20260419T144148
CREATED:20260112T163027Z
LAST-MODIFIED:20260112T163027Z
UID:10000953-1797847200-1797850800@easthavenbaptistchurch.com
SUMMARY:Women’s Bible Study
DESCRIPTION:
URL:https://easthavenbaptistchurch.com/event/womens-bible-study/2026-12-21/
END:VEVENT
BEGIN:VEVENT
DTSTART;TZID=America/Chicago:20261224T170000
DTEND;TZID=America/Chicago:20261224T180000
DTSTAMP:20260419T144148
CREATED:20260112T173401Z
LAST-MODIFIED:20260112T173401Z
UID:10001214-1798131600-1798135200@easthavenbaptistchurch.com
SUMMARY:Christmas Eve Service
DESCRIPTION:December 24th– Christmas Eve Service Time 5:00p.m.
URL:https://easthavenbaptistchurch.com/event/christmas-eve-service-2/
END:VEVENT
BEGIN:VEVENT
DTSTART;VALUE=DATE:20261225
DTEND;VALUE=DATE:20261226
DTSTAMP:20260419T144148
CREATED:20260112T173433Z
LAST-MODIFIED:20260112T173433Z
UID:10001215-1798156800-1798243199@easthavenbaptistchurch.com
SUMMARY:Office Closed for Christmas
DESCRIPTION:December 25th-Office Closed for Christmas
URL:https://easthavenbaptistchurch.com/event/office-closed-for-christmas/
END:VEVENT
BEGIN:VEVENT
DTSTART;TZID=America/Chicago:20261227T090000
DTEND;TZID=America/Chicago:20261227T100000
DTSTAMP:20260419T144148
CREATED:20251023T150259Z
LAST-MODIFIED:20251023T150259Z
UID:10000070-1798362000-1798365600@easthavenbaptistchurch.com
SUMMARY:Sunday School
DESCRIPTION:
URL:https://easthavenbaptistchurch.com/event/sunday-school/2026-12-27/
END:VEVENT
BEGIN:VEVENT
DTSTART;TZID=America/Chicago:20261227T103000
DTEND;TZID=America/Chicago:20261227T233000
DTSTAMP:20260419T144148
CREATED:20251023T150259Z
LAST-MODIFIED:20251023T150259Z
UID:10000331-1798367400-1798414200@easthavenbaptistchurch.com
SUMMARY:Sunday Morning Worship Service
DESCRIPTION:
URL:https://easthavenbaptistchurch.com/event/sunday-morning-worship-service/2026-12-27/
END:VEVENT
BEGIN:VEVENT
DTSTART;TZID=America/Chicago:20261228T100000
DTEND;TZID=America/Chicago:20261228T110000
DTSTAMP:20260419T144148
CREATED:20260112T163027Z
LAST-MODIFIED:20260112T163027Z
UID:10000954-1798452000-1798455600@easthavenbaptistchurch.com
SUMMARY:Women’s Bible Study
DESCRIPTION:
URL:https://easthavenbaptistchurch.com/event/womens-bible-study/2026-12-28/
END:VEVENT
END:VCALENDAR