BEGIN:VCALENDAR
VERSION:2.0
PRODID:-//Easthaven Baptist Church - ECPv6.15.9//NONSGML v1.0//EN
CALSCALE:GREGORIAN
METHOD:PUBLISH
X-ORIGINAL-URL:https://easthavenbaptistchurch.com
X-WR-CALDESC:Events for Easthaven Baptist Church
REFRESH-INTERVAL;VALUE=DURATION:PT1H
X-Robots-Tag:noindex
X-PUBLISHED-TTL:PT1H
BEGIN:VTIMEZONE
TZID:America/Chicago
BEGIN:DAYLIGHT
TZOFFSETFROM:-0600
TZOFFSETTO:-0500
TZNAME:CDT
DTSTART:20260308T080000
END:DAYLIGHT
BEGIN:STANDARD
TZOFFSETFROM:-0500
TZOFFSETTO:-0600
TZNAME:CST
DTSTART:20261101T070000
END:STANDARD
BEGIN:DAYLIGHT
TZOFFSETFROM:-0600
TZOFFSETTO:-0500
TZNAME:CDT
DTSTART:20270314T080000
END:DAYLIGHT
BEGIN:STANDARD
TZOFFSETFROM:-0500
TZOFFSETTO:-0600
TZNAME:CST
DTSTART:20271107T070000
END:STANDARD
BEGIN:DAYLIGHT
TZOFFSETFROM:-0600
TZOFFSETTO:-0500
TZNAME:CDT
DTSTART:20280312T080000
END:DAYLIGHT
BEGIN:STANDARD
TZOFFSETFROM:-0500
TZOFFSETTO:-0600
TZNAME:CST
DTSTART:20281105T070000
END:STANDARD
END:VTIMEZONE
BEGIN:VEVENT
DTSTART;TZID=America/Chicago:20270103T090000
DTEND;TZID=America/Chicago:20270103T100000
DTSTAMP:20260419T161505
CREATED:20251023T150259Z
LAST-MODIFIED:20251023T150259Z
UID:10000071-1798966800-1798970400@easthavenbaptistchurch.com
SUMMARY:Sunday School
DESCRIPTION:
URL:https://easthavenbaptistchurch.com/event/sunday-school/2027-01-03/
END:VEVENT
BEGIN:VEVENT
DTSTART;TZID=America/Chicago:20270103T103000
DTEND;TZID=America/Chicago:20270103T233000
DTSTAMP:20260419T161505
CREATED:20251023T150259Z
LAST-MODIFIED:20251023T150259Z
UID:10000332-1798972200-1799019000@easthavenbaptistchurch.com
SUMMARY:Sunday Morning Worship Service
DESCRIPTION:
URL:https://easthavenbaptistchurch.com/event/sunday-morning-worship-service/2027-01-03/
END:VEVENT
BEGIN:VEVENT
DTSTART;TZID=America/Chicago:20270104T100000
DTEND;TZID=America/Chicago:20270104T110000
DTSTAMP:20260419T161505
CREATED:20260112T163027Z
LAST-MODIFIED:20260112T163027Z
UID:10000955-1799056800-1799060400@easthavenbaptistchurch.com
SUMMARY:Women’s Bible Study
DESCRIPTION:
URL:https://easthavenbaptistchurch.com/event/womens-bible-study/2027-01-04/
END:VEVENT
BEGIN:VEVENT
DTSTART;TZID=America/Chicago:20270110T090000
DTEND;TZID=America/Chicago:20270110T100000
DTSTAMP:20260419T161505
CREATED:20251023T150259Z
LAST-MODIFIED:20251023T150259Z
UID:10000072-1799571600-1799575200@easthavenbaptistchurch.com
SUMMARY:Sunday School
DESCRIPTION:
URL:https://easthavenbaptistchurch.com/event/sunday-school/2027-01-10/
END:VEVENT
BEGIN:VEVENT
DTSTART;TZID=America/Chicago:20270110T103000
DTEND;TZID=America/Chicago:20270110T233000
DTSTAMP:20260419T161505
CREATED:20251023T150259Z
LAST-MODIFIED:20251023T150259Z
UID:10000333-1799577000-1799623800@easthavenbaptistchurch.com
SUMMARY:Sunday Morning Worship Service
DESCRIPTION:
URL:https://easthavenbaptistchurch.com/event/sunday-morning-worship-service/2027-01-10/
END:VEVENT
BEGIN:VEVENT
DTSTART;TZID=America/Chicago:20270111T100000
DTEND;TZID=America/Chicago:20270111T110000
DTSTAMP:20260419T161505
CREATED:20260112T163027Z
LAST-MODIFIED:20260112T163027Z
UID:10000956-1799661600-1799665200@easthavenbaptistchurch.com
SUMMARY:Women’s Bible Study
DESCRIPTION:
URL:https://easthavenbaptistchurch.com/event/womens-bible-study/2027-01-11/
END:VEVENT
BEGIN:VEVENT
DTSTART;TZID=America/Chicago:20270117T090000
DTEND;TZID=America/Chicago:20270117T100000
DTSTAMP:20260419T161505
CREATED:20251023T150259Z
LAST-MODIFIED:20251023T150259Z
UID:10000073-1800176400-1800180000@easthavenbaptistchurch.com
SUMMARY:Sunday School
DESCRIPTION:
URL:https://easthavenbaptistchurch.com/event/sunday-school/2027-01-17/
END:VEVENT
BEGIN:VEVENT
DTSTART;TZID=America/Chicago:20270117T103000
DTEND;TZID=America/Chicago:20270117T233000
DTSTAMP:20260419T161505
CREATED:20251023T150259Z
LAST-MODIFIED:20251023T150259Z
UID:10000334-1800181800-1800228600@easthavenbaptistchurch.com
SUMMARY:Sunday Morning Worship Service
DESCRIPTION:
URL:https://easthavenbaptistchurch.com/event/sunday-morning-worship-service/2027-01-17/
END:VEVENT
BEGIN:VEVENT
DTSTART;TZID=America/Chicago:20270118T100000
DTEND;TZID=America/Chicago:20270118T110000
DTSTAMP:20260419T161505
CREATED:20260112T163027Z
LAST-MODIFIED:20260112T163027Z
UID:10000957-1800266400-1800270000@easthavenbaptistchurch.com
SUMMARY:Women’s Bible Study
DESCRIPTION:
URL:https://easthavenbaptistchurch.com/event/womens-bible-study/2027-01-18/
END:VEVENT
BEGIN:VEVENT
DTSTART;TZID=America/Chicago:20270124T090000
DTEND;TZID=America/Chicago:20270124T100000
DTSTAMP:20260419T161505
CREATED:20251023T150259Z
LAST-MODIFIED:20251023T150259Z
UID:10000074-1800781200-1800784800@easthavenbaptistchurch.com
SUMMARY:Sunday School
DESCRIPTION:
URL:https://easthavenbaptistchurch.com/event/sunday-school/2027-01-24/
END:VEVENT
BEGIN:VEVENT
DTSTART;TZID=America/Chicago:20270124T103000
DTEND;TZID=America/Chicago:20270124T233000
DTSTAMP:20260419T161505
CREATED:20251023T150259Z
LAST-MODIFIED:20251023T150259Z
UID:10000335-1800786600-1800833400@easthavenbaptistchurch.com
SUMMARY:Sunday Morning Worship Service
DESCRIPTION:
URL:https://easthavenbaptistchurch.com/event/sunday-morning-worship-service/2027-01-24/
END:VEVENT
BEGIN:VEVENT
DTSTART;TZID=America/Chicago:20270125T100000
DTEND;TZID=America/Chicago:20270125T110000
DTSTAMP:20260419T161505
CREATED:20260112T163027Z
LAST-MODIFIED:20260112T163027Z
UID:10000958-1800871200-1800874800@easthavenbaptistchurch.com
SUMMARY:Women’s Bible Study
DESCRIPTION:
URL:https://easthavenbaptistchurch.com/event/womens-bible-study/2027-01-25/
END:VEVENT
BEGIN:VEVENT
DTSTART;TZID=America/Chicago:20270131T090000
DTEND;TZID=America/Chicago:20270131T100000
DTSTAMP:20260419T161505
CREATED:20251023T150259Z
LAST-MODIFIED:20251023T150259Z
UID:10000075-1801386000-1801389600@easthavenbaptistchurch.com
SUMMARY:Sunday School
DESCRIPTION:
URL:https://easthavenbaptistchurch.com/event/sunday-school/2027-01-31/
END:VEVENT
BEGIN:VEVENT
DTSTART;TZID=America/Chicago:20270131T103000
DTEND;TZID=America/Chicago:20270131T233000
DTSTAMP:20260419T161505
CREATED:20251023T150259Z
LAST-MODIFIED:20251023T150259Z
UID:10000336-1801391400-1801438200@easthavenbaptistchurch.com
SUMMARY:Sunday Morning Worship Service
DESCRIPTION:
URL:https://easthavenbaptistchurch.com/event/sunday-morning-worship-service/2027-01-31/
END:VEVENT
END:VCALENDAR