BEGIN:VCALENDAR
VERSION:2.0
PRODID:-//Easthaven Baptist Church - ECPv6.15.9//NONSGML v1.0//EN
CALSCALE:GREGORIAN
METHOD:PUBLISH
X-WR-CALNAME:Easthaven Baptist Church
X-ORIGINAL-URL:https://easthavenbaptistchurch.com
X-WR-CALDESC:Events for Easthaven Baptist Church
REFRESH-INTERVAL;VALUE=DURATION:PT1H
X-Robots-Tag:noindex
X-PUBLISHED-TTL:PT1H
BEGIN:VTIMEZONE
TZID:America/Chicago
BEGIN:DAYLIGHT
TZOFFSETFROM:-0600
TZOFFSETTO:-0500
TZNAME:CDT
DTSTART:20260308T080000
END:DAYLIGHT
BEGIN:STANDARD
TZOFFSETFROM:-0500
TZOFFSETTO:-0600
TZNAME:CST
DTSTART:20261101T070000
END:STANDARD
BEGIN:DAYLIGHT
TZOFFSETFROM:-0600
TZOFFSETTO:-0500
TZNAME:CDT
DTSTART:20270314T080000
END:DAYLIGHT
BEGIN:STANDARD
TZOFFSETFROM:-0500
TZOFFSETTO:-0600
TZNAME:CST
DTSTART:20271107T070000
END:STANDARD
BEGIN:DAYLIGHT
TZOFFSETFROM:-0600
TZOFFSETTO:-0500
TZNAME:CDT
DTSTART:20280312T080000
END:DAYLIGHT
BEGIN:STANDARD
TZOFFSETFROM:-0500
TZOFFSETTO:-0600
TZNAME:CST
DTSTART:20281105T070000
END:STANDARD
END:VTIMEZONE
BEGIN:VEVENT
DTSTART;TZID=America/Chicago:20270201T100000
DTEND;TZID=America/Chicago:20270201T110000
DTSTAMP:20260419T190312
CREATED:20260112T163027Z
LAST-MODIFIED:20260112T163027Z
UID:10000959-1801476000-1801479600@easthavenbaptistchurch.com
SUMMARY:Women’s Bible Study
DESCRIPTION:
URL:https://easthavenbaptistchurch.com/event/womens-bible-study/2027-02-01/
END:VEVENT
BEGIN:VEVENT
DTSTART;TZID=America/Chicago:20270207T090000
DTEND;TZID=America/Chicago:20270207T100000
DTSTAMP:20260419T190312
CREATED:20251023T150259Z
LAST-MODIFIED:20251023T150259Z
UID:10000076-1801990800-1801994400@easthavenbaptistchurch.com
SUMMARY:Sunday School
DESCRIPTION:
URL:https://easthavenbaptistchurch.com/event/sunday-school/2027-02-07/
END:VEVENT
BEGIN:VEVENT
DTSTART;TZID=America/Chicago:20270207T103000
DTEND;TZID=America/Chicago:20270207T233000
DTSTAMP:20260419T190312
CREATED:20251023T150259Z
LAST-MODIFIED:20251023T150259Z
UID:10000337-1801996200-1802043000@easthavenbaptistchurch.com
SUMMARY:Sunday Morning Worship Service
DESCRIPTION:
URL:https://easthavenbaptistchurch.com/event/sunday-morning-worship-service/2027-02-07/
END:VEVENT
BEGIN:VEVENT
DTSTART;TZID=America/Chicago:20270208T100000
DTEND;TZID=America/Chicago:20270208T110000
DTSTAMP:20260419T190312
CREATED:20260112T163027Z
LAST-MODIFIED:20260112T163027Z
UID:10000960-1802080800-1802084400@easthavenbaptistchurch.com
SUMMARY:Women’s Bible Study
DESCRIPTION:
URL:https://easthavenbaptistchurch.com/event/womens-bible-study/2027-02-08/
END:VEVENT
BEGIN:VEVENT
DTSTART;TZID=America/Chicago:20270214T090000
DTEND;TZID=America/Chicago:20270214T100000
DTSTAMP:20260419T190312
CREATED:20251023T150259Z
LAST-MODIFIED:20251023T150259Z
UID:10000077-1802595600-1802599200@easthavenbaptistchurch.com
SUMMARY:Sunday School
DESCRIPTION:
URL:https://easthavenbaptistchurch.com/event/sunday-school/2027-02-14/
END:VEVENT
BEGIN:VEVENT
DTSTART;TZID=America/Chicago:20270214T103000
DTEND;TZID=America/Chicago:20270214T233000
DTSTAMP:20260419T190312
CREATED:20251023T150259Z
LAST-MODIFIED:20251023T150259Z
UID:10000338-1802601000-1802647800@easthavenbaptistchurch.com
SUMMARY:Sunday Morning Worship Service
DESCRIPTION:
URL:https://easthavenbaptistchurch.com/event/sunday-morning-worship-service/2027-02-14/
END:VEVENT
BEGIN:VEVENT
DTSTART;TZID=America/Chicago:20270215T100000
DTEND;TZID=America/Chicago:20270215T110000
DTSTAMP:20260419T190312
CREATED:20260112T163027Z
LAST-MODIFIED:20260112T163027Z
UID:10000961-1802685600-1802689200@easthavenbaptistchurch.com
SUMMARY:Women’s Bible Study
DESCRIPTION:
URL:https://easthavenbaptistchurch.com/event/womens-bible-study/2027-02-15/
END:VEVENT
BEGIN:VEVENT
DTSTART;TZID=America/Chicago:20270221T090000
DTEND;TZID=America/Chicago:20270221T100000
DTSTAMP:20260419T190312
CREATED:20251023T150259Z
LAST-MODIFIED:20251023T150259Z
UID:10000078-1803200400-1803204000@easthavenbaptistchurch.com
SUMMARY:Sunday School
DESCRIPTION:
URL:https://easthavenbaptistchurch.com/event/sunday-school/2027-02-21/
END:VEVENT
BEGIN:VEVENT
DTSTART;TZID=America/Chicago:20270221T103000
DTEND;TZID=America/Chicago:20270221T233000
DTSTAMP:20260419T190312
CREATED:20251023T150259Z
LAST-MODIFIED:20251023T150259Z
UID:10000339-1803205800-1803252600@easthavenbaptistchurch.com
SUMMARY:Sunday Morning Worship Service
DESCRIPTION:
URL:https://easthavenbaptistchurch.com/event/sunday-morning-worship-service/2027-02-21/
END:VEVENT
BEGIN:VEVENT
DTSTART;TZID=America/Chicago:20270222T100000
DTEND;TZID=America/Chicago:20270222T110000
DTSTAMP:20260419T190312
CREATED:20260112T163027Z
LAST-MODIFIED:20260112T163027Z
UID:10000962-1803290400-1803294000@easthavenbaptistchurch.com
SUMMARY:Women’s Bible Study
DESCRIPTION:
URL:https://easthavenbaptistchurch.com/event/womens-bible-study/2027-02-22/
END:VEVENT
BEGIN:VEVENT
DTSTART;TZID=America/Chicago:20270228T090000
DTEND;TZID=America/Chicago:20270228T100000
DTSTAMP:20260419T190312
CREATED:20251023T150259Z
LAST-MODIFIED:20251023T150259Z
UID:10000079-1803805200-1803808800@easthavenbaptistchurch.com
SUMMARY:Sunday School
DESCRIPTION:
URL:https://easthavenbaptistchurch.com/event/sunday-school/2027-02-28/
END:VEVENT
BEGIN:VEVENT
DTSTART;TZID=America/Chicago:20270228T103000
DTEND;TZID=America/Chicago:20270228T233000
DTSTAMP:20260419T190312
CREATED:20251023T150259Z
LAST-MODIFIED:20251023T150259Z
UID:10000340-1803810600-1803857400@easthavenbaptistchurch.com
SUMMARY:Sunday Morning Worship Service
DESCRIPTION:
URL:https://easthavenbaptistchurch.com/event/sunday-morning-worship-service/2027-02-28/
END:VEVENT
END:VCALENDAR