BEGIN:VCALENDAR
VERSION:2.0
PRODID:-//Easthaven Baptist Church - ECPv6.15.9//NONSGML v1.0//EN
CALSCALE:GREGORIAN
METHOD:PUBLISH
X-ORIGINAL-URL:https://easthavenbaptistchurch.com
X-WR-CALDESC:Events for Easthaven Baptist Church
REFRESH-INTERVAL;VALUE=DURATION:PT1H
X-Robots-Tag:noindex
X-PUBLISHED-TTL:PT1H
BEGIN:VTIMEZONE
TZID:America/Chicago
BEGIN:DAYLIGHT
TZOFFSETFROM:-0600
TZOFFSETTO:-0500
TZNAME:CDT
DTSTART:20260308T080000
END:DAYLIGHT
BEGIN:STANDARD
TZOFFSETFROM:-0500
TZOFFSETTO:-0600
TZNAME:CST
DTSTART:20261101T070000
END:STANDARD
BEGIN:DAYLIGHT
TZOFFSETFROM:-0600
TZOFFSETTO:-0500
TZNAME:CDT
DTSTART:20270314T080000
END:DAYLIGHT
BEGIN:STANDARD
TZOFFSETFROM:-0500
TZOFFSETTO:-0600
TZNAME:CST
DTSTART:20271107T070000
END:STANDARD
BEGIN:DAYLIGHT
TZOFFSETFROM:-0600
TZOFFSETTO:-0500
TZNAME:CDT
DTSTART:20280312T080000
END:DAYLIGHT
BEGIN:STANDARD
TZOFFSETFROM:-0500
TZOFFSETTO:-0600
TZNAME:CST
DTSTART:20281105T070000
END:STANDARD
END:VTIMEZONE
BEGIN:VEVENT
DTSTART;TZID=America/Chicago:20270301T100000
DTEND;TZID=America/Chicago:20270301T110000
DTSTAMP:20260419T190246
CREATED:20260112T163027Z
LAST-MODIFIED:20260112T163027Z
UID:10000963-1803895200-1803898800@easthavenbaptistchurch.com
SUMMARY:Women’s Bible Study
DESCRIPTION:
URL:https://easthavenbaptistchurch.com/event/womens-bible-study/2027-03-01/
END:VEVENT
BEGIN:VEVENT
DTSTART;TZID=America/Chicago:20270307T090000
DTEND;TZID=America/Chicago:20270307T100000
DTSTAMP:20260419T190246
CREATED:20251023T150259Z
LAST-MODIFIED:20251023T150259Z
UID:10000080-1804410000-1804413600@easthavenbaptistchurch.com
SUMMARY:Sunday School
DESCRIPTION:
URL:https://easthavenbaptistchurch.com/event/sunday-school/2027-03-07/
END:VEVENT
BEGIN:VEVENT
DTSTART;TZID=America/Chicago:20270307T103000
DTEND;TZID=America/Chicago:20270307T233000
DTSTAMP:20260419T190246
CREATED:20251023T150259Z
LAST-MODIFIED:20251023T150259Z
UID:10000341-1804415400-1804462200@easthavenbaptistchurch.com
SUMMARY:Sunday Morning Worship Service
DESCRIPTION:
URL:https://easthavenbaptistchurch.com/event/sunday-morning-worship-service/2027-03-07/
END:VEVENT
BEGIN:VEVENT
DTSTART;TZID=America/Chicago:20270308T100000
DTEND;TZID=America/Chicago:20270308T110000
DTSTAMP:20260419T190246
CREATED:20260112T163027Z
LAST-MODIFIED:20260112T163027Z
UID:10000964-1804500000-1804503600@easthavenbaptistchurch.com
SUMMARY:Women’s Bible Study
DESCRIPTION:
URL:https://easthavenbaptistchurch.com/event/womens-bible-study/2027-03-08/
END:VEVENT
BEGIN:VEVENT
DTSTART;TZID=America/Chicago:20270314T090000
DTEND;TZID=America/Chicago:20270314T100000
DTSTAMP:20260419T190246
CREATED:20251023T150259Z
LAST-MODIFIED:20251023T150259Z
UID:10000081-1805014800-1805018400@easthavenbaptistchurch.com
SUMMARY:Sunday School
DESCRIPTION:
URL:https://easthavenbaptistchurch.com/event/sunday-school/2027-03-14/
END:VEVENT
BEGIN:VEVENT
DTSTART;TZID=America/Chicago:20270314T103000
DTEND;TZID=America/Chicago:20270314T233000
DTSTAMP:20260419T190246
CREATED:20251023T150259Z
LAST-MODIFIED:20251023T150259Z
UID:10000342-1805020200-1805067000@easthavenbaptistchurch.com
SUMMARY:Sunday Morning Worship Service
DESCRIPTION:
URL:https://easthavenbaptistchurch.com/event/sunday-morning-worship-service/2027-03-14/
END:VEVENT
BEGIN:VEVENT
DTSTART;TZID=America/Chicago:20270315T100000
DTEND;TZID=America/Chicago:20270315T110000
DTSTAMP:20260419T190246
CREATED:20260112T163027Z
LAST-MODIFIED:20260112T163027Z
UID:10000965-1805104800-1805108400@easthavenbaptistchurch.com
SUMMARY:Women’s Bible Study
DESCRIPTION:
URL:https://easthavenbaptistchurch.com/event/womens-bible-study/2027-03-15/
END:VEVENT
BEGIN:VEVENT
DTSTART;TZID=America/Chicago:20270321T090000
DTEND;TZID=America/Chicago:20270321T100000
DTSTAMP:20260419T190246
CREATED:20251023T150259Z
LAST-MODIFIED:20251023T150259Z
UID:10000082-1805619600-1805623200@easthavenbaptistchurch.com
SUMMARY:Sunday School
DESCRIPTION:
URL:https://easthavenbaptistchurch.com/event/sunday-school/2027-03-21/
END:VEVENT
BEGIN:VEVENT
DTSTART;TZID=America/Chicago:20270321T103000
DTEND;TZID=America/Chicago:20270321T233000
DTSTAMP:20260419T190246
CREATED:20251023T150259Z
LAST-MODIFIED:20251023T150259Z
UID:10000343-1805625000-1805671800@easthavenbaptistchurch.com
SUMMARY:Sunday Morning Worship Service
DESCRIPTION:
URL:https://easthavenbaptistchurch.com/event/sunday-morning-worship-service/2027-03-21/
END:VEVENT
BEGIN:VEVENT
DTSTART;TZID=America/Chicago:20270322T100000
DTEND;TZID=America/Chicago:20270322T110000
DTSTAMP:20260419T190246
CREATED:20260112T163027Z
LAST-MODIFIED:20260112T163027Z
UID:10000966-1805709600-1805713200@easthavenbaptistchurch.com
SUMMARY:Women’s Bible Study
DESCRIPTION:
URL:https://easthavenbaptistchurch.com/event/womens-bible-study/2027-03-22/
END:VEVENT
BEGIN:VEVENT
DTSTART;TZID=America/Chicago:20270328T090000
DTEND;TZID=America/Chicago:20270328T100000
DTSTAMP:20260419T190246
CREATED:20251023T150259Z
LAST-MODIFIED:20251023T150259Z
UID:10000083-1806224400-1806228000@easthavenbaptistchurch.com
SUMMARY:Sunday School
DESCRIPTION:
URL:https://easthavenbaptistchurch.com/event/sunday-school/2027-03-28/
END:VEVENT
BEGIN:VEVENT
DTSTART;TZID=America/Chicago:20270328T103000
DTEND;TZID=America/Chicago:20270328T233000
DTSTAMP:20260419T190246
CREATED:20251023T150259Z
LAST-MODIFIED:20251023T150259Z
UID:10000344-1806229800-1806276600@easthavenbaptistchurch.com
SUMMARY:Sunday Morning Worship Service
DESCRIPTION:
URL:https://easthavenbaptistchurch.com/event/sunday-morning-worship-service/2027-03-28/
END:VEVENT
BEGIN:VEVENT
DTSTART;TZID=America/Chicago:20270329T100000
DTEND;TZID=America/Chicago:20270329T110000
DTSTAMP:20260419T190246
CREATED:20260112T163027Z
LAST-MODIFIED:20260112T163027Z
UID:10000967-1806314400-1806318000@easthavenbaptistchurch.com
SUMMARY:Women’s Bible Study
DESCRIPTION:
URL:https://easthavenbaptistchurch.com/event/womens-bible-study/2027-03-29/
END:VEVENT
END:VCALENDAR