BEGIN:VCALENDAR
VERSION:2.0
PRODID:-//Easthaven Baptist Church - ECPv6.15.9//NONSGML v1.0//EN
CALSCALE:GREGORIAN
METHOD:PUBLISH
X-WR-CALNAME:Easthaven Baptist Church
X-ORIGINAL-URL:https://easthavenbaptistchurch.com
X-WR-CALDESC:Events for Easthaven Baptist Church
REFRESH-INTERVAL;VALUE=DURATION:PT1H
X-Robots-Tag:noindex
X-PUBLISHED-TTL:PT1H
BEGIN:VTIMEZONE
TZID:America/Chicago
BEGIN:DAYLIGHT
TZOFFSETFROM:-0600
TZOFFSETTO:-0500
TZNAME:CDT
DTSTART:20260308T080000
END:DAYLIGHT
BEGIN:STANDARD
TZOFFSETFROM:-0500
TZOFFSETTO:-0600
TZNAME:CST
DTSTART:20261101T070000
END:STANDARD
BEGIN:DAYLIGHT
TZOFFSETFROM:-0600
TZOFFSETTO:-0500
TZNAME:CDT
DTSTART:20270314T080000
END:DAYLIGHT
BEGIN:STANDARD
TZOFFSETFROM:-0500
TZOFFSETTO:-0600
TZNAME:CST
DTSTART:20271107T070000
END:STANDARD
BEGIN:DAYLIGHT
TZOFFSETFROM:-0600
TZOFFSETTO:-0500
TZNAME:CDT
DTSTART:20280312T080000
END:DAYLIGHT
BEGIN:STANDARD
TZOFFSETFROM:-0500
TZOFFSETTO:-0600
TZNAME:CST
DTSTART:20281105T070000
END:STANDARD
END:VTIMEZONE
BEGIN:VEVENT
DTSTART;TZID=America/Chicago:20270502T090000
DTEND;TZID=America/Chicago:20270502T100000
DTSTAMP:20260419T213514
CREATED:20251023T150259Z
LAST-MODIFIED:20251023T150259Z
UID:10000088-1809248400-1809252000@easthavenbaptistchurch.com
SUMMARY:Sunday School
DESCRIPTION:
URL:https://easthavenbaptistchurch.com/event/sunday-school/2027-05-02/
END:VEVENT
BEGIN:VEVENT
DTSTART;TZID=America/Chicago:20270502T103000
DTEND;TZID=America/Chicago:20270502T233000
DTSTAMP:20260419T213514
CREATED:20251023T150259Z
LAST-MODIFIED:20251023T150259Z
UID:10000349-1809253800-1809300600@easthavenbaptistchurch.com
SUMMARY:Sunday Morning Worship Service
DESCRIPTION:
URL:https://easthavenbaptistchurch.com/event/sunday-morning-worship-service/2027-05-02/
END:VEVENT
BEGIN:VEVENT
DTSTART;TZID=America/Chicago:20270503T100000
DTEND;TZID=America/Chicago:20270503T110000
DTSTAMP:20260419T213514
CREATED:20260112T163027Z
LAST-MODIFIED:20260112T163027Z
UID:10000972-1809338400-1809342000@easthavenbaptistchurch.com
SUMMARY:Women’s Bible Study
DESCRIPTION:
URL:https://easthavenbaptistchurch.com/event/womens-bible-study/2027-05-03/
END:VEVENT
BEGIN:VEVENT
DTSTART;TZID=America/Chicago:20270509T090000
DTEND;TZID=America/Chicago:20270509T100000
DTSTAMP:20260419T213514
CREATED:20251023T150259Z
LAST-MODIFIED:20251023T150259Z
UID:10000089-1809853200-1809856800@easthavenbaptistchurch.com
SUMMARY:Sunday School
DESCRIPTION:
URL:https://easthavenbaptistchurch.com/event/sunday-school/2027-05-09/
END:VEVENT
BEGIN:VEVENT
DTSTART;TZID=America/Chicago:20270509T103000
DTEND;TZID=America/Chicago:20270509T233000
DTSTAMP:20260419T213514
CREATED:20251023T150259Z
LAST-MODIFIED:20251023T150259Z
UID:10000350-1809858600-1809905400@easthavenbaptistchurch.com
SUMMARY:Sunday Morning Worship Service
DESCRIPTION:
URL:https://easthavenbaptistchurch.com/event/sunday-morning-worship-service/2027-05-09/
END:VEVENT
BEGIN:VEVENT
DTSTART;TZID=America/Chicago:20270510T100000
DTEND;TZID=America/Chicago:20270510T110000
DTSTAMP:20260419T213514
CREATED:20260112T163027Z
LAST-MODIFIED:20260112T163027Z
UID:10000973-1809943200-1809946800@easthavenbaptistchurch.com
SUMMARY:Women’s Bible Study
DESCRIPTION:
URL:https://easthavenbaptistchurch.com/event/womens-bible-study/2027-05-10/
END:VEVENT
BEGIN:VEVENT
DTSTART;TZID=America/Chicago:20270516T090000
DTEND;TZID=America/Chicago:20270516T100000
DTSTAMP:20260419T213514
CREATED:20251023T150259Z
LAST-MODIFIED:20251023T150259Z
UID:10000090-1810458000-1810461600@easthavenbaptistchurch.com
SUMMARY:Sunday School
DESCRIPTION:
URL:https://easthavenbaptistchurch.com/event/sunday-school/2027-05-16/
END:VEVENT
BEGIN:VEVENT
DTSTART;TZID=America/Chicago:20270516T103000
DTEND;TZID=America/Chicago:20270516T233000
DTSTAMP:20260419T213514
CREATED:20251023T150259Z
LAST-MODIFIED:20251023T150259Z
UID:10000351-1810463400-1810510200@easthavenbaptistchurch.com
SUMMARY:Sunday Morning Worship Service
DESCRIPTION:
URL:https://easthavenbaptistchurch.com/event/sunday-morning-worship-service/2027-05-16/
END:VEVENT
BEGIN:VEVENT
DTSTART;TZID=America/Chicago:20270517T100000
DTEND;TZID=America/Chicago:20270517T110000
DTSTAMP:20260419T213514
CREATED:20260112T163027Z
LAST-MODIFIED:20260112T163027Z
UID:10000974-1810548000-1810551600@easthavenbaptistchurch.com
SUMMARY:Women’s Bible Study
DESCRIPTION:
URL:https://easthavenbaptistchurch.com/event/womens-bible-study/2027-05-17/
END:VEVENT
BEGIN:VEVENT
DTSTART;TZID=America/Chicago:20270523T090000
DTEND;TZID=America/Chicago:20270523T100000
DTSTAMP:20260419T213514
CREATED:20251023T150259Z
LAST-MODIFIED:20251023T150259Z
UID:10000091-1811062800-1811066400@easthavenbaptistchurch.com
SUMMARY:Sunday School
DESCRIPTION:
URL:https://easthavenbaptistchurch.com/event/sunday-school/2027-05-23/
END:VEVENT
BEGIN:VEVENT
DTSTART;TZID=America/Chicago:20270523T103000
DTEND;TZID=America/Chicago:20270523T233000
DTSTAMP:20260419T213514
CREATED:20251023T150259Z
LAST-MODIFIED:20251023T150259Z
UID:10000352-1811068200-1811115000@easthavenbaptistchurch.com
SUMMARY:Sunday Morning Worship Service
DESCRIPTION:
URL:https://easthavenbaptistchurch.com/event/sunday-morning-worship-service/2027-05-23/
END:VEVENT
BEGIN:VEVENT
DTSTART;TZID=America/Chicago:20270524T100000
DTEND;TZID=America/Chicago:20270524T110000
DTSTAMP:20260419T213514
CREATED:20260112T163027Z
LAST-MODIFIED:20260112T163027Z
UID:10000975-1811152800-1811156400@easthavenbaptistchurch.com
SUMMARY:Women’s Bible Study
DESCRIPTION:
URL:https://easthavenbaptistchurch.com/event/womens-bible-study/2027-05-24/
END:VEVENT
BEGIN:VEVENT
DTSTART;TZID=America/Chicago:20270530T090000
DTEND;TZID=America/Chicago:20270530T100000
DTSTAMP:20260419T213514
CREATED:20251023T150259Z
LAST-MODIFIED:20251023T150259Z
UID:10000092-1811667600-1811671200@easthavenbaptistchurch.com
SUMMARY:Sunday School
DESCRIPTION:
URL:https://easthavenbaptistchurch.com/event/sunday-school/2027-05-30/
END:VEVENT
BEGIN:VEVENT
DTSTART;TZID=America/Chicago:20270530T103000
DTEND;TZID=America/Chicago:20270530T233000
DTSTAMP:20260419T213514
CREATED:20251023T150259Z
LAST-MODIFIED:20251023T150259Z
UID:10000353-1811673000-1811719800@easthavenbaptistchurch.com
SUMMARY:Sunday Morning Worship Service
DESCRIPTION:
URL:https://easthavenbaptistchurch.com/event/sunday-morning-worship-service/2027-05-30/
END:VEVENT
BEGIN:VEVENT
DTSTART;TZID=America/Chicago:20270531T100000
DTEND;TZID=America/Chicago:20270531T110000
DTSTAMP:20260419T213514
CREATED:20260112T163027Z
LAST-MODIFIED:20260112T163027Z
UID:10000976-1811757600-1811761200@easthavenbaptistchurch.com
SUMMARY:Women’s Bible Study
DESCRIPTION:
URL:https://easthavenbaptistchurch.com/event/womens-bible-study/2027-05-31/
END:VEVENT
END:VCALENDAR