BEGIN:VCALENDAR
VERSION:2.0
PRODID:-//Easthaven Baptist Church - ECPv6.15.9//NONSGML v1.0//EN
CALSCALE:GREGORIAN
METHOD:PUBLISH
X-WR-CALNAME:Easthaven Baptist Church
X-ORIGINAL-URL:https://easthavenbaptistchurch.com
X-WR-CALDESC:Events for Easthaven Baptist Church
REFRESH-INTERVAL;VALUE=DURATION:PT1H
X-Robots-Tag:noindex
X-PUBLISHED-TTL:PT1H
BEGIN:VTIMEZONE
TZID:America/Chicago
BEGIN:DAYLIGHT
TZOFFSETFROM:-0600
TZOFFSETTO:-0500
TZNAME:CDT
DTSTART:20260308T080000
END:DAYLIGHT
BEGIN:STANDARD
TZOFFSETFROM:-0500
TZOFFSETTO:-0600
TZNAME:CST
DTSTART:20261101T070000
END:STANDARD
BEGIN:DAYLIGHT
TZOFFSETFROM:-0600
TZOFFSETTO:-0500
TZNAME:CDT
DTSTART:20270314T080000
END:DAYLIGHT
BEGIN:STANDARD
TZOFFSETFROM:-0500
TZOFFSETTO:-0600
TZNAME:CST
DTSTART:20271107T070000
END:STANDARD
BEGIN:DAYLIGHT
TZOFFSETFROM:-0600
TZOFFSETTO:-0500
TZNAME:CDT
DTSTART:20280312T080000
END:DAYLIGHT
BEGIN:STANDARD
TZOFFSETFROM:-0500
TZOFFSETTO:-0600
TZNAME:CST
DTSTART:20281105T070000
END:STANDARD
END:VTIMEZONE
BEGIN:VEVENT
DTSTART;TZID=America/Chicago:20270704T090000
DTEND;TZID=America/Chicago:20270704T100000
DTSTAMP:20260420T001530
CREATED:20251023T150259Z
LAST-MODIFIED:20251023T150259Z
UID:10000097-1814691600-1814695200@easthavenbaptistchurch.com
SUMMARY:Sunday School
DESCRIPTION:
URL:https://easthavenbaptistchurch.com/event/sunday-school/2027-07-04/
END:VEVENT
BEGIN:VEVENT
DTSTART;TZID=America/Chicago:20270704T103000
DTEND;TZID=America/Chicago:20270704T233000
DTSTAMP:20260420T001530
CREATED:20251023T150259Z
LAST-MODIFIED:20251023T150259Z
UID:10000358-1814697000-1814743800@easthavenbaptistchurch.com
SUMMARY:Sunday Morning Worship Service
DESCRIPTION:
URL:https://easthavenbaptistchurch.com/event/sunday-morning-worship-service/2027-07-04/
END:VEVENT
BEGIN:VEVENT
DTSTART;TZID=America/Chicago:20270705T100000
DTEND;TZID=America/Chicago:20270705T110000
DTSTAMP:20260420T001530
CREATED:20260112T163027Z
LAST-MODIFIED:20260112T163027Z
UID:10000981-1814781600-1814785200@easthavenbaptistchurch.com
SUMMARY:Women’s Bible Study
DESCRIPTION:
URL:https://easthavenbaptistchurch.com/event/womens-bible-study/2027-07-05/
END:VEVENT
BEGIN:VEVENT
DTSTART;TZID=America/Chicago:20270711T090000
DTEND;TZID=America/Chicago:20270711T100000
DTSTAMP:20260420T001530
CREATED:20251023T150259Z
LAST-MODIFIED:20251023T150259Z
UID:10000098-1815296400-1815300000@easthavenbaptistchurch.com
SUMMARY:Sunday School
DESCRIPTION:
URL:https://easthavenbaptistchurch.com/event/sunday-school/2027-07-11/
END:VEVENT
BEGIN:VEVENT
DTSTART;TZID=America/Chicago:20270711T103000
DTEND;TZID=America/Chicago:20270711T233000
DTSTAMP:20260420T001530
CREATED:20251023T150259Z
LAST-MODIFIED:20251023T150259Z
UID:10000359-1815301800-1815348600@easthavenbaptistchurch.com
SUMMARY:Sunday Morning Worship Service
DESCRIPTION:
URL:https://easthavenbaptistchurch.com/event/sunday-morning-worship-service/2027-07-11/
END:VEVENT
BEGIN:VEVENT
DTSTART;TZID=America/Chicago:20270712T100000
DTEND;TZID=America/Chicago:20270712T110000
DTSTAMP:20260420T001530
CREATED:20260112T163027Z
LAST-MODIFIED:20260112T163027Z
UID:10000982-1815386400-1815390000@easthavenbaptistchurch.com
SUMMARY:Women’s Bible Study
DESCRIPTION:
URL:https://easthavenbaptistchurch.com/event/womens-bible-study/2027-07-12/
END:VEVENT
BEGIN:VEVENT
DTSTART;TZID=America/Chicago:20270718T090000
DTEND;TZID=America/Chicago:20270718T100000
DTSTAMP:20260420T001530
CREATED:20251023T150259Z
LAST-MODIFIED:20251023T150259Z
UID:10000099-1815901200-1815904800@easthavenbaptistchurch.com
SUMMARY:Sunday School
DESCRIPTION:
URL:https://easthavenbaptistchurch.com/event/sunday-school/2027-07-18/
END:VEVENT
BEGIN:VEVENT
DTSTART;TZID=America/Chicago:20270718T103000
DTEND;TZID=America/Chicago:20270718T233000
DTSTAMP:20260420T001530
CREATED:20251023T150259Z
LAST-MODIFIED:20251023T150259Z
UID:10000360-1815906600-1815953400@easthavenbaptistchurch.com
SUMMARY:Sunday Morning Worship Service
DESCRIPTION:
URL:https://easthavenbaptistchurch.com/event/sunday-morning-worship-service/2027-07-18/
END:VEVENT
BEGIN:VEVENT
DTSTART;TZID=America/Chicago:20270719T100000
DTEND;TZID=America/Chicago:20270719T110000
DTSTAMP:20260420T001530
CREATED:20260112T163027Z
LAST-MODIFIED:20260112T163027Z
UID:10000983-1815991200-1815994800@easthavenbaptistchurch.com
SUMMARY:Women’s Bible Study
DESCRIPTION:
URL:https://easthavenbaptistchurch.com/event/womens-bible-study/2027-07-19/
END:VEVENT
BEGIN:VEVENT
DTSTART;TZID=America/Chicago:20270725T090000
DTEND;TZID=America/Chicago:20270725T100000
DTSTAMP:20260420T001530
CREATED:20251023T150259Z
LAST-MODIFIED:20251023T150259Z
UID:10000100-1816506000-1816509600@easthavenbaptistchurch.com
SUMMARY:Sunday School
DESCRIPTION:
URL:https://easthavenbaptistchurch.com/event/sunday-school/2027-07-25/
END:VEVENT
BEGIN:VEVENT
DTSTART;TZID=America/Chicago:20270725T103000
DTEND;TZID=America/Chicago:20270725T233000
DTSTAMP:20260420T001530
CREATED:20251023T150259Z
LAST-MODIFIED:20251023T150259Z
UID:10000361-1816511400-1816558200@easthavenbaptistchurch.com
SUMMARY:Sunday Morning Worship Service
DESCRIPTION:
URL:https://easthavenbaptistchurch.com/event/sunday-morning-worship-service/2027-07-25/
END:VEVENT
BEGIN:VEVENT
DTSTART;TZID=America/Chicago:20270726T100000
DTEND;TZID=America/Chicago:20270726T110000
DTSTAMP:20260420T001530
CREATED:20260112T163027Z
LAST-MODIFIED:20260112T163027Z
UID:10000984-1816596000-1816599600@easthavenbaptistchurch.com
SUMMARY:Women’s Bible Study
DESCRIPTION:
URL:https://easthavenbaptistchurch.com/event/womens-bible-study/2027-07-26/
END:VEVENT
END:VCALENDAR