BEGIN:VCALENDAR
VERSION:2.0
PRODID:-//Easthaven Baptist Church - ECPv6.15.9//NONSGML v1.0//EN
CALSCALE:GREGORIAN
METHOD:PUBLISH
X-ORIGINAL-URL:https://easthavenbaptistchurch.com
X-WR-CALDESC:Events for Easthaven Baptist Church
REFRESH-INTERVAL;VALUE=DURATION:PT1H
X-Robots-Tag:noindex
X-PUBLISHED-TTL:PT1H
BEGIN:VTIMEZONE
TZID:America/Chicago
BEGIN:DAYLIGHT
TZOFFSETFROM:-0600
TZOFFSETTO:-0500
TZNAME:CDT
DTSTART:20260308T080000
END:DAYLIGHT
BEGIN:STANDARD
TZOFFSETFROM:-0500
TZOFFSETTO:-0600
TZNAME:CST
DTSTART:20261101T070000
END:STANDARD
BEGIN:DAYLIGHT
TZOFFSETFROM:-0600
TZOFFSETTO:-0500
TZNAME:CDT
DTSTART:20270314T080000
END:DAYLIGHT
BEGIN:STANDARD
TZOFFSETFROM:-0500
TZOFFSETTO:-0600
TZNAME:CST
DTSTART:20271107T070000
END:STANDARD
BEGIN:DAYLIGHT
TZOFFSETFROM:-0600
TZOFFSETTO:-0500
TZNAME:CDT
DTSTART:20280312T080000
END:DAYLIGHT
BEGIN:STANDARD
TZOFFSETFROM:-0500
TZOFFSETTO:-0600
TZNAME:CST
DTSTART:20281105T070000
END:STANDARD
END:VTIMEZONE
BEGIN:VEVENT
DTSTART;TZID=America/Chicago:20270905T090000
DTEND;TZID=America/Chicago:20270905T100000
DTSTAMP:20260420T030004
CREATED:20251023T150259Z
LAST-MODIFIED:20251023T150259Z
UID:10000106-1820134800-1820138400@easthavenbaptistchurch.com
SUMMARY:Sunday School
DESCRIPTION:
URL:https://easthavenbaptistchurch.com/event/sunday-school/2027-09-05/
END:VEVENT
BEGIN:VEVENT
DTSTART;TZID=America/Chicago:20270905T103000
DTEND;TZID=America/Chicago:20270905T233000
DTSTAMP:20260420T030004
CREATED:20251023T150259Z
LAST-MODIFIED:20251023T150259Z
UID:10000367-1820140200-1820187000@easthavenbaptistchurch.com
SUMMARY:Sunday Morning Worship Service
DESCRIPTION:
URL:https://easthavenbaptistchurch.com/event/sunday-morning-worship-service/2027-09-05/
END:VEVENT
BEGIN:VEVENT
DTSTART;TZID=America/Chicago:20270906T100000
DTEND;TZID=America/Chicago:20270906T110000
DTSTAMP:20260420T030004
CREATED:20260112T163027Z
LAST-MODIFIED:20260112T163027Z
UID:10000990-1820224800-1820228400@easthavenbaptistchurch.com
SUMMARY:Women’s Bible Study
DESCRIPTION:
URL:https://easthavenbaptistchurch.com/event/womens-bible-study/2027-09-06/
END:VEVENT
BEGIN:VEVENT
DTSTART;TZID=America/Chicago:20270912T090000
DTEND;TZID=America/Chicago:20270912T100000
DTSTAMP:20260420T030004
CREATED:20251023T150259Z
LAST-MODIFIED:20251023T150259Z
UID:10000107-1820739600-1820743200@easthavenbaptistchurch.com
SUMMARY:Sunday School
DESCRIPTION:
URL:https://easthavenbaptistchurch.com/event/sunday-school/2027-09-12/
END:VEVENT
BEGIN:VEVENT
DTSTART;TZID=America/Chicago:20270912T103000
DTEND;TZID=America/Chicago:20270912T233000
DTSTAMP:20260420T030004
CREATED:20251023T150259Z
LAST-MODIFIED:20251023T150259Z
UID:10000368-1820745000-1820791800@easthavenbaptistchurch.com
SUMMARY:Sunday Morning Worship Service
DESCRIPTION:
URL:https://easthavenbaptistchurch.com/event/sunday-morning-worship-service/2027-09-12/
END:VEVENT
BEGIN:VEVENT
DTSTART;TZID=America/Chicago:20270913T100000
DTEND;TZID=America/Chicago:20270913T110000
DTSTAMP:20260420T030004
CREATED:20260112T163027Z
LAST-MODIFIED:20260112T163027Z
UID:10000991-1820829600-1820833200@easthavenbaptistchurch.com
SUMMARY:Women’s Bible Study
DESCRIPTION:
URL:https://easthavenbaptistchurch.com/event/womens-bible-study/2027-09-13/
END:VEVENT
BEGIN:VEVENT
DTSTART;TZID=America/Chicago:20270919T090000
DTEND;TZID=America/Chicago:20270919T100000
DTSTAMP:20260420T030004
CREATED:20251023T150259Z
LAST-MODIFIED:20251023T150259Z
UID:10000108-1821344400-1821348000@easthavenbaptistchurch.com
SUMMARY:Sunday School
DESCRIPTION:
URL:https://easthavenbaptistchurch.com/event/sunday-school/2027-09-19/
END:VEVENT
BEGIN:VEVENT
DTSTART;TZID=America/Chicago:20270919T103000
DTEND;TZID=America/Chicago:20270919T233000
DTSTAMP:20260420T030004
CREATED:20251023T150259Z
LAST-MODIFIED:20251023T150259Z
UID:10000369-1821349800-1821396600@easthavenbaptistchurch.com
SUMMARY:Sunday Morning Worship Service
DESCRIPTION:
URL:https://easthavenbaptistchurch.com/event/sunday-morning-worship-service/2027-09-19/
END:VEVENT
BEGIN:VEVENT
DTSTART;TZID=America/Chicago:20270920T100000
DTEND;TZID=America/Chicago:20270920T110000
DTSTAMP:20260420T030004
CREATED:20260112T163027Z
LAST-MODIFIED:20260112T163027Z
UID:10000992-1821434400-1821438000@easthavenbaptistchurch.com
SUMMARY:Women’s Bible Study
DESCRIPTION:
URL:https://easthavenbaptistchurch.com/event/womens-bible-study/2027-09-20/
END:VEVENT
BEGIN:VEVENT
DTSTART;TZID=America/Chicago:20270926T090000
DTEND;TZID=America/Chicago:20270926T100000
DTSTAMP:20260420T030004
CREATED:20251023T150259Z
LAST-MODIFIED:20251023T150259Z
UID:10000109-1821949200-1821952800@easthavenbaptistchurch.com
SUMMARY:Sunday School
DESCRIPTION:
URL:https://easthavenbaptistchurch.com/event/sunday-school/2027-09-26/
END:VEVENT
BEGIN:VEVENT
DTSTART;TZID=America/Chicago:20270926T103000
DTEND;TZID=America/Chicago:20270926T233000
DTSTAMP:20260420T030004
CREATED:20251023T150259Z
LAST-MODIFIED:20251023T150259Z
UID:10000370-1821954600-1822001400@easthavenbaptistchurch.com
SUMMARY:Sunday Morning Worship Service
DESCRIPTION:
URL:https://easthavenbaptistchurch.com/event/sunday-morning-worship-service/2027-09-26/
END:VEVENT
BEGIN:VEVENT
DTSTART;TZID=America/Chicago:20270927T100000
DTEND;TZID=America/Chicago:20270927T110000
DTSTAMP:20260420T030004
CREATED:20260112T163027Z
LAST-MODIFIED:20260112T163027Z
UID:10000993-1822039200-1822042800@easthavenbaptistchurch.com
SUMMARY:Women’s Bible Study
DESCRIPTION:
URL:https://easthavenbaptistchurch.com/event/womens-bible-study/2027-09-27/
END:VEVENT
END:VCALENDAR