BEGIN:VCALENDAR
VERSION:2.0
PRODID:-//Easthaven Baptist Church - ECPv6.15.9//NONSGML v1.0//EN
CALSCALE:GREGORIAN
METHOD:PUBLISH
X-ORIGINAL-URL:https://easthavenbaptistchurch.com
X-WR-CALDESC:Events for Easthaven Baptist Church
REFRESH-INTERVAL;VALUE=DURATION:PT1H
X-Robots-Tag:noindex
X-PUBLISHED-TTL:PT1H
BEGIN:VTIMEZONE
TZID:America/Chicago
BEGIN:DAYLIGHT
TZOFFSETFROM:-0600
TZOFFSETTO:-0500
TZNAME:CDT
DTSTART:20260308T080000
END:DAYLIGHT
BEGIN:STANDARD
TZOFFSETFROM:-0500
TZOFFSETTO:-0600
TZNAME:CST
DTSTART:20261101T070000
END:STANDARD
BEGIN:DAYLIGHT
TZOFFSETFROM:-0600
TZOFFSETTO:-0500
TZNAME:CDT
DTSTART:20270314T080000
END:DAYLIGHT
BEGIN:STANDARD
TZOFFSETFROM:-0500
TZOFFSETTO:-0600
TZNAME:CST
DTSTART:20271107T070000
END:STANDARD
BEGIN:DAYLIGHT
TZOFFSETFROM:-0600
TZOFFSETTO:-0500
TZNAME:CDT
DTSTART:20280312T080000
END:DAYLIGHT
BEGIN:STANDARD
TZOFFSETFROM:-0500
TZOFFSETTO:-0600
TZNAME:CST
DTSTART:20281105T070000
END:STANDARD
END:VTIMEZONE
BEGIN:VEVENT
DTSTART;TZID=America/Chicago:20271101T100000
DTEND;TZID=America/Chicago:20271101T110000
DTSTAMP:20260420T050541
CREATED:20260112T163027Z
LAST-MODIFIED:20260112T163027Z
UID:10000998-1825063200-1825066800@easthavenbaptistchurch.com
SUMMARY:Women’s Bible Study
DESCRIPTION:
URL:https://easthavenbaptistchurch.com/event/womens-bible-study/2027-11-01/
END:VEVENT
BEGIN:VEVENT
DTSTART;TZID=America/Chicago:20271107T090000
DTEND;TZID=America/Chicago:20271107T100000
DTSTAMP:20260420T050541
CREATED:20251023T150259Z
LAST-MODIFIED:20251023T150259Z
UID:10000115-1825578000-1825581600@easthavenbaptistchurch.com
SUMMARY:Sunday School
DESCRIPTION:
URL:https://easthavenbaptistchurch.com/event/sunday-school/2027-11-07/
END:VEVENT
BEGIN:VEVENT
DTSTART;TZID=America/Chicago:20271107T103000
DTEND;TZID=America/Chicago:20271107T233000
DTSTAMP:20260420T050541
CREATED:20251023T150259Z
LAST-MODIFIED:20251023T150259Z
UID:10000376-1825583400-1825630200@easthavenbaptistchurch.com
SUMMARY:Sunday Morning Worship Service
DESCRIPTION:
URL:https://easthavenbaptistchurch.com/event/sunday-morning-worship-service/2027-11-07/
END:VEVENT
BEGIN:VEVENT
DTSTART;TZID=America/Chicago:20271108T100000
DTEND;TZID=America/Chicago:20271108T110000
DTSTAMP:20260420T050541
CREATED:20260112T163027Z
LAST-MODIFIED:20260112T163027Z
UID:10000999-1825668000-1825671600@easthavenbaptistchurch.com
SUMMARY:Women’s Bible Study
DESCRIPTION:
URL:https://easthavenbaptistchurch.com/event/womens-bible-study/2027-11-08/
END:VEVENT
BEGIN:VEVENT
DTSTART;TZID=America/Chicago:20271114T090000
DTEND;TZID=America/Chicago:20271114T100000
DTSTAMP:20260420T050541
CREATED:20251023T150259Z
LAST-MODIFIED:20251023T150259Z
UID:10000116-1826182800-1826186400@easthavenbaptistchurch.com
SUMMARY:Sunday School
DESCRIPTION:
URL:https://easthavenbaptistchurch.com/event/sunday-school/2027-11-14/
END:VEVENT
BEGIN:VEVENT
DTSTART;TZID=America/Chicago:20271114T103000
DTEND;TZID=America/Chicago:20271114T233000
DTSTAMP:20260420T050542
CREATED:20251023T150259Z
LAST-MODIFIED:20251023T150259Z
UID:10000377-1826188200-1826235000@easthavenbaptistchurch.com
SUMMARY:Sunday Morning Worship Service
DESCRIPTION:
URL:https://easthavenbaptistchurch.com/event/sunday-morning-worship-service/2027-11-14/
END:VEVENT
BEGIN:VEVENT
DTSTART;TZID=America/Chicago:20271115T100000
DTEND;TZID=America/Chicago:20271115T110000
DTSTAMP:20260420T050542
CREATED:20260112T163027Z
LAST-MODIFIED:20260112T163027Z
UID:10001000-1826272800-1826276400@easthavenbaptistchurch.com
SUMMARY:Women’s Bible Study
DESCRIPTION:
URL:https://easthavenbaptistchurch.com/event/womens-bible-study/2027-11-15/
END:VEVENT
BEGIN:VEVENT
DTSTART;TZID=America/Chicago:20271121T090000
DTEND;TZID=America/Chicago:20271121T100000
DTSTAMP:20260420T050542
CREATED:20251023T150259Z
LAST-MODIFIED:20251023T150259Z
UID:10000117-1826787600-1826791200@easthavenbaptistchurch.com
SUMMARY:Sunday School
DESCRIPTION:
URL:https://easthavenbaptistchurch.com/event/sunday-school/2027-11-21/
END:VEVENT
BEGIN:VEVENT
DTSTART;TZID=America/Chicago:20271121T103000
DTEND;TZID=America/Chicago:20271121T233000
DTSTAMP:20260420T050542
CREATED:20251023T150259Z
LAST-MODIFIED:20251023T150259Z
UID:10000378-1826793000-1826839800@easthavenbaptistchurch.com
SUMMARY:Sunday Morning Worship Service
DESCRIPTION:
URL:https://easthavenbaptistchurch.com/event/sunday-morning-worship-service/2027-11-21/
END:VEVENT
BEGIN:VEVENT
DTSTART;TZID=America/Chicago:20271122T100000
DTEND;TZID=America/Chicago:20271122T110000
DTSTAMP:20260420T050542
CREATED:20260112T163027Z
LAST-MODIFIED:20260112T163027Z
UID:10001001-1826877600-1826881200@easthavenbaptistchurch.com
SUMMARY:Women’s Bible Study
DESCRIPTION:
URL:https://easthavenbaptistchurch.com/event/womens-bible-study/2027-11-22/
END:VEVENT
BEGIN:VEVENT
DTSTART;TZID=America/Chicago:20271128T090000
DTEND;TZID=America/Chicago:20271128T100000
DTSTAMP:20260420T050542
CREATED:20251023T150259Z
LAST-MODIFIED:20251023T150259Z
UID:10000118-1827392400-1827396000@easthavenbaptistchurch.com
SUMMARY:Sunday School
DESCRIPTION:
URL:https://easthavenbaptistchurch.com/event/sunday-school/2027-11-28/
END:VEVENT
BEGIN:VEVENT
DTSTART;TZID=America/Chicago:20271128T103000
DTEND;TZID=America/Chicago:20271128T233000
DTSTAMP:20260420T050542
CREATED:20251023T150259Z
LAST-MODIFIED:20251023T150259Z
UID:10000379-1827397800-1827444600@easthavenbaptistchurch.com
SUMMARY:Sunday Morning Worship Service
DESCRIPTION:
URL:https://easthavenbaptistchurch.com/event/sunday-morning-worship-service/2027-11-28/
END:VEVENT
BEGIN:VEVENT
DTSTART;TZID=America/Chicago:20271129T100000
DTEND;TZID=America/Chicago:20271129T110000
DTSTAMP:20260420T050542
CREATED:20260112T163027Z
LAST-MODIFIED:20260112T163027Z
UID:10001002-1827482400-1827486000@easthavenbaptistchurch.com
SUMMARY:Women’s Bible Study
DESCRIPTION:
URL:https://easthavenbaptistchurch.com/event/womens-bible-study/2027-11-29/
END:VEVENT
END:VCALENDAR