BEGIN:VCALENDAR
VERSION:2.0
PRODID:-//Easthaven Baptist Church - ECPv6.15.9//NONSGML v1.0//EN
CALSCALE:GREGORIAN
METHOD:PUBLISH
X-ORIGINAL-URL:https://easthavenbaptistchurch.com
X-WR-CALDESC:Events for Easthaven Baptist Church
REFRESH-INTERVAL;VALUE=DURATION:PT1H
X-Robots-Tag:noindex
X-PUBLISHED-TTL:PT1H
BEGIN:VTIMEZONE
TZID:America/Chicago
BEGIN:DAYLIGHT
TZOFFSETFROM:-0600
TZOFFSETTO:-0500
TZNAME:CDT
DTSTART:20260308T080000
END:DAYLIGHT
BEGIN:STANDARD
TZOFFSETFROM:-0500
TZOFFSETTO:-0600
TZNAME:CST
DTSTART:20261101T070000
END:STANDARD
BEGIN:DAYLIGHT
TZOFFSETFROM:-0600
TZOFFSETTO:-0500
TZNAME:CDT
DTSTART:20270314T080000
END:DAYLIGHT
BEGIN:STANDARD
TZOFFSETFROM:-0500
TZOFFSETTO:-0600
TZNAME:CST
DTSTART:20271107T070000
END:STANDARD
BEGIN:DAYLIGHT
TZOFFSETFROM:-0600
TZOFFSETTO:-0500
TZNAME:CDT
DTSTART:20280312T080000
END:DAYLIGHT
BEGIN:STANDARD
TZOFFSETFROM:-0500
TZOFFSETTO:-0600
TZNAME:CST
DTSTART:20281105T070000
END:STANDARD
END:VTIMEZONE
BEGIN:VEVENT
DTSTART;TZID=America/Chicago:20271205T090000
DTEND;TZID=America/Chicago:20271205T100000
DTSTAMP:20260420T062742
CREATED:20251023T150259Z
LAST-MODIFIED:20251023T150259Z
UID:10000119-1827997200-1828000800@easthavenbaptistchurch.com
SUMMARY:Sunday School
DESCRIPTION:
URL:https://easthavenbaptistchurch.com/event/sunday-school/2027-12-05/
END:VEVENT
BEGIN:VEVENT
DTSTART;TZID=America/Chicago:20271205T103000
DTEND;TZID=America/Chicago:20271205T233000
DTSTAMP:20260420T062742
CREATED:20251023T150259Z
LAST-MODIFIED:20251023T150259Z
UID:10000380-1828002600-1828049400@easthavenbaptistchurch.com
SUMMARY:Sunday Morning Worship Service
DESCRIPTION:
URL:https://easthavenbaptistchurch.com/event/sunday-morning-worship-service/2027-12-05/
END:VEVENT
BEGIN:VEVENT
DTSTART;TZID=America/Chicago:20271206T100000
DTEND;TZID=America/Chicago:20271206T110000
DTSTAMP:20260420T062742
CREATED:20260112T163027Z
LAST-MODIFIED:20260112T163027Z
UID:10001003-1828087200-1828090800@easthavenbaptistchurch.com
SUMMARY:Women’s Bible Study
DESCRIPTION:
URL:https://easthavenbaptistchurch.com/event/womens-bible-study/2027-12-06/
END:VEVENT
BEGIN:VEVENT
DTSTART;TZID=America/Chicago:20271212T090000
DTEND;TZID=America/Chicago:20271212T100000
DTSTAMP:20260420T062742
CREATED:20251023T150259Z
LAST-MODIFIED:20251023T150259Z
UID:10000120-1828602000-1828605600@easthavenbaptistchurch.com
SUMMARY:Sunday School
DESCRIPTION:
URL:https://easthavenbaptistchurch.com/event/sunday-school/2027-12-12/
END:VEVENT
BEGIN:VEVENT
DTSTART;TZID=America/Chicago:20271212T103000
DTEND;TZID=America/Chicago:20271212T233000
DTSTAMP:20260420T062742
CREATED:20251023T150259Z
LAST-MODIFIED:20251023T150259Z
UID:10000381-1828607400-1828654200@easthavenbaptistchurch.com
SUMMARY:Sunday Morning Worship Service
DESCRIPTION:
URL:https://easthavenbaptistchurch.com/event/sunday-morning-worship-service/2027-12-12/
END:VEVENT
BEGIN:VEVENT
DTSTART;TZID=America/Chicago:20271213T100000
DTEND;TZID=America/Chicago:20271213T110000
DTSTAMP:20260420T062742
CREATED:20260112T163027Z
LAST-MODIFIED:20260112T163027Z
UID:10001004-1828692000-1828695600@easthavenbaptistchurch.com
SUMMARY:Women’s Bible Study
DESCRIPTION:
URL:https://easthavenbaptistchurch.com/event/womens-bible-study/2027-12-13/
END:VEVENT
BEGIN:VEVENT
DTSTART;TZID=America/Chicago:20271219T090000
DTEND;TZID=America/Chicago:20271219T100000
DTSTAMP:20260420T062742
CREATED:20251023T150259Z
LAST-MODIFIED:20251023T150259Z
UID:10000121-1829206800-1829210400@easthavenbaptistchurch.com
SUMMARY:Sunday School
DESCRIPTION:
URL:https://easthavenbaptistchurch.com/event/sunday-school/2027-12-19/
END:VEVENT
BEGIN:VEVENT
DTSTART;TZID=America/Chicago:20271219T103000
DTEND;TZID=America/Chicago:20271219T233000
DTSTAMP:20260420T062742
CREATED:20251023T150259Z
LAST-MODIFIED:20251023T150259Z
UID:10000382-1829212200-1829259000@easthavenbaptistchurch.com
SUMMARY:Sunday Morning Worship Service
DESCRIPTION:
URL:https://easthavenbaptistchurch.com/event/sunday-morning-worship-service/2027-12-19/
END:VEVENT
BEGIN:VEVENT
DTSTART;TZID=America/Chicago:20271220T100000
DTEND;TZID=America/Chicago:20271220T110000
DTSTAMP:20260420T062742
CREATED:20260112T163027Z
LAST-MODIFIED:20260112T163027Z
UID:10001005-1829296800-1829300400@easthavenbaptistchurch.com
SUMMARY:Women’s Bible Study
DESCRIPTION:
URL:https://easthavenbaptistchurch.com/event/womens-bible-study/2027-12-20/
END:VEVENT
BEGIN:VEVENT
DTSTART;TZID=America/Chicago:20271226T090000
DTEND;TZID=America/Chicago:20271226T100000
DTSTAMP:20260420T062742
CREATED:20251023T150259Z
LAST-MODIFIED:20251023T150259Z
UID:10000122-1829811600-1829815200@easthavenbaptistchurch.com
SUMMARY:Sunday School
DESCRIPTION:
URL:https://easthavenbaptistchurch.com/event/sunday-school/2027-12-26/
END:VEVENT
BEGIN:VEVENT
DTSTART;TZID=America/Chicago:20271226T103000
DTEND;TZID=America/Chicago:20271226T233000
DTSTAMP:20260420T062742
CREATED:20251023T150259Z
LAST-MODIFIED:20251023T150259Z
UID:10000383-1829817000-1829863800@easthavenbaptistchurch.com
SUMMARY:Sunday Morning Worship Service
DESCRIPTION:
URL:https://easthavenbaptistchurch.com/event/sunday-morning-worship-service/2027-12-26/
END:VEVENT
BEGIN:VEVENT
DTSTART;TZID=America/Chicago:20271227T100000
DTEND;TZID=America/Chicago:20271227T110000
DTSTAMP:20260420T062742
CREATED:20260112T163027Z
LAST-MODIFIED:20260112T163027Z
UID:10001006-1829901600-1829905200@easthavenbaptistchurch.com
SUMMARY:Women’s Bible Study
DESCRIPTION:
URL:https://easthavenbaptistchurch.com/event/womens-bible-study/2027-12-27/
END:VEVENT
END:VCALENDAR