BEGIN:VCALENDAR
VERSION:2.0
PRODID:-//Easthaven Baptist Church - ECPv6.15.9//NONSGML v1.0//EN
CALSCALE:GREGORIAN
METHOD:PUBLISH
X-ORIGINAL-URL:https://easthavenbaptistchurch.com
X-WR-CALDESC:Events for Easthaven Baptist Church
REFRESH-INTERVAL;VALUE=DURATION:PT1H
X-Robots-Tag:noindex
X-PUBLISHED-TTL:PT1H
BEGIN:VTIMEZONE
TZID:America/Chicago
BEGIN:DAYLIGHT
TZOFFSETFROM:-0600
TZOFFSETTO:-0500
TZNAME:CDT
DTSTART:20270314T080000
END:DAYLIGHT
BEGIN:STANDARD
TZOFFSETFROM:-0500
TZOFFSETTO:-0600
TZNAME:CST
DTSTART:20271107T070000
END:STANDARD
BEGIN:DAYLIGHT
TZOFFSETFROM:-0600
TZOFFSETTO:-0500
TZNAME:CDT
DTSTART:20280312T080000
END:DAYLIGHT
BEGIN:STANDARD
TZOFFSETFROM:-0500
TZOFFSETTO:-0600
TZNAME:CST
DTSTART:20281105T070000
END:STANDARD
BEGIN:DAYLIGHT
TZOFFSETFROM:-0600
TZOFFSETTO:-0500
TZNAME:CDT
DTSTART:20290311T080000
END:DAYLIGHT
BEGIN:STANDARD
TZOFFSETFROM:-0500
TZOFFSETTO:-0600
TZNAME:CST
DTSTART:20291104T070000
END:STANDARD
END:VTIMEZONE
BEGIN:VEVENT
DTSTART;TZID=America/Chicago:20280206T090000
DTEND;TZID=America/Chicago:20280206T100000
DTSTAMP:20260420T092413
CREATED:20251023T150259Z
LAST-MODIFIED:20251023T150259Z
UID:10000128-1833440400-1833444000@easthavenbaptistchurch.com
SUMMARY:Sunday School
DESCRIPTION:
URL:https://easthavenbaptistchurch.com/event/sunday-school/2028-02-06/
END:VEVENT
BEGIN:VEVENT
DTSTART;TZID=America/Chicago:20280206T103000
DTEND;TZID=America/Chicago:20280206T233000
DTSTAMP:20260420T092413
CREATED:20251023T150259Z
LAST-MODIFIED:20251023T150259Z
UID:10000389-1833445800-1833492600@easthavenbaptistchurch.com
SUMMARY:Sunday Morning Worship Service
DESCRIPTION:
URL:https://easthavenbaptistchurch.com/event/sunday-morning-worship-service/2028-02-06/
END:VEVENT
BEGIN:VEVENT
DTSTART;TZID=America/Chicago:20280207T100000
DTEND;TZID=America/Chicago:20280207T110000
DTSTAMP:20260420T092413
CREATED:20260112T163027Z
LAST-MODIFIED:20260112T163027Z
UID:10001012-1833530400-1833534000@easthavenbaptistchurch.com
SUMMARY:Women’s Bible Study
DESCRIPTION:
URL:https://easthavenbaptistchurch.com/event/womens-bible-study/2028-02-07/
END:VEVENT
BEGIN:VEVENT
DTSTART;TZID=America/Chicago:20280213T090000
DTEND;TZID=America/Chicago:20280213T100000
DTSTAMP:20260420T092413
CREATED:20251023T150259Z
LAST-MODIFIED:20251023T150259Z
UID:10000129-1834045200-1834048800@easthavenbaptistchurch.com
SUMMARY:Sunday School
DESCRIPTION:
URL:https://easthavenbaptistchurch.com/event/sunday-school/2028-02-13/
END:VEVENT
BEGIN:VEVENT
DTSTART;TZID=America/Chicago:20280213T103000
DTEND;TZID=America/Chicago:20280213T233000
DTSTAMP:20260420T092413
CREATED:20251023T150259Z
LAST-MODIFIED:20251023T150259Z
UID:10000390-1834050600-1834097400@easthavenbaptistchurch.com
SUMMARY:Sunday Morning Worship Service
DESCRIPTION:
URL:https://easthavenbaptistchurch.com/event/sunday-morning-worship-service/2028-02-13/
END:VEVENT
BEGIN:VEVENT
DTSTART;TZID=America/Chicago:20280214T100000
DTEND;TZID=America/Chicago:20280214T110000
DTSTAMP:20260420T092413
CREATED:20260112T163027Z
LAST-MODIFIED:20260112T163027Z
UID:10001013-1834135200-1834138800@easthavenbaptistchurch.com
SUMMARY:Women’s Bible Study
DESCRIPTION:
URL:https://easthavenbaptistchurch.com/event/womens-bible-study/2028-02-14/
END:VEVENT
BEGIN:VEVENT
DTSTART;TZID=America/Chicago:20280220T090000
DTEND;TZID=America/Chicago:20280220T100000
DTSTAMP:20260420T092413
CREATED:20251023T150259Z
LAST-MODIFIED:20251023T150259Z
UID:10000130-1834650000-1834653600@easthavenbaptistchurch.com
SUMMARY:Sunday School
DESCRIPTION:
URL:https://easthavenbaptistchurch.com/event/sunday-school/2028-02-20/
END:VEVENT
BEGIN:VEVENT
DTSTART;TZID=America/Chicago:20280220T103000
DTEND;TZID=America/Chicago:20280220T233000
DTSTAMP:20260420T092413
CREATED:20251023T150259Z
LAST-MODIFIED:20251023T150259Z
UID:10000391-1834655400-1834702200@easthavenbaptistchurch.com
SUMMARY:Sunday Morning Worship Service
DESCRIPTION:
URL:https://easthavenbaptistchurch.com/event/sunday-morning-worship-service/2028-02-20/
END:VEVENT
BEGIN:VEVENT
DTSTART;TZID=America/Chicago:20280221T100000
DTEND;TZID=America/Chicago:20280221T110000
DTSTAMP:20260420T092413
CREATED:20260112T163027Z
LAST-MODIFIED:20260112T163027Z
UID:10001014-1834740000-1834743600@easthavenbaptistchurch.com
SUMMARY:Women’s Bible Study
DESCRIPTION:
URL:https://easthavenbaptistchurch.com/event/womens-bible-study/2028-02-21/
END:VEVENT
BEGIN:VEVENT
DTSTART;TZID=America/Chicago:20280227T090000
DTEND;TZID=America/Chicago:20280227T100000
DTSTAMP:20260420T092413
CREATED:20251023T150259Z
LAST-MODIFIED:20251023T150259Z
UID:10000131-1835254800-1835258400@easthavenbaptistchurch.com
SUMMARY:Sunday School
DESCRIPTION:
URL:https://easthavenbaptistchurch.com/event/sunday-school/2028-02-27/
END:VEVENT
BEGIN:VEVENT
DTSTART;TZID=America/Chicago:20280227T103000
DTEND;TZID=America/Chicago:20280227T233000
DTSTAMP:20260420T092413
CREATED:20251023T150259Z
LAST-MODIFIED:20251023T150259Z
UID:10000392-1835260200-1835307000@easthavenbaptistchurch.com
SUMMARY:Sunday Morning Worship Service
DESCRIPTION:
URL:https://easthavenbaptistchurch.com/event/sunday-morning-worship-service/2028-02-27/
END:VEVENT
BEGIN:VEVENT
DTSTART;TZID=America/Chicago:20280228T100000
DTEND;TZID=America/Chicago:20280228T110000
DTSTAMP:20260420T092413
CREATED:20260112T163027Z
LAST-MODIFIED:20260112T163027Z
UID:10001015-1835344800-1835348400@easthavenbaptistchurch.com
SUMMARY:Women’s Bible Study
DESCRIPTION:
URL:https://easthavenbaptistchurch.com/event/womens-bible-study/2028-02-28/
END:VEVENT
END:VCALENDAR