BEGIN:VCALENDAR
VERSION:2.0
PRODID:-//Easthaven Baptist Church - ECPv6.15.9//NONSGML v1.0//EN
CALSCALE:GREGORIAN
METHOD:PUBLISH
X-ORIGINAL-URL:https://easthavenbaptistchurch.com
X-WR-CALDESC:Events for Easthaven Baptist Church
REFRESH-INTERVAL;VALUE=DURATION:PT1H
X-Robots-Tag:noindex
X-PUBLISHED-TTL:PT1H
BEGIN:VTIMEZONE
TZID:America/Chicago
BEGIN:DAYLIGHT
TZOFFSETFROM:-0600
TZOFFSETTO:-0500
TZNAME:CDT
DTSTART:20270314T080000
END:DAYLIGHT
BEGIN:STANDARD
TZOFFSETFROM:-0500
TZOFFSETTO:-0600
TZNAME:CST
DTSTART:20271107T070000
END:STANDARD
BEGIN:DAYLIGHT
TZOFFSETFROM:-0600
TZOFFSETTO:-0500
TZNAME:CDT
DTSTART:20280312T080000
END:DAYLIGHT
BEGIN:STANDARD
TZOFFSETFROM:-0500
TZOFFSETTO:-0600
TZNAME:CST
DTSTART:20281105T070000
END:STANDARD
BEGIN:DAYLIGHT
TZOFFSETFROM:-0600
TZOFFSETTO:-0500
TZNAME:CDT
DTSTART:20290311T080000
END:DAYLIGHT
BEGIN:STANDARD
TZOFFSETFROM:-0500
TZOFFSETTO:-0600
TZNAME:CST
DTSTART:20291104T070000
END:STANDARD
END:VTIMEZONE
BEGIN:VEVENT
DTSTART;TZID=America/Chicago:20280501T100000
DTEND;TZID=America/Chicago:20280501T110000
DTSTAMP:20260420T133051
CREATED:20260112T163027Z
LAST-MODIFIED:20260112T163027Z
UID:10001024-1840788000-1840791600@easthavenbaptistchurch.com
SUMMARY:Women’s Bible Study
DESCRIPTION:
URL:https://easthavenbaptistchurch.com/event/womens-bible-study/2028-05-01/
END:VEVENT
BEGIN:VEVENT
DTSTART;TZID=America/Chicago:20280507T090000
DTEND;TZID=America/Chicago:20280507T100000
DTSTAMP:20260420T133051
CREATED:20251023T150259Z
LAST-MODIFIED:20251023T150259Z
UID:10000141-1841302800-1841306400@easthavenbaptistchurch.com
SUMMARY:Sunday School
DESCRIPTION:
URL:https://easthavenbaptistchurch.com/event/sunday-school/2028-05-07/
END:VEVENT
BEGIN:VEVENT
DTSTART;TZID=America/Chicago:20280507T103000
DTEND;TZID=America/Chicago:20280507T233000
DTSTAMP:20260420T133051
CREATED:20251023T150259Z
LAST-MODIFIED:20251023T150259Z
UID:10000402-1841308200-1841355000@easthavenbaptistchurch.com
SUMMARY:Sunday Morning Worship Service
DESCRIPTION:
URL:https://easthavenbaptistchurch.com/event/sunday-morning-worship-service/2028-05-07/
END:VEVENT
BEGIN:VEVENT
DTSTART;TZID=America/Chicago:20280508T100000
DTEND;TZID=America/Chicago:20280508T110000
DTSTAMP:20260420T133051
CREATED:20260112T163027Z
LAST-MODIFIED:20260112T163027Z
UID:10001025-1841392800-1841396400@easthavenbaptistchurch.com
SUMMARY:Women’s Bible Study
DESCRIPTION:
URL:https://easthavenbaptistchurch.com/event/womens-bible-study/2028-05-08/
END:VEVENT
BEGIN:VEVENT
DTSTART;TZID=America/Chicago:20280514T090000
DTEND;TZID=America/Chicago:20280514T100000
DTSTAMP:20260420T133051
CREATED:20251023T150259Z
LAST-MODIFIED:20251023T150259Z
UID:10000142-1841907600-1841911200@easthavenbaptistchurch.com
SUMMARY:Sunday School
DESCRIPTION:
URL:https://easthavenbaptistchurch.com/event/sunday-school/2028-05-14/
END:VEVENT
BEGIN:VEVENT
DTSTART;TZID=America/Chicago:20280514T103000
DTEND;TZID=America/Chicago:20280514T233000
DTSTAMP:20260420T133051
CREATED:20251023T150259Z
LAST-MODIFIED:20251023T150259Z
UID:10000403-1841913000-1841959800@easthavenbaptistchurch.com
SUMMARY:Sunday Morning Worship Service
DESCRIPTION:
URL:https://easthavenbaptistchurch.com/event/sunday-morning-worship-service/2028-05-14/
END:VEVENT
BEGIN:VEVENT
DTSTART;TZID=America/Chicago:20280515T100000
DTEND;TZID=America/Chicago:20280515T110000
DTSTAMP:20260420T133051
CREATED:20260112T163027Z
LAST-MODIFIED:20260112T163027Z
UID:10001026-1841997600-1842001200@easthavenbaptistchurch.com
SUMMARY:Women’s Bible Study
DESCRIPTION:
URL:https://easthavenbaptistchurch.com/event/womens-bible-study/2028-05-15/
END:VEVENT
BEGIN:VEVENT
DTSTART;TZID=America/Chicago:20280521T090000
DTEND;TZID=America/Chicago:20280521T100000
DTSTAMP:20260420T133051
CREATED:20251023T150259Z
LAST-MODIFIED:20251023T150259Z
UID:10000143-1842512400-1842516000@easthavenbaptistchurch.com
SUMMARY:Sunday School
DESCRIPTION:
URL:https://easthavenbaptistchurch.com/event/sunday-school/2028-05-21/
END:VEVENT
BEGIN:VEVENT
DTSTART;TZID=America/Chicago:20280521T103000
DTEND;TZID=America/Chicago:20280521T233000
DTSTAMP:20260420T133051
CREATED:20251023T150259Z
LAST-MODIFIED:20251023T150259Z
UID:10000404-1842517800-1842564600@easthavenbaptistchurch.com
SUMMARY:Sunday Morning Worship Service
DESCRIPTION:
URL:https://easthavenbaptistchurch.com/event/sunday-morning-worship-service/2028-05-21/
END:VEVENT
BEGIN:VEVENT
DTSTART;TZID=America/Chicago:20280522T100000
DTEND;TZID=America/Chicago:20280522T110000
DTSTAMP:20260420T133051
CREATED:20260112T163027Z
LAST-MODIFIED:20260112T163027Z
UID:10001027-1842602400-1842606000@easthavenbaptistchurch.com
SUMMARY:Women’s Bible Study
DESCRIPTION:
URL:https://easthavenbaptistchurch.com/event/womens-bible-study/2028-05-22/
END:VEVENT
BEGIN:VEVENT
DTSTART;TZID=America/Chicago:20280528T090000
DTEND;TZID=America/Chicago:20280528T100000
DTSTAMP:20260420T133051
CREATED:20251023T150259Z
LAST-MODIFIED:20251023T150259Z
UID:10000144-1843117200-1843120800@easthavenbaptistchurch.com
SUMMARY:Sunday School
DESCRIPTION:
URL:https://easthavenbaptistchurch.com/event/sunday-school/2028-05-28/
END:VEVENT
BEGIN:VEVENT
DTSTART;TZID=America/Chicago:20280528T103000
DTEND;TZID=America/Chicago:20280528T233000
DTSTAMP:20260420T133051
CREATED:20251023T150259Z
LAST-MODIFIED:20251023T150259Z
UID:10000405-1843122600-1843169400@easthavenbaptistchurch.com
SUMMARY:Sunday Morning Worship Service
DESCRIPTION:
URL:https://easthavenbaptistchurch.com/event/sunday-morning-worship-service/2028-05-28/
END:VEVENT
BEGIN:VEVENT
DTSTART;TZID=America/Chicago:20280529T100000
DTEND;TZID=America/Chicago:20280529T110000
DTSTAMP:20260420T133051
CREATED:20260112T163027Z
LAST-MODIFIED:20260112T163027Z
UID:10001028-1843207200-1843210800@easthavenbaptistchurch.com
SUMMARY:Women’s Bible Study
DESCRIPTION:
URL:https://easthavenbaptistchurch.com/event/womens-bible-study/2028-05-29/
END:VEVENT
END:VCALENDAR