BEGIN:VCALENDAR
VERSION:2.0
PRODID:-//Easthaven Baptist Church - ECPv6.15.9//NONSGML v1.0//EN
CALSCALE:GREGORIAN
METHOD:PUBLISH
X-ORIGINAL-URL:https://easthavenbaptistchurch.com
X-WR-CALDESC:Events for Easthaven Baptist Church
REFRESH-INTERVAL;VALUE=DURATION:PT1H
X-Robots-Tag:noindex
X-PUBLISHED-TTL:PT1H
BEGIN:VTIMEZONE
TZID:America/Chicago
BEGIN:DAYLIGHT
TZOFFSETFROM:-0600
TZOFFSETTO:-0500
TZNAME:CDT
DTSTART:20270314T080000
END:DAYLIGHT
BEGIN:STANDARD
TZOFFSETFROM:-0500
TZOFFSETTO:-0600
TZNAME:CST
DTSTART:20271107T070000
END:STANDARD
BEGIN:DAYLIGHT
TZOFFSETFROM:-0600
TZOFFSETTO:-0500
TZNAME:CDT
DTSTART:20280312T080000
END:DAYLIGHT
BEGIN:STANDARD
TZOFFSETFROM:-0500
TZOFFSETTO:-0600
TZNAME:CST
DTSTART:20281105T070000
END:STANDARD
BEGIN:DAYLIGHT
TZOFFSETFROM:-0600
TZOFFSETTO:-0500
TZNAME:CDT
DTSTART:20290311T080000
END:DAYLIGHT
BEGIN:STANDARD
TZOFFSETFROM:-0500
TZOFFSETTO:-0600
TZNAME:CST
DTSTART:20291104T070000
END:STANDARD
END:VTIMEZONE
BEGIN:VEVENT
DTSTART;TZID=America/Chicago:20280604T090000
DTEND;TZID=America/Chicago:20280604T100000
DTSTAMP:20260420T150136
CREATED:20251023T150259Z
LAST-MODIFIED:20251023T150259Z
UID:10000145-1843722000-1843725600@easthavenbaptistchurch.com
SUMMARY:Sunday School
DESCRIPTION:
URL:https://easthavenbaptistchurch.com/event/sunday-school/2028-06-04/
END:VEVENT
BEGIN:VEVENT
DTSTART;TZID=America/Chicago:20280604T103000
DTEND;TZID=America/Chicago:20280604T233000
DTSTAMP:20260420T150136
CREATED:20251023T150259Z
LAST-MODIFIED:20251023T150259Z
UID:10000406-1843727400-1843774200@easthavenbaptistchurch.com
SUMMARY:Sunday Morning Worship Service
DESCRIPTION:
URL:https://easthavenbaptistchurch.com/event/sunday-morning-worship-service/2028-06-04/
END:VEVENT
BEGIN:VEVENT
DTSTART;TZID=America/Chicago:20280605T100000
DTEND;TZID=America/Chicago:20280605T110000
DTSTAMP:20260420T150136
CREATED:20260112T163027Z
LAST-MODIFIED:20260112T163027Z
UID:10001029-1843812000-1843815600@easthavenbaptistchurch.com
SUMMARY:Women’s Bible Study
DESCRIPTION:
URL:https://easthavenbaptistchurch.com/event/womens-bible-study/2028-06-05/
END:VEVENT
BEGIN:VEVENT
DTSTART;TZID=America/Chicago:20280611T090000
DTEND;TZID=America/Chicago:20280611T100000
DTSTAMP:20260420T150136
CREATED:20251023T150259Z
LAST-MODIFIED:20251023T150259Z
UID:10000146-1844326800-1844330400@easthavenbaptistchurch.com
SUMMARY:Sunday School
DESCRIPTION:
URL:https://easthavenbaptistchurch.com/event/sunday-school/2028-06-11/
END:VEVENT
BEGIN:VEVENT
DTSTART;TZID=America/Chicago:20280611T103000
DTEND;TZID=America/Chicago:20280611T233000
DTSTAMP:20260420T150136
CREATED:20251023T150259Z
LAST-MODIFIED:20251023T150259Z
UID:10000407-1844332200-1844379000@easthavenbaptistchurch.com
SUMMARY:Sunday Morning Worship Service
DESCRIPTION:
URL:https://easthavenbaptistchurch.com/event/sunday-morning-worship-service/2028-06-11/
END:VEVENT
BEGIN:VEVENT
DTSTART;TZID=America/Chicago:20280612T100000
DTEND;TZID=America/Chicago:20280612T110000
DTSTAMP:20260420T150136
CREATED:20260112T163027Z
LAST-MODIFIED:20260112T163027Z
UID:10001030-1844416800-1844420400@easthavenbaptistchurch.com
SUMMARY:Women’s Bible Study
DESCRIPTION:
URL:https://easthavenbaptistchurch.com/event/womens-bible-study/2028-06-12/
END:VEVENT
BEGIN:VEVENT
DTSTART;TZID=America/Chicago:20280618T090000
DTEND;TZID=America/Chicago:20280618T100000
DTSTAMP:20260420T150136
CREATED:20251023T150259Z
LAST-MODIFIED:20251023T150259Z
UID:10000147-1844931600-1844935200@easthavenbaptistchurch.com
SUMMARY:Sunday School
DESCRIPTION:
URL:https://easthavenbaptistchurch.com/event/sunday-school/2028-06-18/
END:VEVENT
BEGIN:VEVENT
DTSTART;TZID=America/Chicago:20280618T103000
DTEND;TZID=America/Chicago:20280618T233000
DTSTAMP:20260420T150136
CREATED:20251023T150259Z
LAST-MODIFIED:20251023T150259Z
UID:10000408-1844937000-1844983800@easthavenbaptistchurch.com
SUMMARY:Sunday Morning Worship Service
DESCRIPTION:
URL:https://easthavenbaptistchurch.com/event/sunday-morning-worship-service/2028-06-18/
END:VEVENT
BEGIN:VEVENT
DTSTART;TZID=America/Chicago:20280619T100000
DTEND;TZID=America/Chicago:20280619T110000
DTSTAMP:20260420T150136
CREATED:20260112T163027Z
LAST-MODIFIED:20260112T163027Z
UID:10001031-1845021600-1845025200@easthavenbaptistchurch.com
SUMMARY:Women’s Bible Study
DESCRIPTION:
URL:https://easthavenbaptistchurch.com/event/womens-bible-study/2028-06-19/
END:VEVENT
BEGIN:VEVENT
DTSTART;TZID=America/Chicago:20280625T090000
DTEND;TZID=America/Chicago:20280625T100000
DTSTAMP:20260420T150136
CREATED:20251023T150259Z
LAST-MODIFIED:20251023T150259Z
UID:10000148-1845536400-1845540000@easthavenbaptistchurch.com
SUMMARY:Sunday School
DESCRIPTION:
URL:https://easthavenbaptistchurch.com/event/sunday-school/2028-06-25/
END:VEVENT
BEGIN:VEVENT
DTSTART;TZID=America/Chicago:20280625T103000
DTEND;TZID=America/Chicago:20280625T233000
DTSTAMP:20260420T150136
CREATED:20251023T150259Z
LAST-MODIFIED:20251023T150259Z
UID:10000409-1845541800-1845588600@easthavenbaptistchurch.com
SUMMARY:Sunday Morning Worship Service
DESCRIPTION:
URL:https://easthavenbaptistchurch.com/event/sunday-morning-worship-service/2028-06-25/
END:VEVENT
BEGIN:VEVENT
DTSTART;TZID=America/Chicago:20280626T100000
DTEND;TZID=America/Chicago:20280626T110000
DTSTAMP:20260420T150136
CREATED:20260112T163027Z
LAST-MODIFIED:20260112T163027Z
UID:10001032-1845626400-1845630000@easthavenbaptistchurch.com
SUMMARY:Women’s Bible Study
DESCRIPTION:
URL:https://easthavenbaptistchurch.com/event/womens-bible-study/2028-06-26/
END:VEVENT
END:VCALENDAR