BEGIN:VCALENDAR
VERSION:2.0
PRODID:-//Easthaven Baptist Church - ECPv6.15.9//NONSGML v1.0//EN
CALSCALE:GREGORIAN
METHOD:PUBLISH
X-WR-CALNAME:Easthaven Baptist Church
X-ORIGINAL-URL:https://easthavenbaptistchurch.com
X-WR-CALDESC:Events for Easthaven Baptist Church
REFRESH-INTERVAL;VALUE=DURATION:PT1H
X-Robots-Tag:noindex
X-PUBLISHED-TTL:PT1H
BEGIN:VTIMEZONE
TZID:America/Chicago
BEGIN:DAYLIGHT
TZOFFSETFROM:-0600
TZOFFSETTO:-0500
TZNAME:CDT
DTSTART:20270314T080000
END:DAYLIGHT
BEGIN:STANDARD
TZOFFSETFROM:-0500
TZOFFSETTO:-0600
TZNAME:CST
DTSTART:20271107T070000
END:STANDARD
BEGIN:DAYLIGHT
TZOFFSETFROM:-0600
TZOFFSETTO:-0500
TZNAME:CDT
DTSTART:20280312T080000
END:DAYLIGHT
BEGIN:STANDARD
TZOFFSETFROM:-0500
TZOFFSETTO:-0600
TZNAME:CST
DTSTART:20281105T070000
END:STANDARD
BEGIN:DAYLIGHT
TZOFFSETFROM:-0600
TZOFFSETTO:-0500
TZNAME:CDT
DTSTART:20290311T080000
END:DAYLIGHT
BEGIN:STANDARD
TZOFFSETFROM:-0500
TZOFFSETTO:-0600
TZNAME:CST
DTSTART:20291104T070000
END:STANDARD
END:VTIMEZONE
BEGIN:VEVENT
DTSTART;TZID=America/Chicago:20280806T090000
DTEND;TZID=America/Chicago:20280806T100000
DTSTAMP:20260420T173859
CREATED:20251023T150259Z
LAST-MODIFIED:20251023T150259Z
UID:10000154-1849165200-1849168800@easthavenbaptistchurch.com
SUMMARY:Sunday School
DESCRIPTION:
URL:https://easthavenbaptistchurch.com/event/sunday-school/2028-08-06/
END:VEVENT
BEGIN:VEVENT
DTSTART;TZID=America/Chicago:20280806T103000
DTEND;TZID=America/Chicago:20280806T233000
DTSTAMP:20260420T173859
CREATED:20251023T150259Z
LAST-MODIFIED:20251023T150259Z
UID:10000415-1849170600-1849217400@easthavenbaptistchurch.com
SUMMARY:Sunday Morning Worship Service
DESCRIPTION:
URL:https://easthavenbaptistchurch.com/event/sunday-morning-worship-service/2028-08-06/
END:VEVENT
BEGIN:VEVENT
DTSTART;TZID=America/Chicago:20280807T100000
DTEND;TZID=America/Chicago:20280807T110000
DTSTAMP:20260420T173859
CREATED:20260112T163027Z
LAST-MODIFIED:20260112T163027Z
UID:10001038-1849255200-1849258800@easthavenbaptistchurch.com
SUMMARY:Women’s Bible Study
DESCRIPTION:
URL:https://easthavenbaptistchurch.com/event/womens-bible-study/2028-08-07/
END:VEVENT
BEGIN:VEVENT
DTSTART;TZID=America/Chicago:20280813T090000
DTEND;TZID=America/Chicago:20280813T100000
DTSTAMP:20260420T173859
CREATED:20251023T150259Z
LAST-MODIFIED:20251023T150259Z
UID:10000155-1849770000-1849773600@easthavenbaptistchurch.com
SUMMARY:Sunday School
DESCRIPTION:
URL:https://easthavenbaptistchurch.com/event/sunday-school/2028-08-13/
END:VEVENT
BEGIN:VEVENT
DTSTART;TZID=America/Chicago:20280813T103000
DTEND;TZID=America/Chicago:20280813T233000
DTSTAMP:20260420T173859
CREATED:20251023T150259Z
LAST-MODIFIED:20251023T150259Z
UID:10000416-1849775400-1849822200@easthavenbaptistchurch.com
SUMMARY:Sunday Morning Worship Service
DESCRIPTION:
URL:https://easthavenbaptistchurch.com/event/sunday-morning-worship-service/2028-08-13/
END:VEVENT
BEGIN:VEVENT
DTSTART;TZID=America/Chicago:20280814T100000
DTEND;TZID=America/Chicago:20280814T110000
DTSTAMP:20260420T173859
CREATED:20260112T163027Z
LAST-MODIFIED:20260112T163027Z
UID:10001039-1849860000-1849863600@easthavenbaptistchurch.com
SUMMARY:Women’s Bible Study
DESCRIPTION:
URL:https://easthavenbaptistchurch.com/event/womens-bible-study/2028-08-14/
END:VEVENT
BEGIN:VEVENT
DTSTART;TZID=America/Chicago:20280820T090000
DTEND;TZID=America/Chicago:20280820T100000
DTSTAMP:20260420T173859
CREATED:20251023T150259Z
LAST-MODIFIED:20251023T150259Z
UID:10000156-1850374800-1850378400@easthavenbaptistchurch.com
SUMMARY:Sunday School
DESCRIPTION:
URL:https://easthavenbaptistchurch.com/event/sunday-school/2028-08-20/
END:VEVENT
BEGIN:VEVENT
DTSTART;TZID=America/Chicago:20280820T103000
DTEND;TZID=America/Chicago:20280820T233000
DTSTAMP:20260420T173859
CREATED:20251023T150259Z
LAST-MODIFIED:20251023T150259Z
UID:10000417-1850380200-1850427000@easthavenbaptistchurch.com
SUMMARY:Sunday Morning Worship Service
DESCRIPTION:
URL:https://easthavenbaptistchurch.com/event/sunday-morning-worship-service/2028-08-20/
END:VEVENT
BEGIN:VEVENT
DTSTART;TZID=America/Chicago:20280821T100000
DTEND;TZID=America/Chicago:20280821T110000
DTSTAMP:20260420T173859
CREATED:20260112T163027Z
LAST-MODIFIED:20260112T163027Z
UID:10001040-1850464800-1850468400@easthavenbaptistchurch.com
SUMMARY:Women’s Bible Study
DESCRIPTION:
URL:https://easthavenbaptistchurch.com/event/womens-bible-study/2028-08-21/
END:VEVENT
BEGIN:VEVENT
DTSTART;TZID=America/Chicago:20280827T090000
DTEND;TZID=America/Chicago:20280827T100000
DTSTAMP:20260420T173859
CREATED:20251023T150259Z
LAST-MODIFIED:20251023T150259Z
UID:10000157-1850979600-1850983200@easthavenbaptistchurch.com
SUMMARY:Sunday School
DESCRIPTION:
URL:https://easthavenbaptistchurch.com/event/sunday-school/2028-08-27/
END:VEVENT
BEGIN:VEVENT
DTSTART;TZID=America/Chicago:20280827T103000
DTEND;TZID=America/Chicago:20280827T233000
DTSTAMP:20260420T173859
CREATED:20251023T150259Z
LAST-MODIFIED:20251023T150259Z
UID:10000418-1850985000-1851031800@easthavenbaptistchurch.com
SUMMARY:Sunday Morning Worship Service
DESCRIPTION:
URL:https://easthavenbaptistchurch.com/event/sunday-morning-worship-service/2028-08-27/
END:VEVENT
BEGIN:VEVENT
DTSTART;TZID=America/Chicago:20280828T100000
DTEND;TZID=America/Chicago:20280828T110000
DTSTAMP:20260420T173859
CREATED:20260112T163027Z
LAST-MODIFIED:20260112T163027Z
UID:10001041-1851069600-1851073200@easthavenbaptistchurch.com
SUMMARY:Women’s Bible Study
DESCRIPTION:
URL:https://easthavenbaptistchurch.com/event/womens-bible-study/2028-08-28/
END:VEVENT
END:VCALENDAR