BEGIN:VCALENDAR
VERSION:2.0
PRODID:-//Easthaven Baptist Church - ECPv6.15.9//NONSGML v1.0//EN
CALSCALE:GREGORIAN
METHOD:PUBLISH
X-WR-CALNAME:Easthaven Baptist Church
X-ORIGINAL-URL:https://easthavenbaptistchurch.com
X-WR-CALDESC:Events for Easthaven Baptist Church
REFRESH-INTERVAL;VALUE=DURATION:PT1H
X-Robots-Tag:noindex
X-PUBLISHED-TTL:PT1H
BEGIN:VTIMEZONE
TZID:America/Chicago
BEGIN:DAYLIGHT
TZOFFSETFROM:-0600
TZOFFSETTO:-0500
TZNAME:CDT
DTSTART:20270314T080000
END:DAYLIGHT
BEGIN:STANDARD
TZOFFSETFROM:-0500
TZOFFSETTO:-0600
TZNAME:CST
DTSTART:20271107T070000
END:STANDARD
BEGIN:DAYLIGHT
TZOFFSETFROM:-0600
TZOFFSETTO:-0500
TZNAME:CDT
DTSTART:20280312T080000
END:DAYLIGHT
BEGIN:STANDARD
TZOFFSETFROM:-0500
TZOFFSETTO:-0600
TZNAME:CST
DTSTART:20281105T070000
END:STANDARD
BEGIN:DAYLIGHT
TZOFFSETFROM:-0600
TZOFFSETTO:-0500
TZNAME:CDT
DTSTART:20290311T080000
END:DAYLIGHT
BEGIN:STANDARD
TZOFFSETFROM:-0500
TZOFFSETTO:-0600
TZNAME:CST
DTSTART:20291104T070000
END:STANDARD
END:VTIMEZONE
BEGIN:VEVENT
DTSTART;TZID=America/Chicago:20280903T090000
DTEND;TZID=America/Chicago:20280903T100000
DTSTAMP:20260420T184840
CREATED:20251023T150259Z
LAST-MODIFIED:20251023T150259Z
UID:10000158-1851584400-1851588000@easthavenbaptistchurch.com
SUMMARY:Sunday School
DESCRIPTION:
URL:https://easthavenbaptistchurch.com/event/sunday-school/2028-09-03/
END:VEVENT
BEGIN:VEVENT
DTSTART;TZID=America/Chicago:20280903T103000
DTEND;TZID=America/Chicago:20280903T233000
DTSTAMP:20260420T184840
CREATED:20251023T150259Z
LAST-MODIFIED:20251023T150259Z
UID:10000419-1851589800-1851636600@easthavenbaptistchurch.com
SUMMARY:Sunday Morning Worship Service
DESCRIPTION:
URL:https://easthavenbaptistchurch.com/event/sunday-morning-worship-service/2028-09-03/
END:VEVENT
BEGIN:VEVENT
DTSTART;TZID=America/Chicago:20280904T100000
DTEND;TZID=America/Chicago:20280904T110000
DTSTAMP:20260420T184840
CREATED:20260112T163027Z
LAST-MODIFIED:20260112T163027Z
UID:10001042-1851674400-1851678000@easthavenbaptistchurch.com
SUMMARY:Women’s Bible Study
DESCRIPTION:
URL:https://easthavenbaptistchurch.com/event/womens-bible-study/2028-09-04/
END:VEVENT
BEGIN:VEVENT
DTSTART;TZID=America/Chicago:20280910T090000
DTEND;TZID=America/Chicago:20280910T100000
DTSTAMP:20260420T184840
CREATED:20251023T150259Z
LAST-MODIFIED:20251023T150259Z
UID:10000159-1852189200-1852192800@easthavenbaptistchurch.com
SUMMARY:Sunday School
DESCRIPTION:
URL:https://easthavenbaptistchurch.com/event/sunday-school/2028-09-10/
END:VEVENT
BEGIN:VEVENT
DTSTART;TZID=America/Chicago:20280910T103000
DTEND;TZID=America/Chicago:20280910T233000
DTSTAMP:20260420T184840
CREATED:20251023T150259Z
LAST-MODIFIED:20251023T150259Z
UID:10000420-1852194600-1852241400@easthavenbaptistchurch.com
SUMMARY:Sunday Morning Worship Service
DESCRIPTION:
URL:https://easthavenbaptistchurch.com/event/sunday-morning-worship-service/2028-09-10/
END:VEVENT
BEGIN:VEVENT
DTSTART;TZID=America/Chicago:20280911T100000
DTEND;TZID=America/Chicago:20280911T110000
DTSTAMP:20260420T184840
CREATED:20260112T163027Z
LAST-MODIFIED:20260112T163027Z
UID:10001043-1852279200-1852282800@easthavenbaptistchurch.com
SUMMARY:Women’s Bible Study
DESCRIPTION:
URL:https://easthavenbaptistchurch.com/event/womens-bible-study/2028-09-11/
END:VEVENT
BEGIN:VEVENT
DTSTART;TZID=America/Chicago:20280917T090000
DTEND;TZID=America/Chicago:20280917T100000
DTSTAMP:20260420T184840
CREATED:20251023T150259Z
LAST-MODIFIED:20251023T150259Z
UID:10000160-1852794000-1852797600@easthavenbaptistchurch.com
SUMMARY:Sunday School
DESCRIPTION:
URL:https://easthavenbaptistchurch.com/event/sunday-school/2028-09-17/
END:VEVENT
BEGIN:VEVENT
DTSTART;TZID=America/Chicago:20280917T103000
DTEND;TZID=America/Chicago:20280917T233000
DTSTAMP:20260420T184840
CREATED:20251023T150259Z
LAST-MODIFIED:20251023T150259Z
UID:10000421-1852799400-1852846200@easthavenbaptistchurch.com
SUMMARY:Sunday Morning Worship Service
DESCRIPTION:
URL:https://easthavenbaptistchurch.com/event/sunday-morning-worship-service/2028-09-17/
END:VEVENT
BEGIN:VEVENT
DTSTART;TZID=America/Chicago:20280918T100000
DTEND;TZID=America/Chicago:20280918T110000
DTSTAMP:20260420T184840
CREATED:20260112T163027Z
LAST-MODIFIED:20260112T163027Z
UID:10001044-1852884000-1852887600@easthavenbaptistchurch.com
SUMMARY:Women’s Bible Study
DESCRIPTION:
URL:https://easthavenbaptistchurch.com/event/womens-bible-study/2028-09-18/
END:VEVENT
BEGIN:VEVENT
DTSTART;TZID=America/Chicago:20280924T090000
DTEND;TZID=America/Chicago:20280924T100000
DTSTAMP:20260420T184840
CREATED:20251023T150259Z
LAST-MODIFIED:20251023T150259Z
UID:10000161-1853398800-1853402400@easthavenbaptistchurch.com
SUMMARY:Sunday School
DESCRIPTION:
URL:https://easthavenbaptistchurch.com/event/sunday-school/2028-09-24/
END:VEVENT
BEGIN:VEVENT
DTSTART;TZID=America/Chicago:20280924T103000
DTEND;TZID=America/Chicago:20280924T233000
DTSTAMP:20260420T184840
CREATED:20251023T150259Z
LAST-MODIFIED:20251023T150259Z
UID:10000422-1853404200-1853451000@easthavenbaptistchurch.com
SUMMARY:Sunday Morning Worship Service
DESCRIPTION:
URL:https://easthavenbaptistchurch.com/event/sunday-morning-worship-service/2028-09-24/
END:VEVENT
BEGIN:VEVENT
DTSTART;TZID=America/Chicago:20280925T100000
DTEND;TZID=America/Chicago:20280925T110000
DTSTAMP:20260420T184840
CREATED:20260112T163027Z
LAST-MODIFIED:20260112T163027Z
UID:10001045-1853488800-1853492400@easthavenbaptistchurch.com
SUMMARY:Women’s Bible Study
DESCRIPTION:
URL:https://easthavenbaptistchurch.com/event/womens-bible-study/2028-09-25/
END:VEVENT
END:VCALENDAR