BEGIN:VCALENDAR
VERSION:2.0
PRODID:-//Easthaven Baptist Church - ECPv6.15.9//NONSGML v1.0//EN
CALSCALE:GREGORIAN
METHOD:PUBLISH
X-WR-CALNAME:Easthaven Baptist Church
X-ORIGINAL-URL:https://easthavenbaptistchurch.com
X-WR-CALDESC:Events for Easthaven Baptist Church
REFRESH-INTERVAL;VALUE=DURATION:PT1H
X-Robots-Tag:noindex
X-PUBLISHED-TTL:PT1H
BEGIN:VTIMEZONE
TZID:America/Chicago
BEGIN:DAYLIGHT
TZOFFSETFROM:-0600
TZOFFSETTO:-0500
TZNAME:CDT
DTSTART:20270314T080000
END:DAYLIGHT
BEGIN:STANDARD
TZOFFSETFROM:-0500
TZOFFSETTO:-0600
TZNAME:CST
DTSTART:20271107T070000
END:STANDARD
BEGIN:DAYLIGHT
TZOFFSETFROM:-0600
TZOFFSETTO:-0500
TZNAME:CDT
DTSTART:20280312T080000
END:DAYLIGHT
BEGIN:STANDARD
TZOFFSETFROM:-0500
TZOFFSETTO:-0600
TZNAME:CST
DTSTART:20281105T070000
END:STANDARD
BEGIN:DAYLIGHT
TZOFFSETFROM:-0600
TZOFFSETTO:-0500
TZNAME:CDT
DTSTART:20290311T080000
END:DAYLIGHT
BEGIN:STANDARD
TZOFFSETFROM:-0500
TZOFFSETTO:-0600
TZNAME:CST
DTSTART:20291104T070000
END:STANDARD
END:VTIMEZONE
BEGIN:VEVENT
DTSTART;TZID=America/Chicago:20281105T090000
DTEND;TZID=America/Chicago:20281105T100000
DTSTAMP:20260420T214839
CREATED:20251023T150259Z
LAST-MODIFIED:20251023T150259Z
UID:10000167-1857027600-1857031200@easthavenbaptistchurch.com
SUMMARY:Sunday School
DESCRIPTION:
URL:https://easthavenbaptistchurch.com/event/sunday-school/2028-11-05/
END:VEVENT
BEGIN:VEVENT
DTSTART;TZID=America/Chicago:20281105T103000
DTEND;TZID=America/Chicago:20281105T233000
DTSTAMP:20260420T214839
CREATED:20251023T150259Z
LAST-MODIFIED:20251023T150259Z
UID:10000428-1857033000-1857079800@easthavenbaptistchurch.com
SUMMARY:Sunday Morning Worship Service
DESCRIPTION:
URL:https://easthavenbaptistchurch.com/event/sunday-morning-worship-service/2028-11-05/
END:VEVENT
BEGIN:VEVENT
DTSTART;TZID=America/Chicago:20281106T100000
DTEND;TZID=America/Chicago:20281106T110000
DTSTAMP:20260420T214839
CREATED:20260112T163027Z
LAST-MODIFIED:20260112T163027Z
UID:10001051-1857117600-1857121200@easthavenbaptistchurch.com
SUMMARY:Women’s Bible Study
DESCRIPTION:
URL:https://easthavenbaptistchurch.com/event/womens-bible-study/2028-11-06/
END:VEVENT
BEGIN:VEVENT
DTSTART;TZID=America/Chicago:20281112T090000
DTEND;TZID=America/Chicago:20281112T100000
DTSTAMP:20260420T214839
CREATED:20251023T150259Z
LAST-MODIFIED:20251023T150259Z
UID:10000168-1857632400-1857636000@easthavenbaptistchurch.com
SUMMARY:Sunday School
DESCRIPTION:
URL:https://easthavenbaptistchurch.com/event/sunday-school/2028-11-12/
END:VEVENT
BEGIN:VEVENT
DTSTART;TZID=America/Chicago:20281112T103000
DTEND;TZID=America/Chicago:20281112T233000
DTSTAMP:20260420T214839
CREATED:20251023T150259Z
LAST-MODIFIED:20251023T150259Z
UID:10000429-1857637800-1857684600@easthavenbaptistchurch.com
SUMMARY:Sunday Morning Worship Service
DESCRIPTION:
URL:https://easthavenbaptistchurch.com/event/sunday-morning-worship-service/2028-11-12/
END:VEVENT
BEGIN:VEVENT
DTSTART;TZID=America/Chicago:20281113T100000
DTEND;TZID=America/Chicago:20281113T110000
DTSTAMP:20260420T214839
CREATED:20260112T163027Z
LAST-MODIFIED:20260112T163027Z
UID:10001052-1857722400-1857726000@easthavenbaptistchurch.com
SUMMARY:Women’s Bible Study
DESCRIPTION:
URL:https://easthavenbaptistchurch.com/event/womens-bible-study/2028-11-13/
END:VEVENT
BEGIN:VEVENT
DTSTART;TZID=America/Chicago:20281119T090000
DTEND;TZID=America/Chicago:20281119T100000
DTSTAMP:20260420T214839
CREATED:20251023T150259Z
LAST-MODIFIED:20251023T150259Z
UID:10000169-1858237200-1858240800@easthavenbaptistchurch.com
SUMMARY:Sunday School
DESCRIPTION:
URL:https://easthavenbaptistchurch.com/event/sunday-school/2028-11-19/
END:VEVENT
BEGIN:VEVENT
DTSTART;TZID=America/Chicago:20281119T103000
DTEND;TZID=America/Chicago:20281119T233000
DTSTAMP:20260420T214839
CREATED:20251023T150259Z
LAST-MODIFIED:20251023T150259Z
UID:10000430-1858242600-1858289400@easthavenbaptistchurch.com
SUMMARY:Sunday Morning Worship Service
DESCRIPTION:
URL:https://easthavenbaptistchurch.com/event/sunday-morning-worship-service/2028-11-19/
END:VEVENT
BEGIN:VEVENT
DTSTART;TZID=America/Chicago:20281120T100000
DTEND;TZID=America/Chicago:20281120T110000
DTSTAMP:20260420T214839
CREATED:20260112T163027Z
LAST-MODIFIED:20260112T163027Z
UID:10001053-1858327200-1858330800@easthavenbaptistchurch.com
SUMMARY:Women’s Bible Study
DESCRIPTION:
URL:https://easthavenbaptistchurch.com/event/womens-bible-study/2028-11-20/
END:VEVENT
BEGIN:VEVENT
DTSTART;TZID=America/Chicago:20281126T090000
DTEND;TZID=America/Chicago:20281126T100000
DTSTAMP:20260420T214839
CREATED:20251023T150259Z
LAST-MODIFIED:20251023T150259Z
UID:10000170-1858842000-1858845600@easthavenbaptistchurch.com
SUMMARY:Sunday School
DESCRIPTION:
URL:https://easthavenbaptistchurch.com/event/sunday-school/2028-11-26/
END:VEVENT
BEGIN:VEVENT
DTSTART;TZID=America/Chicago:20281126T103000
DTEND;TZID=America/Chicago:20281126T233000
DTSTAMP:20260420T214839
CREATED:20251023T150259Z
LAST-MODIFIED:20251023T150259Z
UID:10000431-1858847400-1858894200@easthavenbaptistchurch.com
SUMMARY:Sunday Morning Worship Service
DESCRIPTION:
URL:https://easthavenbaptistchurch.com/event/sunday-morning-worship-service/2028-11-26/
END:VEVENT
BEGIN:VEVENT
DTSTART;TZID=America/Chicago:20281127T100000
DTEND;TZID=America/Chicago:20281127T110000
DTSTAMP:20260420T214839
CREATED:20260112T163027Z
LAST-MODIFIED:20260112T163027Z
UID:10001054-1858932000-1858935600@easthavenbaptistchurch.com
SUMMARY:Women’s Bible Study
DESCRIPTION:
URL:https://easthavenbaptistchurch.com/event/womens-bible-study/2028-11-27/
END:VEVENT
END:VCALENDAR