BEGIN:VCALENDAR
VERSION:2.0
PRODID:-//Easthaven Baptist Church - ECPv6.15.9//NONSGML v1.0//EN
CALSCALE:GREGORIAN
METHOD:PUBLISH
X-ORIGINAL-URL:https://easthavenbaptistchurch.com
X-WR-CALDESC:Events for Easthaven Baptist Church
REFRESH-INTERVAL;VALUE=DURATION:PT1H
X-Robots-Tag:noindex
X-PUBLISHED-TTL:PT1H
BEGIN:VTIMEZONE
TZID:America/Chicago
BEGIN:DAYLIGHT
TZOFFSETFROM:-0600
TZOFFSETTO:-0500
TZNAME:CDT
DTSTART:20270314T080000
END:DAYLIGHT
BEGIN:STANDARD
TZOFFSETFROM:-0500
TZOFFSETTO:-0600
TZNAME:CST
DTSTART:20271107T070000
END:STANDARD
BEGIN:DAYLIGHT
TZOFFSETFROM:-0600
TZOFFSETTO:-0500
TZNAME:CDT
DTSTART:20280312T080000
END:DAYLIGHT
BEGIN:STANDARD
TZOFFSETFROM:-0500
TZOFFSETTO:-0600
TZNAME:CST
DTSTART:20281105T070000
END:STANDARD
BEGIN:DAYLIGHT
TZOFFSETFROM:-0600
TZOFFSETTO:-0500
TZNAME:CDT
DTSTART:20290311T080000
END:DAYLIGHT
BEGIN:STANDARD
TZOFFSETFROM:-0500
TZOFFSETTO:-0600
TZNAME:CST
DTSTART:20291104T070000
END:STANDARD
END:VTIMEZONE
BEGIN:VEVENT
DTSTART;TZID=America/Chicago:20281203T090000
DTEND;TZID=America/Chicago:20281203T100000
DTSTAMP:20260420T231113
CREATED:20251023T150259Z
LAST-MODIFIED:20251023T150259Z
UID:10000171-1859446800-1859450400@easthavenbaptistchurch.com
SUMMARY:Sunday School
DESCRIPTION:
URL:https://easthavenbaptistchurch.com/event/sunday-school/2028-12-03/
END:VEVENT
BEGIN:VEVENT
DTSTART;TZID=America/Chicago:20281203T103000
DTEND;TZID=America/Chicago:20281203T233000
DTSTAMP:20260420T231113
CREATED:20251023T150259Z
LAST-MODIFIED:20251023T150259Z
UID:10000432-1859452200-1859499000@easthavenbaptistchurch.com
SUMMARY:Sunday Morning Worship Service
DESCRIPTION:
URL:https://easthavenbaptistchurch.com/event/sunday-morning-worship-service/2028-12-03/
END:VEVENT
BEGIN:VEVENT
DTSTART;TZID=America/Chicago:20281204T100000
DTEND;TZID=America/Chicago:20281204T110000
DTSTAMP:20260420T231113
CREATED:20260112T163027Z
LAST-MODIFIED:20260112T163027Z
UID:10001055-1859536800-1859540400@easthavenbaptistchurch.com
SUMMARY:Women’s Bible Study
DESCRIPTION:
URL:https://easthavenbaptistchurch.com/event/womens-bible-study/2028-12-04/
END:VEVENT
BEGIN:VEVENT
DTSTART;TZID=America/Chicago:20281210T090000
DTEND;TZID=America/Chicago:20281210T100000
DTSTAMP:20260420T231113
CREATED:20251023T150259Z
LAST-MODIFIED:20251023T150259Z
UID:10000172-1860051600-1860055200@easthavenbaptistchurch.com
SUMMARY:Sunday School
DESCRIPTION:
URL:https://easthavenbaptistchurch.com/event/sunday-school/2028-12-10/
END:VEVENT
BEGIN:VEVENT
DTSTART;TZID=America/Chicago:20281210T103000
DTEND;TZID=America/Chicago:20281210T233000
DTSTAMP:20260420T231113
CREATED:20251023T150259Z
LAST-MODIFIED:20251023T150259Z
UID:10000433-1860057000-1860103800@easthavenbaptistchurch.com
SUMMARY:Sunday Morning Worship Service
DESCRIPTION:
URL:https://easthavenbaptistchurch.com/event/sunday-morning-worship-service/2028-12-10/
END:VEVENT
BEGIN:VEVENT
DTSTART;TZID=America/Chicago:20281211T100000
DTEND;TZID=America/Chicago:20281211T110000
DTSTAMP:20260420T231114
CREATED:20260112T163027Z
LAST-MODIFIED:20260112T163027Z
UID:10001056-1860141600-1860145200@easthavenbaptistchurch.com
SUMMARY:Women’s Bible Study
DESCRIPTION:
URL:https://easthavenbaptistchurch.com/event/womens-bible-study/2028-12-11/
END:VEVENT
BEGIN:VEVENT
DTSTART;TZID=America/Chicago:20281217T090000
DTEND;TZID=America/Chicago:20281217T100000
DTSTAMP:20260420T231114
CREATED:20251023T150259Z
LAST-MODIFIED:20251023T150259Z
UID:10000173-1860656400-1860660000@easthavenbaptistchurch.com
SUMMARY:Sunday School
DESCRIPTION:
URL:https://easthavenbaptistchurch.com/event/sunday-school/2028-12-17/
END:VEVENT
BEGIN:VEVENT
DTSTART;TZID=America/Chicago:20281217T103000
DTEND;TZID=America/Chicago:20281217T233000
DTSTAMP:20260420T231114
CREATED:20251023T150259Z
LAST-MODIFIED:20251023T150259Z
UID:10000434-1860661800-1860708600@easthavenbaptistchurch.com
SUMMARY:Sunday Morning Worship Service
DESCRIPTION:
URL:https://easthavenbaptistchurch.com/event/sunday-morning-worship-service/2028-12-17/
END:VEVENT
BEGIN:VEVENT
DTSTART;TZID=America/Chicago:20281218T100000
DTEND;TZID=America/Chicago:20281218T110000
DTSTAMP:20260420T231114
CREATED:20260112T163027Z
LAST-MODIFIED:20260112T163027Z
UID:10001057-1860746400-1860750000@easthavenbaptistchurch.com
SUMMARY:Women’s Bible Study
DESCRIPTION:
URL:https://easthavenbaptistchurch.com/event/womens-bible-study/2028-12-18/
END:VEVENT
BEGIN:VEVENT
DTSTART;TZID=America/Chicago:20281224T090000
DTEND;TZID=America/Chicago:20281224T100000
DTSTAMP:20260420T231114
CREATED:20251023T150259Z
LAST-MODIFIED:20251023T150259Z
UID:10000174-1861261200-1861264800@easthavenbaptistchurch.com
SUMMARY:Sunday School
DESCRIPTION:
URL:https://easthavenbaptistchurch.com/event/sunday-school/2028-12-24/
END:VEVENT
BEGIN:VEVENT
DTSTART;TZID=America/Chicago:20281224T103000
DTEND;TZID=America/Chicago:20281224T233000
DTSTAMP:20260420T231114
CREATED:20251023T150259Z
LAST-MODIFIED:20251023T150259Z
UID:10000435-1861266600-1861313400@easthavenbaptistchurch.com
SUMMARY:Sunday Morning Worship Service
DESCRIPTION:
URL:https://easthavenbaptistchurch.com/event/sunday-morning-worship-service/2028-12-24/
END:VEVENT
BEGIN:VEVENT
DTSTART;TZID=America/Chicago:20281225T100000
DTEND;TZID=America/Chicago:20281225T110000
DTSTAMP:20260420T231114
CREATED:20260112T163027Z
LAST-MODIFIED:20260112T163027Z
UID:10001058-1861351200-1861354800@easthavenbaptistchurch.com
SUMMARY:Women’s Bible Study
DESCRIPTION:
URL:https://easthavenbaptistchurch.com/event/womens-bible-study/2028-12-25/
END:VEVENT
BEGIN:VEVENT
DTSTART;TZID=America/Chicago:20281231T090000
DTEND;TZID=America/Chicago:20281231T100000
DTSTAMP:20260420T231114
CREATED:20251023T150259Z
LAST-MODIFIED:20251023T150259Z
UID:10000175-1861866000-1861869600@easthavenbaptistchurch.com
SUMMARY:Sunday School
DESCRIPTION:
URL:https://easthavenbaptistchurch.com/event/sunday-school/2028-12-31/
END:VEVENT
BEGIN:VEVENT
DTSTART;TZID=America/Chicago:20281231T103000
DTEND;TZID=America/Chicago:20281231T233000
DTSTAMP:20260420T231114
CREATED:20251023T150259Z
LAST-MODIFIED:20251023T150259Z
UID:10000436-1861871400-1861918200@easthavenbaptistchurch.com
SUMMARY:Sunday Morning Worship Service
DESCRIPTION:
URL:https://easthavenbaptistchurch.com/event/sunday-morning-worship-service/2028-12-31/
END:VEVENT
END:VCALENDAR