BEGIN:VCALENDAR
VERSION:2.0
PRODID:-//Easthaven Baptist Church - ECPv6.15.9//NONSGML v1.0//EN
CALSCALE:GREGORIAN
METHOD:PUBLISH
X-WR-CALNAME:Easthaven Baptist Church
X-ORIGINAL-URL:https://easthavenbaptistchurch.com
X-WR-CALDESC:Events for Easthaven Baptist Church
REFRESH-INTERVAL;VALUE=DURATION:PT1H
X-Robots-Tag:noindex
X-PUBLISHED-TTL:PT1H
BEGIN:VTIMEZONE
TZID:America/Chicago
BEGIN:DAYLIGHT
TZOFFSETFROM:-0600
TZOFFSETTO:-0500
TZNAME:CDT
DTSTART:20280312T080000
END:DAYLIGHT
BEGIN:STANDARD
TZOFFSETFROM:-0500
TZOFFSETTO:-0600
TZNAME:CST
DTSTART:20281105T070000
END:STANDARD
BEGIN:DAYLIGHT
TZOFFSETFROM:-0600
TZOFFSETTO:-0500
TZNAME:CDT
DTSTART:20290311T080000
END:DAYLIGHT
BEGIN:STANDARD
TZOFFSETFROM:-0500
TZOFFSETTO:-0600
TZNAME:CST
DTSTART:20291104T070000
END:STANDARD
BEGIN:DAYLIGHT
TZOFFSETFROM:-0600
TZOFFSETTO:-0500
TZNAME:CDT
DTSTART:20300310T080000
END:DAYLIGHT
BEGIN:STANDARD
TZOFFSETFROM:-0500
TZOFFSETTO:-0600
TZNAME:CST
DTSTART:20301103T070000
END:STANDARD
END:VTIMEZONE
BEGIN:VEVENT
DTSTART;TZID=America/Chicago:20290204T090000
DTEND;TZID=America/Chicago:20290204T100000
DTSTAMP:20260421T021551
CREATED:20251023T150259Z
LAST-MODIFIED:20251023T150259Z
UID:10000180-1864890000-1864893600@easthavenbaptistchurch.com
SUMMARY:Sunday School
DESCRIPTION:
URL:https://easthavenbaptistchurch.com/event/sunday-school/2029-02-04/
END:VEVENT
BEGIN:VEVENT
DTSTART;TZID=America/Chicago:20290204T103000
DTEND;TZID=America/Chicago:20290204T233000
DTSTAMP:20260421T021551
CREATED:20251023T150259Z
LAST-MODIFIED:20251023T150259Z
UID:10000441-1864895400-1864942200@easthavenbaptistchurch.com
SUMMARY:Sunday Morning Worship Service
DESCRIPTION:
URL:https://easthavenbaptistchurch.com/event/sunday-morning-worship-service/2029-02-04/
END:VEVENT
BEGIN:VEVENT
DTSTART;TZID=America/Chicago:20290205T100000
DTEND;TZID=America/Chicago:20290205T110000
DTSTAMP:20260421T021551
CREATED:20260112T163027Z
LAST-MODIFIED:20260112T163027Z
UID:10001064-1864980000-1864983600@easthavenbaptistchurch.com
SUMMARY:Women’s Bible Study
DESCRIPTION:
URL:https://easthavenbaptistchurch.com/event/womens-bible-study/2029-02-05/
END:VEVENT
BEGIN:VEVENT
DTSTART;TZID=America/Chicago:20290211T090000
DTEND;TZID=America/Chicago:20290211T100000
DTSTAMP:20260421T021551
CREATED:20251023T150259Z
LAST-MODIFIED:20251023T150259Z
UID:10000181-1865494800-1865498400@easthavenbaptistchurch.com
SUMMARY:Sunday School
DESCRIPTION:
URL:https://easthavenbaptistchurch.com/event/sunday-school/2029-02-11/
END:VEVENT
BEGIN:VEVENT
DTSTART;TZID=America/Chicago:20290211T103000
DTEND;TZID=America/Chicago:20290211T233000
DTSTAMP:20260421T021551
CREATED:20251023T150259Z
LAST-MODIFIED:20251023T150259Z
UID:10000442-1865500200-1865547000@easthavenbaptistchurch.com
SUMMARY:Sunday Morning Worship Service
DESCRIPTION:
URL:https://easthavenbaptistchurch.com/event/sunday-morning-worship-service/2029-02-11/
END:VEVENT
BEGIN:VEVENT
DTSTART;TZID=America/Chicago:20290212T100000
DTEND;TZID=America/Chicago:20290212T110000
DTSTAMP:20260421T021551
CREATED:20260112T163027Z
LAST-MODIFIED:20260112T163027Z
UID:10001065-1865584800-1865588400@easthavenbaptistchurch.com
SUMMARY:Women’s Bible Study
DESCRIPTION:
URL:https://easthavenbaptistchurch.com/event/womens-bible-study/2029-02-12/
END:VEVENT
BEGIN:VEVENT
DTSTART;TZID=America/Chicago:20290218T090000
DTEND;TZID=America/Chicago:20290218T100000
DTSTAMP:20260421T021551
CREATED:20251023T150259Z
LAST-MODIFIED:20251023T150259Z
UID:10000182-1866099600-1866103200@easthavenbaptistchurch.com
SUMMARY:Sunday School
DESCRIPTION:
URL:https://easthavenbaptistchurch.com/event/sunday-school/2029-02-18/
END:VEVENT
BEGIN:VEVENT
DTSTART;TZID=America/Chicago:20290218T103000
DTEND;TZID=America/Chicago:20290218T233000
DTSTAMP:20260421T021551
CREATED:20251023T150259Z
LAST-MODIFIED:20251023T150259Z
UID:10000443-1866105000-1866151800@easthavenbaptistchurch.com
SUMMARY:Sunday Morning Worship Service
DESCRIPTION:
URL:https://easthavenbaptistchurch.com/event/sunday-morning-worship-service/2029-02-18/
END:VEVENT
BEGIN:VEVENT
DTSTART;TZID=America/Chicago:20290219T100000
DTEND;TZID=America/Chicago:20290219T110000
DTSTAMP:20260421T021551
CREATED:20260112T163027Z
LAST-MODIFIED:20260112T163027Z
UID:10001066-1866189600-1866193200@easthavenbaptistchurch.com
SUMMARY:Women’s Bible Study
DESCRIPTION:
URL:https://easthavenbaptistchurch.com/event/womens-bible-study/2029-02-19/
END:VEVENT
BEGIN:VEVENT
DTSTART;TZID=America/Chicago:20290225T090000
DTEND;TZID=America/Chicago:20290225T100000
DTSTAMP:20260421T021551
CREATED:20251023T150259Z
LAST-MODIFIED:20251023T150259Z
UID:10000183-1866704400-1866708000@easthavenbaptistchurch.com
SUMMARY:Sunday School
DESCRIPTION:
URL:https://easthavenbaptistchurch.com/event/sunday-school/2029-02-25/
END:VEVENT
BEGIN:VEVENT
DTSTART;TZID=America/Chicago:20290225T103000
DTEND;TZID=America/Chicago:20290225T233000
DTSTAMP:20260421T021551
CREATED:20251023T150259Z
LAST-MODIFIED:20251023T150259Z
UID:10000444-1866709800-1866756600@easthavenbaptistchurch.com
SUMMARY:Sunday Morning Worship Service
DESCRIPTION:
URL:https://easthavenbaptistchurch.com/event/sunday-morning-worship-service/2029-02-25/
END:VEVENT
BEGIN:VEVENT
DTSTART;TZID=America/Chicago:20290226T100000
DTEND;TZID=America/Chicago:20290226T110000
DTSTAMP:20260421T021551
CREATED:20260112T163027Z
LAST-MODIFIED:20260112T163027Z
UID:10001067-1866794400-1866798000@easthavenbaptistchurch.com
SUMMARY:Women’s Bible Study
DESCRIPTION:
URL:https://easthavenbaptistchurch.com/event/womens-bible-study/2029-02-26/
END:VEVENT
END:VCALENDAR