BEGIN:VCALENDAR
VERSION:2.0
PRODID:-//Easthaven Baptist Church - ECPv6.15.9//NONSGML v1.0//EN
CALSCALE:GREGORIAN
METHOD:PUBLISH
X-ORIGINAL-URL:https://easthavenbaptistchurch.com
X-WR-CALDESC:Events for Easthaven Baptist Church
REFRESH-INTERVAL;VALUE=DURATION:PT1H
X-Robots-Tag:noindex
X-PUBLISHED-TTL:PT1H
BEGIN:VTIMEZONE
TZID:America/Chicago
BEGIN:DAYLIGHT
TZOFFSETFROM:-0600
TZOFFSETTO:-0500
TZNAME:CDT
DTSTART:20280312T080000
END:DAYLIGHT
BEGIN:STANDARD
TZOFFSETFROM:-0500
TZOFFSETTO:-0600
TZNAME:CST
DTSTART:20281105T070000
END:STANDARD
BEGIN:DAYLIGHT
TZOFFSETFROM:-0600
TZOFFSETTO:-0500
TZNAME:CDT
DTSTART:20290311T080000
END:DAYLIGHT
BEGIN:STANDARD
TZOFFSETFROM:-0500
TZOFFSETTO:-0600
TZNAME:CST
DTSTART:20291104T070000
END:STANDARD
BEGIN:DAYLIGHT
TZOFFSETFROM:-0600
TZOFFSETTO:-0500
TZNAME:CDT
DTSTART:20300310T080000
END:DAYLIGHT
BEGIN:STANDARD
TZOFFSETFROM:-0500
TZOFFSETTO:-0600
TZNAME:CST
DTSTART:20301103T070000
END:STANDARD
END:VTIMEZONE
BEGIN:VEVENT
DTSTART;TZID=America/Chicago:20290506T090000
DTEND;TZID=America/Chicago:20290506T100000
DTSTAMP:20260421T080610
CREATED:20251023T150259Z
LAST-MODIFIED:20251023T150259Z
UID:10000193-1872752400-1872756000@easthavenbaptistchurch.com
SUMMARY:Sunday School
DESCRIPTION:
URL:https://easthavenbaptistchurch.com/event/sunday-school/2029-05-06/
END:VEVENT
BEGIN:VEVENT
DTSTART;TZID=America/Chicago:20290506T103000
DTEND;TZID=America/Chicago:20290506T233000
DTSTAMP:20260421T080610
CREATED:20251023T150259Z
LAST-MODIFIED:20251023T150259Z
UID:10000454-1872757800-1872804600@easthavenbaptistchurch.com
SUMMARY:Sunday Morning Worship Service
DESCRIPTION:
URL:https://easthavenbaptistchurch.com/event/sunday-morning-worship-service/2029-05-06/
END:VEVENT
BEGIN:VEVENT
DTSTART;TZID=America/Chicago:20290507T100000
DTEND;TZID=America/Chicago:20290507T110000
DTSTAMP:20260421T080610
CREATED:20260112T163027Z
LAST-MODIFIED:20260112T163027Z
UID:10001077-1872842400-1872846000@easthavenbaptistchurch.com
SUMMARY:Women’s Bible Study
DESCRIPTION:
URL:https://easthavenbaptistchurch.com/event/womens-bible-study/2029-05-07/
END:VEVENT
BEGIN:VEVENT
DTSTART;TZID=America/Chicago:20290513T090000
DTEND;TZID=America/Chicago:20290513T100000
DTSTAMP:20260421T080610
CREATED:20251023T150259Z
LAST-MODIFIED:20251023T150259Z
UID:10000194-1873357200-1873360800@easthavenbaptistchurch.com
SUMMARY:Sunday School
DESCRIPTION:
URL:https://easthavenbaptistchurch.com/event/sunday-school/2029-05-13/
END:VEVENT
BEGIN:VEVENT
DTSTART;TZID=America/Chicago:20290513T103000
DTEND;TZID=America/Chicago:20290513T233000
DTSTAMP:20260421T080610
CREATED:20251023T150259Z
LAST-MODIFIED:20251023T150259Z
UID:10000455-1873362600-1873409400@easthavenbaptistchurch.com
SUMMARY:Sunday Morning Worship Service
DESCRIPTION:
URL:https://easthavenbaptistchurch.com/event/sunday-morning-worship-service/2029-05-13/
END:VEVENT
BEGIN:VEVENT
DTSTART;TZID=America/Chicago:20290514T100000
DTEND;TZID=America/Chicago:20290514T110000
DTSTAMP:20260421T080610
CREATED:20260112T163027Z
LAST-MODIFIED:20260112T163027Z
UID:10001078-1873447200-1873450800@easthavenbaptistchurch.com
SUMMARY:Women’s Bible Study
DESCRIPTION:
URL:https://easthavenbaptistchurch.com/event/womens-bible-study/2029-05-14/
END:VEVENT
BEGIN:VEVENT
DTSTART;TZID=America/Chicago:20290520T090000
DTEND;TZID=America/Chicago:20290520T100000
DTSTAMP:20260421T080610
CREATED:20251023T150259Z
LAST-MODIFIED:20251023T150259Z
UID:10000195-1873962000-1873965600@easthavenbaptistchurch.com
SUMMARY:Sunday School
DESCRIPTION:
URL:https://easthavenbaptistchurch.com/event/sunday-school/2029-05-20/
END:VEVENT
BEGIN:VEVENT
DTSTART;TZID=America/Chicago:20290520T103000
DTEND;TZID=America/Chicago:20290520T233000
DTSTAMP:20260421T080610
CREATED:20251023T150259Z
LAST-MODIFIED:20251023T150259Z
UID:10000456-1873967400-1874014200@easthavenbaptistchurch.com
SUMMARY:Sunday Morning Worship Service
DESCRIPTION:
URL:https://easthavenbaptistchurch.com/event/sunday-morning-worship-service/2029-05-20/
END:VEVENT
BEGIN:VEVENT
DTSTART;TZID=America/Chicago:20290521T100000
DTEND;TZID=America/Chicago:20290521T110000
DTSTAMP:20260421T080610
CREATED:20260112T163027Z
LAST-MODIFIED:20260112T163027Z
UID:10001079-1874052000-1874055600@easthavenbaptistchurch.com
SUMMARY:Women’s Bible Study
DESCRIPTION:
URL:https://easthavenbaptistchurch.com/event/womens-bible-study/2029-05-21/
END:VEVENT
BEGIN:VEVENT
DTSTART;TZID=America/Chicago:20290527T090000
DTEND;TZID=America/Chicago:20290527T100000
DTSTAMP:20260421T080610
CREATED:20251023T150259Z
LAST-MODIFIED:20251023T150259Z
UID:10000196-1874566800-1874570400@easthavenbaptistchurch.com
SUMMARY:Sunday School
DESCRIPTION:
URL:https://easthavenbaptistchurch.com/event/sunday-school/2029-05-27/
END:VEVENT
BEGIN:VEVENT
DTSTART;TZID=America/Chicago:20290527T103000
DTEND;TZID=America/Chicago:20290527T233000
DTSTAMP:20260421T080610
CREATED:20251023T150259Z
LAST-MODIFIED:20251023T150259Z
UID:10000457-1874572200-1874619000@easthavenbaptistchurch.com
SUMMARY:Sunday Morning Worship Service
DESCRIPTION:
URL:https://easthavenbaptistchurch.com/event/sunday-morning-worship-service/2029-05-27/
END:VEVENT
BEGIN:VEVENT
DTSTART;TZID=America/Chicago:20290528T100000
DTEND;TZID=America/Chicago:20290528T110000
DTSTAMP:20260421T080610
CREATED:20260112T163027Z
LAST-MODIFIED:20260112T163027Z
UID:10001080-1874656800-1874660400@easthavenbaptistchurch.com
SUMMARY:Women’s Bible Study
DESCRIPTION:
URL:https://easthavenbaptistchurch.com/event/womens-bible-study/2029-05-28/
END:VEVENT
END:VCALENDAR