BEGIN:VCALENDAR
VERSION:2.0
PRODID:-//Easthaven Baptist Church - ECPv6.15.9//NONSGML v1.0//EN
CALSCALE:GREGORIAN
METHOD:PUBLISH
X-WR-CALNAME:Easthaven Baptist Church
X-ORIGINAL-URL:https://easthavenbaptistchurch.com
X-WR-CALDESC:Events for Easthaven Baptist Church
REFRESH-INTERVAL;VALUE=DURATION:PT1H
X-Robots-Tag:noindex
X-PUBLISHED-TTL:PT1H
BEGIN:VTIMEZONE
TZID:America/Chicago
BEGIN:DAYLIGHT
TZOFFSETFROM:-0600
TZOFFSETTO:-0500
TZNAME:CDT
DTSTART:20280312T080000
END:DAYLIGHT
BEGIN:STANDARD
TZOFFSETFROM:-0500
TZOFFSETTO:-0600
TZNAME:CST
DTSTART:20281105T070000
END:STANDARD
BEGIN:DAYLIGHT
TZOFFSETFROM:-0600
TZOFFSETTO:-0500
TZNAME:CDT
DTSTART:20290311T080000
END:DAYLIGHT
BEGIN:STANDARD
TZOFFSETFROM:-0500
TZOFFSETTO:-0600
TZNAME:CST
DTSTART:20291104T070000
END:STANDARD
BEGIN:DAYLIGHT
TZOFFSETFROM:-0600
TZOFFSETTO:-0500
TZNAME:CDT
DTSTART:20300310T080000
END:DAYLIGHT
BEGIN:STANDARD
TZOFFSETFROM:-0500
TZOFFSETTO:-0600
TZNAME:CST
DTSTART:20301103T070000
END:STANDARD
END:VTIMEZONE
BEGIN:VEVENT
DTSTART;TZID=America/Chicago:20290701T090000
DTEND;TZID=America/Chicago:20290701T100000
DTSTAMP:20260421T110818
CREATED:20251023T150259Z
LAST-MODIFIED:20251023T150259Z
UID:10000201-1877590800-1877594400@easthavenbaptistchurch.com
SUMMARY:Sunday School
DESCRIPTION:
URL:https://easthavenbaptistchurch.com/event/sunday-school/2029-07-01/
END:VEVENT
BEGIN:VEVENT
DTSTART;TZID=America/Chicago:20290701T103000
DTEND;TZID=America/Chicago:20290701T233000
DTSTAMP:20260421T110819
CREATED:20251023T150259Z
LAST-MODIFIED:20251023T150259Z
UID:10000462-1877596200-1877643000@easthavenbaptistchurch.com
SUMMARY:Sunday Morning Worship Service
DESCRIPTION:
URL:https://easthavenbaptistchurch.com/event/sunday-morning-worship-service/2029-07-01/
END:VEVENT
BEGIN:VEVENT
DTSTART;TZID=America/Chicago:20290702T100000
DTEND;TZID=America/Chicago:20290702T110000
DTSTAMP:20260421T110819
CREATED:20260112T163027Z
LAST-MODIFIED:20260112T163027Z
UID:10001085-1877680800-1877684400@easthavenbaptistchurch.com
SUMMARY:Women’s Bible Study
DESCRIPTION:
URL:https://easthavenbaptistchurch.com/event/womens-bible-study/2029-07-02/
END:VEVENT
BEGIN:VEVENT
DTSTART;TZID=America/Chicago:20290708T090000
DTEND;TZID=America/Chicago:20290708T100000
DTSTAMP:20260421T110819
CREATED:20251023T150259Z
LAST-MODIFIED:20251023T150259Z
UID:10000202-1878195600-1878199200@easthavenbaptistchurch.com
SUMMARY:Sunday School
DESCRIPTION:
URL:https://easthavenbaptistchurch.com/event/sunday-school/2029-07-08/
END:VEVENT
BEGIN:VEVENT
DTSTART;TZID=America/Chicago:20290708T103000
DTEND;TZID=America/Chicago:20290708T233000
DTSTAMP:20260421T110819
CREATED:20251023T150259Z
LAST-MODIFIED:20251023T150259Z
UID:10000463-1878201000-1878247800@easthavenbaptistchurch.com
SUMMARY:Sunday Morning Worship Service
DESCRIPTION:
URL:https://easthavenbaptistchurch.com/event/sunday-morning-worship-service/2029-07-08/
END:VEVENT
BEGIN:VEVENT
DTSTART;TZID=America/Chicago:20290709T100000
DTEND;TZID=America/Chicago:20290709T110000
DTSTAMP:20260421T110819
CREATED:20260112T163027Z
LAST-MODIFIED:20260112T163027Z
UID:10001086-1878285600-1878289200@easthavenbaptistchurch.com
SUMMARY:Women’s Bible Study
DESCRIPTION:
URL:https://easthavenbaptistchurch.com/event/womens-bible-study/2029-07-09/
END:VEVENT
BEGIN:VEVENT
DTSTART;TZID=America/Chicago:20290715T090000
DTEND;TZID=America/Chicago:20290715T100000
DTSTAMP:20260421T110819
CREATED:20251023T150259Z
LAST-MODIFIED:20251023T150259Z
UID:10000203-1878800400-1878804000@easthavenbaptistchurch.com
SUMMARY:Sunday School
DESCRIPTION:
URL:https://easthavenbaptistchurch.com/event/sunday-school/2029-07-15/
END:VEVENT
BEGIN:VEVENT
DTSTART;TZID=America/Chicago:20290715T103000
DTEND;TZID=America/Chicago:20290715T233000
DTSTAMP:20260421T110819
CREATED:20251023T150259Z
LAST-MODIFIED:20251023T150259Z
UID:10000464-1878805800-1878852600@easthavenbaptistchurch.com
SUMMARY:Sunday Morning Worship Service
DESCRIPTION:
URL:https://easthavenbaptistchurch.com/event/sunday-morning-worship-service/2029-07-15/
END:VEVENT
BEGIN:VEVENT
DTSTART;TZID=America/Chicago:20290716T100000
DTEND;TZID=America/Chicago:20290716T110000
DTSTAMP:20260421T110819
CREATED:20260112T163027Z
LAST-MODIFIED:20260112T163027Z
UID:10001087-1878890400-1878894000@easthavenbaptistchurch.com
SUMMARY:Women’s Bible Study
DESCRIPTION:
URL:https://easthavenbaptistchurch.com/event/womens-bible-study/2029-07-16/
END:VEVENT
BEGIN:VEVENT
DTSTART;TZID=America/Chicago:20290722T090000
DTEND;TZID=America/Chicago:20290722T100000
DTSTAMP:20260421T110819
CREATED:20251023T150259Z
LAST-MODIFIED:20251023T150259Z
UID:10000204-1879405200-1879408800@easthavenbaptistchurch.com
SUMMARY:Sunday School
DESCRIPTION:
URL:https://easthavenbaptistchurch.com/event/sunday-school/2029-07-22/
END:VEVENT
BEGIN:VEVENT
DTSTART;TZID=America/Chicago:20290722T103000
DTEND;TZID=America/Chicago:20290722T233000
DTSTAMP:20260421T110819
CREATED:20251023T150259Z
LAST-MODIFIED:20251023T150259Z
UID:10000465-1879410600-1879457400@easthavenbaptistchurch.com
SUMMARY:Sunday Morning Worship Service
DESCRIPTION:
URL:https://easthavenbaptistchurch.com/event/sunday-morning-worship-service/2029-07-22/
END:VEVENT
BEGIN:VEVENT
DTSTART;TZID=America/Chicago:20290723T100000
DTEND;TZID=America/Chicago:20290723T110000
DTSTAMP:20260421T110819
CREATED:20260112T163027Z
LAST-MODIFIED:20260112T163027Z
UID:10001088-1879495200-1879498800@easthavenbaptistchurch.com
SUMMARY:Women’s Bible Study
DESCRIPTION:
URL:https://easthavenbaptistchurch.com/event/womens-bible-study/2029-07-23/
END:VEVENT
BEGIN:VEVENT
DTSTART;TZID=America/Chicago:20290729T090000
DTEND;TZID=America/Chicago:20290729T100000
DTSTAMP:20260421T110819
CREATED:20251023T150259Z
LAST-MODIFIED:20251023T150259Z
UID:10000205-1880010000-1880013600@easthavenbaptistchurch.com
SUMMARY:Sunday School
DESCRIPTION:
URL:https://easthavenbaptistchurch.com/event/sunday-school/2029-07-29/
END:VEVENT
BEGIN:VEVENT
DTSTART;TZID=America/Chicago:20290729T103000
DTEND;TZID=America/Chicago:20290729T233000
DTSTAMP:20260421T110819
CREATED:20251023T150259Z
LAST-MODIFIED:20251023T150259Z
UID:10000466-1880015400-1880062200@easthavenbaptistchurch.com
SUMMARY:Sunday Morning Worship Service
DESCRIPTION:
URL:https://easthavenbaptistchurch.com/event/sunday-morning-worship-service/2029-07-29/
END:VEVENT
BEGIN:VEVENT
DTSTART;TZID=America/Chicago:20290730T100000
DTEND;TZID=America/Chicago:20290730T110000
DTSTAMP:20260421T110819
CREATED:20260112T163027Z
LAST-MODIFIED:20260112T163027Z
UID:10001089-1880100000-1880103600@easthavenbaptistchurch.com
SUMMARY:Women’s Bible Study
DESCRIPTION:
URL:https://easthavenbaptistchurch.com/event/womens-bible-study/2029-07-30/
END:VEVENT
END:VCALENDAR