BEGIN:VCALENDAR
VERSION:2.0
PRODID:-//Easthaven Baptist Church - ECPv6.15.9//NONSGML v1.0//EN
CALSCALE:GREGORIAN
METHOD:PUBLISH
X-ORIGINAL-URL:https://easthavenbaptistchurch.com
X-WR-CALDESC:Events for Easthaven Baptist Church
REFRESH-INTERVAL;VALUE=DURATION:PT1H
X-Robots-Tag:noindex
X-PUBLISHED-TTL:PT1H
BEGIN:VTIMEZONE
TZID:America/Chicago
BEGIN:DAYLIGHT
TZOFFSETFROM:-0600
TZOFFSETTO:-0500
TZNAME:CDT
DTSTART:20280312T080000
END:DAYLIGHT
BEGIN:STANDARD
TZOFFSETFROM:-0500
TZOFFSETTO:-0600
TZNAME:CST
DTSTART:20281105T070000
END:STANDARD
BEGIN:DAYLIGHT
TZOFFSETFROM:-0600
TZOFFSETTO:-0500
TZNAME:CDT
DTSTART:20290311T080000
END:DAYLIGHT
BEGIN:STANDARD
TZOFFSETFROM:-0500
TZOFFSETTO:-0600
TZNAME:CST
DTSTART:20291104T070000
END:STANDARD
BEGIN:DAYLIGHT
TZOFFSETFROM:-0600
TZOFFSETTO:-0500
TZNAME:CDT
DTSTART:20300310T080000
END:DAYLIGHT
BEGIN:STANDARD
TZOFFSETFROM:-0500
TZOFFSETTO:-0600
TZNAME:CST
DTSTART:20301103T070000
END:STANDARD
END:VTIMEZONE
BEGIN:VEVENT
DTSTART;TZID=America/Chicago:20290805T090000
DTEND;TZID=America/Chicago:20290805T100000
DTSTAMP:20260421T123748
CREATED:20251023T150259Z
LAST-MODIFIED:20251023T150259Z
UID:10000206-1880614800-1880618400@easthavenbaptistchurch.com
SUMMARY:Sunday School
DESCRIPTION:
URL:https://easthavenbaptistchurch.com/event/sunday-school/2029-08-05/
END:VEVENT
BEGIN:VEVENT
DTSTART;TZID=America/Chicago:20290805T103000
DTEND;TZID=America/Chicago:20290805T233000
DTSTAMP:20260421T123748
CREATED:20251023T150259Z
LAST-MODIFIED:20251023T150259Z
UID:10000467-1880620200-1880667000@easthavenbaptistchurch.com
SUMMARY:Sunday Morning Worship Service
DESCRIPTION:
URL:https://easthavenbaptistchurch.com/event/sunday-morning-worship-service/2029-08-05/
END:VEVENT
BEGIN:VEVENT
DTSTART;TZID=America/Chicago:20290806T100000
DTEND;TZID=America/Chicago:20290806T110000
DTSTAMP:20260421T123748
CREATED:20260112T163027Z
LAST-MODIFIED:20260112T163027Z
UID:10001090-1880704800-1880708400@easthavenbaptistchurch.com
SUMMARY:Women’s Bible Study
DESCRIPTION:
URL:https://easthavenbaptistchurch.com/event/womens-bible-study/2029-08-06/
END:VEVENT
BEGIN:VEVENT
DTSTART;TZID=America/Chicago:20290812T090000
DTEND;TZID=America/Chicago:20290812T100000
DTSTAMP:20260421T123748
CREATED:20251023T150259Z
LAST-MODIFIED:20251023T150259Z
UID:10000207-1881219600-1881223200@easthavenbaptistchurch.com
SUMMARY:Sunday School
DESCRIPTION:
URL:https://easthavenbaptistchurch.com/event/sunday-school/2029-08-12/
END:VEVENT
BEGIN:VEVENT
DTSTART;TZID=America/Chicago:20290812T103000
DTEND;TZID=America/Chicago:20290812T233000
DTSTAMP:20260421T123748
CREATED:20251023T150259Z
LAST-MODIFIED:20251023T150259Z
UID:10000468-1881225000-1881271800@easthavenbaptistchurch.com
SUMMARY:Sunday Morning Worship Service
DESCRIPTION:
URL:https://easthavenbaptistchurch.com/event/sunday-morning-worship-service/2029-08-12/
END:VEVENT
BEGIN:VEVENT
DTSTART;TZID=America/Chicago:20290813T100000
DTEND;TZID=America/Chicago:20290813T110000
DTSTAMP:20260421T123748
CREATED:20260112T163027Z
LAST-MODIFIED:20260112T163027Z
UID:10001091-1881309600-1881313200@easthavenbaptistchurch.com
SUMMARY:Women’s Bible Study
DESCRIPTION:
URL:https://easthavenbaptistchurch.com/event/womens-bible-study/2029-08-13/
END:VEVENT
BEGIN:VEVENT
DTSTART;TZID=America/Chicago:20290819T090000
DTEND;TZID=America/Chicago:20290819T100000
DTSTAMP:20260421T123748
CREATED:20251023T150259Z
LAST-MODIFIED:20251023T150259Z
UID:10000208-1881824400-1881828000@easthavenbaptistchurch.com
SUMMARY:Sunday School
DESCRIPTION:
URL:https://easthavenbaptistchurch.com/event/sunday-school/2029-08-19/
END:VEVENT
BEGIN:VEVENT
DTSTART;TZID=America/Chicago:20290819T103000
DTEND;TZID=America/Chicago:20290819T233000
DTSTAMP:20260421T123748
CREATED:20251023T150259Z
LAST-MODIFIED:20251023T150259Z
UID:10000469-1881829800-1881876600@easthavenbaptistchurch.com
SUMMARY:Sunday Morning Worship Service
DESCRIPTION:
URL:https://easthavenbaptistchurch.com/event/sunday-morning-worship-service/2029-08-19/
END:VEVENT
BEGIN:VEVENT
DTSTART;TZID=America/Chicago:20290820T100000
DTEND;TZID=America/Chicago:20290820T110000
DTSTAMP:20260421T123748
CREATED:20260112T163027Z
LAST-MODIFIED:20260112T163027Z
UID:10001092-1881914400-1881918000@easthavenbaptistchurch.com
SUMMARY:Women’s Bible Study
DESCRIPTION:
URL:https://easthavenbaptistchurch.com/event/womens-bible-study/2029-08-20/
END:VEVENT
BEGIN:VEVENT
DTSTART;TZID=America/Chicago:20290826T090000
DTEND;TZID=America/Chicago:20290826T100000
DTSTAMP:20260421T123748
CREATED:20251023T150259Z
LAST-MODIFIED:20251023T150259Z
UID:10000209-1882429200-1882432800@easthavenbaptistchurch.com
SUMMARY:Sunday School
DESCRIPTION:
URL:https://easthavenbaptistchurch.com/event/sunday-school/2029-08-26/
END:VEVENT
BEGIN:VEVENT
DTSTART;TZID=America/Chicago:20290826T103000
DTEND;TZID=America/Chicago:20290826T233000
DTSTAMP:20260421T123748
CREATED:20251023T150259Z
LAST-MODIFIED:20251023T150259Z
UID:10000470-1882434600-1882481400@easthavenbaptistchurch.com
SUMMARY:Sunday Morning Worship Service
DESCRIPTION:
URL:https://easthavenbaptistchurch.com/event/sunday-morning-worship-service/2029-08-26/
END:VEVENT
BEGIN:VEVENT
DTSTART;TZID=America/Chicago:20290827T100000
DTEND;TZID=America/Chicago:20290827T110000
DTSTAMP:20260421T123748
CREATED:20260112T163027Z
LAST-MODIFIED:20260112T163027Z
UID:10001093-1882519200-1882522800@easthavenbaptistchurch.com
SUMMARY:Women’s Bible Study
DESCRIPTION:
URL:https://easthavenbaptistchurch.com/event/womens-bible-study/2029-08-27/
END:VEVENT
END:VCALENDAR