BEGIN:VCALENDAR
VERSION:2.0
PRODID:-//Easthaven Baptist Church - ECPv6.15.9//NONSGML v1.0//EN
CALSCALE:GREGORIAN
METHOD:PUBLISH
X-ORIGINAL-URL:https://easthavenbaptistchurch.com
X-WR-CALDESC:Events for Easthaven Baptist Church
REFRESH-INTERVAL;VALUE=DURATION:PT1H
X-Robots-Tag:noindex
X-PUBLISHED-TTL:PT1H
BEGIN:VTIMEZONE
TZID:America/Chicago
BEGIN:DAYLIGHT
TZOFFSETFROM:-0600
TZOFFSETTO:-0500
TZNAME:CDT
DTSTART:20280312T080000
END:DAYLIGHT
BEGIN:STANDARD
TZOFFSETFROM:-0500
TZOFFSETTO:-0600
TZNAME:CST
DTSTART:20281105T070000
END:STANDARD
BEGIN:DAYLIGHT
TZOFFSETFROM:-0600
TZOFFSETTO:-0500
TZNAME:CDT
DTSTART:20290311T080000
END:DAYLIGHT
BEGIN:STANDARD
TZOFFSETFROM:-0500
TZOFFSETTO:-0600
TZNAME:CST
DTSTART:20291104T070000
END:STANDARD
BEGIN:DAYLIGHT
TZOFFSETFROM:-0600
TZOFFSETTO:-0500
TZNAME:CDT
DTSTART:20300310T080000
END:DAYLIGHT
BEGIN:STANDARD
TZOFFSETFROM:-0500
TZOFFSETTO:-0600
TZNAME:CST
DTSTART:20301103T070000
END:STANDARD
END:VTIMEZONE
BEGIN:VEVENT
DTSTART;TZID=America/Chicago:20291001T100000
DTEND;TZID=America/Chicago:20291001T110000
DTSTAMP:20260421T152445
CREATED:20260112T163027Z
LAST-MODIFIED:20260112T163027Z
UID:10001098-1885543200-1885546800@easthavenbaptistchurch.com
SUMMARY:Women’s Bible Study
DESCRIPTION:
URL:https://easthavenbaptistchurch.com/event/womens-bible-study/2029-10-01/
END:VEVENT
BEGIN:VEVENT
DTSTART;TZID=America/Chicago:20291007T090000
DTEND;TZID=America/Chicago:20291007T100000
DTSTAMP:20260421T152445
CREATED:20251023T150259Z
LAST-MODIFIED:20251023T150259Z
UID:10000215-1886058000-1886061600@easthavenbaptistchurch.com
SUMMARY:Sunday School
DESCRIPTION:
URL:https://easthavenbaptistchurch.com/event/sunday-school/2029-10-07/
END:VEVENT
BEGIN:VEVENT
DTSTART;TZID=America/Chicago:20291007T103000
DTEND;TZID=America/Chicago:20291007T233000
DTSTAMP:20260421T152445
CREATED:20251023T150259Z
LAST-MODIFIED:20251023T150259Z
UID:10000476-1886063400-1886110200@easthavenbaptistchurch.com
SUMMARY:Sunday Morning Worship Service
DESCRIPTION:
URL:https://easthavenbaptistchurch.com/event/sunday-morning-worship-service/2029-10-07/
END:VEVENT
BEGIN:VEVENT
DTSTART;TZID=America/Chicago:20291008T100000
DTEND;TZID=America/Chicago:20291008T110000
DTSTAMP:20260421T152445
CREATED:20260112T163027Z
LAST-MODIFIED:20260112T163027Z
UID:10001099-1886148000-1886151600@easthavenbaptistchurch.com
SUMMARY:Women’s Bible Study
DESCRIPTION:
URL:https://easthavenbaptistchurch.com/event/womens-bible-study/2029-10-08/
END:VEVENT
BEGIN:VEVENT
DTSTART;TZID=America/Chicago:20291014T090000
DTEND;TZID=America/Chicago:20291014T100000
DTSTAMP:20260421T152445
CREATED:20251023T150259Z
LAST-MODIFIED:20251023T150259Z
UID:10000216-1886662800-1886666400@easthavenbaptistchurch.com
SUMMARY:Sunday School
DESCRIPTION:
URL:https://easthavenbaptistchurch.com/event/sunday-school/2029-10-14/
END:VEVENT
BEGIN:VEVENT
DTSTART;TZID=America/Chicago:20291014T103000
DTEND;TZID=America/Chicago:20291014T233000
DTSTAMP:20260421T152445
CREATED:20251023T150259Z
LAST-MODIFIED:20251023T150259Z
UID:10000477-1886668200-1886715000@easthavenbaptistchurch.com
SUMMARY:Sunday Morning Worship Service
DESCRIPTION:
URL:https://easthavenbaptistchurch.com/event/sunday-morning-worship-service/2029-10-14/
END:VEVENT
BEGIN:VEVENT
DTSTART;TZID=America/Chicago:20291015T100000
DTEND;TZID=America/Chicago:20291015T110000
DTSTAMP:20260421T152445
CREATED:20260112T163027Z
LAST-MODIFIED:20260112T163027Z
UID:10001100-1886752800-1886756400@easthavenbaptistchurch.com
SUMMARY:Women’s Bible Study
DESCRIPTION:
URL:https://easthavenbaptistchurch.com/event/womens-bible-study/2029-10-15/
END:VEVENT
BEGIN:VEVENT
DTSTART;TZID=America/Chicago:20291021T090000
DTEND;TZID=America/Chicago:20291021T100000
DTSTAMP:20260421T152445
CREATED:20251023T150259Z
LAST-MODIFIED:20251023T150259Z
UID:10000217-1887267600-1887271200@easthavenbaptistchurch.com
SUMMARY:Sunday School
DESCRIPTION:
URL:https://easthavenbaptistchurch.com/event/sunday-school/2029-10-21/
END:VEVENT
BEGIN:VEVENT
DTSTART;TZID=America/Chicago:20291021T103000
DTEND;TZID=America/Chicago:20291021T233000
DTSTAMP:20260421T152445
CREATED:20251023T150259Z
LAST-MODIFIED:20251023T150259Z
UID:10000478-1887273000-1887319800@easthavenbaptistchurch.com
SUMMARY:Sunday Morning Worship Service
DESCRIPTION:
URL:https://easthavenbaptistchurch.com/event/sunday-morning-worship-service/2029-10-21/
END:VEVENT
BEGIN:VEVENT
DTSTART;TZID=America/Chicago:20291022T100000
DTEND;TZID=America/Chicago:20291022T110000
DTSTAMP:20260421T152445
CREATED:20260112T163027Z
LAST-MODIFIED:20260112T163027Z
UID:10001101-1887357600-1887361200@easthavenbaptistchurch.com
SUMMARY:Women’s Bible Study
DESCRIPTION:
URL:https://easthavenbaptistchurch.com/event/womens-bible-study/2029-10-22/
END:VEVENT
BEGIN:VEVENT
DTSTART;TZID=America/Chicago:20291028T090000
DTEND;TZID=America/Chicago:20291028T100000
DTSTAMP:20260421T152445
CREATED:20251023T150259Z
LAST-MODIFIED:20251023T150259Z
UID:10000218-1887872400-1887876000@easthavenbaptistchurch.com
SUMMARY:Sunday School
DESCRIPTION:
URL:https://easthavenbaptistchurch.com/event/sunday-school/2029-10-28/
END:VEVENT
BEGIN:VEVENT
DTSTART;TZID=America/Chicago:20291028T103000
DTEND;TZID=America/Chicago:20291028T233000
DTSTAMP:20260421T152445
CREATED:20251023T150259Z
LAST-MODIFIED:20251023T150259Z
UID:10000479-1887877800-1887924600@easthavenbaptistchurch.com
SUMMARY:Sunday Morning Worship Service
DESCRIPTION:
URL:https://easthavenbaptistchurch.com/event/sunday-morning-worship-service/2029-10-28/
END:VEVENT
BEGIN:VEVENT
DTSTART;TZID=America/Chicago:20291029T100000
DTEND;TZID=America/Chicago:20291029T110000
DTSTAMP:20260421T152445
CREATED:20260112T163027Z
LAST-MODIFIED:20260112T163027Z
UID:10001102-1887962400-1887966000@easthavenbaptistchurch.com
SUMMARY:Women’s Bible Study
DESCRIPTION:
URL:https://easthavenbaptistchurch.com/event/womens-bible-study/2029-10-29/
END:VEVENT
END:VCALENDAR