BEGIN:VCALENDAR
VERSION:2.0
PRODID:-//Easthaven Baptist Church - ECPv6.15.9//NONSGML v1.0//EN
CALSCALE:GREGORIAN
METHOD:PUBLISH
X-ORIGINAL-URL:https://easthavenbaptistchurch.com
X-WR-CALDESC:Events for Easthaven Baptist Church
REFRESH-INTERVAL;VALUE=DURATION:PT1H
X-Robots-Tag:noindex
X-PUBLISHED-TTL:PT1H
BEGIN:VTIMEZONE
TZID:America/Chicago
BEGIN:DAYLIGHT
TZOFFSETFROM:-0600
TZOFFSETTO:-0500
TZNAME:CDT
DTSTART:20290311T080000
END:DAYLIGHT
BEGIN:STANDARD
TZOFFSETFROM:-0500
TZOFFSETTO:-0600
TZNAME:CST
DTSTART:20291104T070000
END:STANDARD
BEGIN:DAYLIGHT
TZOFFSETFROM:-0600
TZOFFSETTO:-0500
TZNAME:CDT
DTSTART:20300310T080000
END:DAYLIGHT
BEGIN:STANDARD
TZOFFSETFROM:-0500
TZOFFSETTO:-0600
TZNAME:CST
DTSTART:20301103T070000
END:STANDARD
BEGIN:DAYLIGHT
TZOFFSETFROM:-0600
TZOFFSETTO:-0500
TZNAME:CDT
DTSTART:20310309T080000
END:DAYLIGHT
BEGIN:STANDARD
TZOFFSETFROM:-0500
TZOFFSETTO:-0600
TZNAME:CST
DTSTART:20311102T070000
END:STANDARD
END:VTIMEZONE
BEGIN:VEVENT
DTSTART;TZID=America/Chicago:20300303T090000
DTEND;TZID=America/Chicago:20300303T100000
DTSTAMP:20260421T224211
CREATED:20251023T150259Z
LAST-MODIFIED:20251023T150259Z
UID:10000236-1898758800-1898762400@easthavenbaptistchurch.com
SUMMARY:Sunday School
DESCRIPTION:
URL:https://easthavenbaptistchurch.com/event/sunday-school/2030-03-03/
END:VEVENT
BEGIN:VEVENT
DTSTART;TZID=America/Chicago:20300303T103000
DTEND;TZID=America/Chicago:20300303T233000
DTSTAMP:20260421T224211
CREATED:20251023T150259Z
LAST-MODIFIED:20251023T150259Z
UID:10000497-1898764200-1898811000@easthavenbaptistchurch.com
SUMMARY:Sunday Morning Worship Service
DESCRIPTION:
URL:https://easthavenbaptistchurch.com/event/sunday-morning-worship-service/2030-03-03/
END:VEVENT
BEGIN:VEVENT
DTSTART;TZID=America/Chicago:20300304T100000
DTEND;TZID=America/Chicago:20300304T110000
DTSTAMP:20260421T224211
CREATED:20260112T163027Z
LAST-MODIFIED:20260112T163027Z
UID:10001120-1898848800-1898852400@easthavenbaptistchurch.com
SUMMARY:Women’s Bible Study
DESCRIPTION:
URL:https://easthavenbaptistchurch.com/event/womens-bible-study/2030-03-04/
END:VEVENT
BEGIN:VEVENT
DTSTART;TZID=America/Chicago:20300310T090000
DTEND;TZID=America/Chicago:20300310T100000
DTSTAMP:20260421T224211
CREATED:20251023T150259Z
LAST-MODIFIED:20251023T150259Z
UID:10000237-1899363600-1899367200@easthavenbaptistchurch.com
SUMMARY:Sunday School
DESCRIPTION:
URL:https://easthavenbaptistchurch.com/event/sunday-school/2030-03-10/
END:VEVENT
BEGIN:VEVENT
DTSTART;TZID=America/Chicago:20300310T103000
DTEND;TZID=America/Chicago:20300310T233000
DTSTAMP:20260421T224211
CREATED:20251023T150259Z
LAST-MODIFIED:20251023T150259Z
UID:10000498-1899369000-1899415800@easthavenbaptistchurch.com
SUMMARY:Sunday Morning Worship Service
DESCRIPTION:
URL:https://easthavenbaptistchurch.com/event/sunday-morning-worship-service/2030-03-10/
END:VEVENT
BEGIN:VEVENT
DTSTART;TZID=America/Chicago:20300311T100000
DTEND;TZID=America/Chicago:20300311T110000
DTSTAMP:20260421T224211
CREATED:20260112T163027Z
LAST-MODIFIED:20260112T163027Z
UID:10001121-1899453600-1899457200@easthavenbaptistchurch.com
SUMMARY:Women’s Bible Study
DESCRIPTION:
URL:https://easthavenbaptistchurch.com/event/womens-bible-study/2030-03-11/
END:VEVENT
BEGIN:VEVENT
DTSTART;TZID=America/Chicago:20300317T090000
DTEND;TZID=America/Chicago:20300317T100000
DTSTAMP:20260421T224211
CREATED:20251023T150259Z
LAST-MODIFIED:20251023T150259Z
UID:10000238-1899968400-1899972000@easthavenbaptistchurch.com
SUMMARY:Sunday School
DESCRIPTION:
URL:https://easthavenbaptistchurch.com/event/sunday-school/2030-03-17/
END:VEVENT
BEGIN:VEVENT
DTSTART;TZID=America/Chicago:20300317T103000
DTEND;TZID=America/Chicago:20300317T233000
DTSTAMP:20260421T224211
CREATED:20251023T150259Z
LAST-MODIFIED:20251023T150259Z
UID:10000499-1899973800-1900020600@easthavenbaptistchurch.com
SUMMARY:Sunday Morning Worship Service
DESCRIPTION:
URL:https://easthavenbaptistchurch.com/event/sunday-morning-worship-service/2030-03-17/
END:VEVENT
BEGIN:VEVENT
DTSTART;TZID=America/Chicago:20300318T100000
DTEND;TZID=America/Chicago:20300318T110000
DTSTAMP:20260421T224211
CREATED:20260112T163027Z
LAST-MODIFIED:20260112T163027Z
UID:10001122-1900058400-1900062000@easthavenbaptistchurch.com
SUMMARY:Women’s Bible Study
DESCRIPTION:
URL:https://easthavenbaptistchurch.com/event/womens-bible-study/2030-03-18/
END:VEVENT
BEGIN:VEVENT
DTSTART;TZID=America/Chicago:20300324T090000
DTEND;TZID=America/Chicago:20300324T100000
DTSTAMP:20260421T224211
CREATED:20251023T150259Z
LAST-MODIFIED:20251023T150259Z
UID:10000239-1900573200-1900576800@easthavenbaptistchurch.com
SUMMARY:Sunday School
DESCRIPTION:
URL:https://easthavenbaptistchurch.com/event/sunday-school/2030-03-24/
END:VEVENT
BEGIN:VEVENT
DTSTART;TZID=America/Chicago:20300324T103000
DTEND;TZID=America/Chicago:20300324T233000
DTSTAMP:20260421T224211
CREATED:20251023T150259Z
LAST-MODIFIED:20251023T150259Z
UID:10000500-1900578600-1900625400@easthavenbaptistchurch.com
SUMMARY:Sunday Morning Worship Service
DESCRIPTION:
URL:https://easthavenbaptistchurch.com/event/sunday-morning-worship-service/2030-03-24/
END:VEVENT
BEGIN:VEVENT
DTSTART;TZID=America/Chicago:20300325T100000
DTEND;TZID=America/Chicago:20300325T110000
DTSTAMP:20260421T224211
CREATED:20260112T163027Z
LAST-MODIFIED:20260112T163027Z
UID:10001123-1900663200-1900666800@easthavenbaptistchurch.com
SUMMARY:Women’s Bible Study
DESCRIPTION:
URL:https://easthavenbaptistchurch.com/event/womens-bible-study/2030-03-25/
END:VEVENT
BEGIN:VEVENT
DTSTART;TZID=America/Chicago:20300331T090000
DTEND;TZID=America/Chicago:20300331T100000
DTSTAMP:20260421T224211
CREATED:20251023T150259Z
LAST-MODIFIED:20251023T150259Z
UID:10000240-1901178000-1901181600@easthavenbaptistchurch.com
SUMMARY:Sunday School
DESCRIPTION:
URL:https://easthavenbaptistchurch.com/event/sunday-school/2030-03-31/
END:VEVENT
BEGIN:VEVENT
DTSTART;TZID=America/Chicago:20300331T103000
DTEND;TZID=America/Chicago:20300331T233000
DTSTAMP:20260421T224211
CREATED:20251023T150259Z
LAST-MODIFIED:20251023T150259Z
UID:10000501-1901183400-1901230200@easthavenbaptistchurch.com
SUMMARY:Sunday Morning Worship Service
DESCRIPTION:
URL:https://easthavenbaptistchurch.com/event/sunday-morning-worship-service/2030-03-31/
END:VEVENT
END:VCALENDAR