BEGIN:VCALENDAR
VERSION:2.0
PRODID:-//Easthaven Baptist Church - ECPv6.15.9//NONSGML v1.0//EN
CALSCALE:GREGORIAN
METHOD:PUBLISH
X-WR-CALNAME:Easthaven Baptist Church
X-ORIGINAL-URL:https://easthavenbaptistchurch.com
X-WR-CALDESC:Events for Easthaven Baptist Church
REFRESH-INTERVAL;VALUE=DURATION:PT1H
X-Robots-Tag:noindex
X-PUBLISHED-TTL:PT1H
BEGIN:VTIMEZONE
TZID:America/Chicago
BEGIN:DAYLIGHT
TZOFFSETFROM:-0600
TZOFFSETTO:-0500
TZNAME:CDT
DTSTART:20290311T080000
END:DAYLIGHT
BEGIN:STANDARD
TZOFFSETFROM:-0500
TZOFFSETTO:-0600
TZNAME:CST
DTSTART:20291104T070000
END:STANDARD
BEGIN:DAYLIGHT
TZOFFSETFROM:-0600
TZOFFSETTO:-0500
TZNAME:CDT
DTSTART:20300310T080000
END:DAYLIGHT
BEGIN:STANDARD
TZOFFSETFROM:-0500
TZOFFSETTO:-0600
TZNAME:CST
DTSTART:20301103T070000
END:STANDARD
BEGIN:DAYLIGHT
TZOFFSETFROM:-0600
TZOFFSETTO:-0500
TZNAME:CDT
DTSTART:20310309T080000
END:DAYLIGHT
BEGIN:STANDARD
TZOFFSETFROM:-0500
TZOFFSETTO:-0600
TZNAME:CST
DTSTART:20311102T070000
END:STANDARD
END:VTIMEZONE
BEGIN:VEVENT
DTSTART;TZID=America/Chicago:20300401T100000
DTEND;TZID=America/Chicago:20300401T110000
DTSTAMP:20260422T000652
CREATED:20260112T163027Z
LAST-MODIFIED:20260112T163027Z
UID:10001124-1901268000-1901271600@easthavenbaptistchurch.com
SUMMARY:Women’s Bible Study
DESCRIPTION:
URL:https://easthavenbaptistchurch.com/event/womens-bible-study/2030-04-01/
END:VEVENT
BEGIN:VEVENT
DTSTART;TZID=America/Chicago:20300407T090000
DTEND;TZID=America/Chicago:20300407T100000
DTSTAMP:20260422T000652
CREATED:20251023T150259Z
LAST-MODIFIED:20251023T150259Z
UID:10000241-1901782800-1901786400@easthavenbaptistchurch.com
SUMMARY:Sunday School
DESCRIPTION:
URL:https://easthavenbaptistchurch.com/event/sunday-school/2030-04-07/
END:VEVENT
BEGIN:VEVENT
DTSTART;TZID=America/Chicago:20300407T103000
DTEND;TZID=America/Chicago:20300407T233000
DTSTAMP:20260422T000652
CREATED:20251023T150259Z
LAST-MODIFIED:20251023T150259Z
UID:10000502-1901788200-1901835000@easthavenbaptistchurch.com
SUMMARY:Sunday Morning Worship Service
DESCRIPTION:
URL:https://easthavenbaptistchurch.com/event/sunday-morning-worship-service/2030-04-07/
END:VEVENT
BEGIN:VEVENT
DTSTART;TZID=America/Chicago:20300408T100000
DTEND;TZID=America/Chicago:20300408T110000
DTSTAMP:20260422T000652
CREATED:20260112T163027Z
LAST-MODIFIED:20260112T163027Z
UID:10001125-1901872800-1901876400@easthavenbaptistchurch.com
SUMMARY:Women’s Bible Study
DESCRIPTION:
URL:https://easthavenbaptistchurch.com/event/womens-bible-study/2030-04-08/
END:VEVENT
BEGIN:VEVENT
DTSTART;TZID=America/Chicago:20300414T090000
DTEND;TZID=America/Chicago:20300414T100000
DTSTAMP:20260422T000652
CREATED:20251023T150259Z
LAST-MODIFIED:20251023T150259Z
UID:10000242-1902387600-1902391200@easthavenbaptistchurch.com
SUMMARY:Sunday School
DESCRIPTION:
URL:https://easthavenbaptistchurch.com/event/sunday-school/2030-04-14/
END:VEVENT
BEGIN:VEVENT
DTSTART;TZID=America/Chicago:20300414T103000
DTEND;TZID=America/Chicago:20300414T233000
DTSTAMP:20260422T000652
CREATED:20251023T150259Z
LAST-MODIFIED:20251023T150259Z
UID:10000503-1902393000-1902439800@easthavenbaptistchurch.com
SUMMARY:Sunday Morning Worship Service
DESCRIPTION:
URL:https://easthavenbaptistchurch.com/event/sunday-morning-worship-service/2030-04-14/
END:VEVENT
BEGIN:VEVENT
DTSTART;TZID=America/Chicago:20300415T100000
DTEND;TZID=America/Chicago:20300415T110000
DTSTAMP:20260422T000652
CREATED:20260112T163027Z
LAST-MODIFIED:20260112T163027Z
UID:10001126-1902477600-1902481200@easthavenbaptistchurch.com
SUMMARY:Women’s Bible Study
DESCRIPTION:
URL:https://easthavenbaptistchurch.com/event/womens-bible-study/2030-04-15/
END:VEVENT
BEGIN:VEVENT
DTSTART;TZID=America/Chicago:20300421T090000
DTEND;TZID=America/Chicago:20300421T100000
DTSTAMP:20260422T000652
CREATED:20251023T150259Z
LAST-MODIFIED:20251023T150259Z
UID:10000243-1902992400-1902996000@easthavenbaptistchurch.com
SUMMARY:Sunday School
DESCRIPTION:
URL:https://easthavenbaptistchurch.com/event/sunday-school/2030-04-21/
END:VEVENT
BEGIN:VEVENT
DTSTART;TZID=America/Chicago:20300421T103000
DTEND;TZID=America/Chicago:20300421T233000
DTSTAMP:20260422T000652
CREATED:20251023T150259Z
LAST-MODIFIED:20251023T150259Z
UID:10000504-1902997800-1903044600@easthavenbaptistchurch.com
SUMMARY:Sunday Morning Worship Service
DESCRIPTION:
URL:https://easthavenbaptistchurch.com/event/sunday-morning-worship-service/2030-04-21/
END:VEVENT
BEGIN:VEVENT
DTSTART;TZID=America/Chicago:20300422T100000
DTEND;TZID=America/Chicago:20300422T110000
DTSTAMP:20260422T000652
CREATED:20260112T163027Z
LAST-MODIFIED:20260112T163027Z
UID:10001127-1903082400-1903086000@easthavenbaptistchurch.com
SUMMARY:Women’s Bible Study
DESCRIPTION:
URL:https://easthavenbaptistchurch.com/event/womens-bible-study/2030-04-22/
END:VEVENT
BEGIN:VEVENT
DTSTART;TZID=America/Chicago:20300428T090000
DTEND;TZID=America/Chicago:20300428T100000
DTSTAMP:20260422T000652
CREATED:20251023T150259Z
LAST-MODIFIED:20251023T150259Z
UID:10000244-1903597200-1903600800@easthavenbaptistchurch.com
SUMMARY:Sunday School
DESCRIPTION:
URL:https://easthavenbaptistchurch.com/event/sunday-school/2030-04-28/
END:VEVENT
BEGIN:VEVENT
DTSTART;TZID=America/Chicago:20300428T103000
DTEND;TZID=America/Chicago:20300428T233000
DTSTAMP:20260422T000652
CREATED:20251023T150259Z
LAST-MODIFIED:20251023T150259Z
UID:10000505-1903602600-1903649400@easthavenbaptistchurch.com
SUMMARY:Sunday Morning Worship Service
DESCRIPTION:
URL:https://easthavenbaptistchurch.com/event/sunday-morning-worship-service/2030-04-28/
END:VEVENT
BEGIN:VEVENT
DTSTART;TZID=America/Chicago:20300429T100000
DTEND;TZID=America/Chicago:20300429T110000
DTSTAMP:20260422T000652
CREATED:20260112T163027Z
LAST-MODIFIED:20260112T163027Z
UID:10001128-1903687200-1903690800@easthavenbaptistchurch.com
SUMMARY:Women’s Bible Study
DESCRIPTION:
URL:https://easthavenbaptistchurch.com/event/womens-bible-study/2030-04-29/
END:VEVENT
END:VCALENDAR