BEGIN:VCALENDAR
VERSION:2.0
PRODID:-//Easthaven Baptist Church - ECPv6.15.9//NONSGML v1.0//EN
CALSCALE:GREGORIAN
METHOD:PUBLISH
X-WR-CALNAME:Easthaven Baptist Church
X-ORIGINAL-URL:https://easthavenbaptistchurch.com
X-WR-CALDESC:Events for Easthaven Baptist Church
REFRESH-INTERVAL;VALUE=DURATION:PT1H
X-Robots-Tag:noindex
X-PUBLISHED-TTL:PT1H
BEGIN:VTIMEZONE
TZID:America/Chicago
BEGIN:DAYLIGHT
TZOFFSETFROM:-0600
TZOFFSETTO:-0500
TZNAME:CDT
DTSTART:20290311T080000
END:DAYLIGHT
BEGIN:STANDARD
TZOFFSETFROM:-0500
TZOFFSETTO:-0600
TZNAME:CST
DTSTART:20291104T070000
END:STANDARD
BEGIN:DAYLIGHT
TZOFFSETFROM:-0600
TZOFFSETTO:-0500
TZNAME:CDT
DTSTART:20300310T080000
END:DAYLIGHT
BEGIN:STANDARD
TZOFFSETFROM:-0500
TZOFFSETTO:-0600
TZNAME:CST
DTSTART:20301103T070000
END:STANDARD
BEGIN:DAYLIGHT
TZOFFSETFROM:-0600
TZOFFSETTO:-0500
TZNAME:CDT
DTSTART:20310309T080000
END:DAYLIGHT
BEGIN:STANDARD
TZOFFSETFROM:-0500
TZOFFSETTO:-0600
TZNAME:CST
DTSTART:20311102T070000
END:STANDARD
END:VTIMEZONE
BEGIN:VEVENT
DTSTART;TZID=America/Chicago:20300505T090000
DTEND;TZID=America/Chicago:20300505T100000
DTSTAMP:20260422T013116
CREATED:20251023T150259Z
LAST-MODIFIED:20251023T150259Z
UID:10000245-1904202000-1904205600@easthavenbaptistchurch.com
SUMMARY:Sunday School
DESCRIPTION:
URL:https://easthavenbaptistchurch.com/event/sunday-school/2030-05-05/
END:VEVENT
BEGIN:VEVENT
DTSTART;TZID=America/Chicago:20300505T103000
DTEND;TZID=America/Chicago:20300505T233000
DTSTAMP:20260422T013116
CREATED:20251023T150259Z
LAST-MODIFIED:20251023T150259Z
UID:10000506-1904207400-1904254200@easthavenbaptistchurch.com
SUMMARY:Sunday Morning Worship Service
DESCRIPTION:
URL:https://easthavenbaptistchurch.com/event/sunday-morning-worship-service/2030-05-05/
END:VEVENT
BEGIN:VEVENT
DTSTART;TZID=America/Chicago:20300506T100000
DTEND;TZID=America/Chicago:20300506T110000
DTSTAMP:20260422T013116
CREATED:20260112T163027Z
LAST-MODIFIED:20260112T163027Z
UID:10001129-1904292000-1904295600@easthavenbaptistchurch.com
SUMMARY:Women’s Bible Study
DESCRIPTION:
URL:https://easthavenbaptistchurch.com/event/womens-bible-study/2030-05-06/
END:VEVENT
BEGIN:VEVENT
DTSTART;TZID=America/Chicago:20300512T090000
DTEND;TZID=America/Chicago:20300512T100000
DTSTAMP:20260422T013116
CREATED:20251023T150259Z
LAST-MODIFIED:20251023T150259Z
UID:10000246-1904806800-1904810400@easthavenbaptistchurch.com
SUMMARY:Sunday School
DESCRIPTION:
URL:https://easthavenbaptistchurch.com/event/sunday-school/2030-05-12/
END:VEVENT
BEGIN:VEVENT
DTSTART;TZID=America/Chicago:20300512T103000
DTEND;TZID=America/Chicago:20300512T233000
DTSTAMP:20260422T013116
CREATED:20251023T150259Z
LAST-MODIFIED:20251023T150259Z
UID:10000507-1904812200-1904859000@easthavenbaptistchurch.com
SUMMARY:Sunday Morning Worship Service
DESCRIPTION:
URL:https://easthavenbaptistchurch.com/event/sunday-morning-worship-service/2030-05-12/
END:VEVENT
BEGIN:VEVENT
DTSTART;TZID=America/Chicago:20300513T100000
DTEND;TZID=America/Chicago:20300513T110000
DTSTAMP:20260422T013116
CREATED:20260112T163027Z
LAST-MODIFIED:20260112T163027Z
UID:10001130-1904896800-1904900400@easthavenbaptistchurch.com
SUMMARY:Women’s Bible Study
DESCRIPTION:
URL:https://easthavenbaptistchurch.com/event/womens-bible-study/2030-05-13/
END:VEVENT
BEGIN:VEVENT
DTSTART;TZID=America/Chicago:20300519T090000
DTEND;TZID=America/Chicago:20300519T100000
DTSTAMP:20260422T013116
CREATED:20251023T150259Z
LAST-MODIFIED:20251023T150259Z
UID:10000247-1905411600-1905415200@easthavenbaptistchurch.com
SUMMARY:Sunday School
DESCRIPTION:
URL:https://easthavenbaptistchurch.com/event/sunday-school/2030-05-19/
END:VEVENT
BEGIN:VEVENT
DTSTART;TZID=America/Chicago:20300519T103000
DTEND;TZID=America/Chicago:20300519T233000
DTSTAMP:20260422T013116
CREATED:20251023T150259Z
LAST-MODIFIED:20251023T150259Z
UID:10000508-1905417000-1905463800@easthavenbaptistchurch.com
SUMMARY:Sunday Morning Worship Service
DESCRIPTION:
URL:https://easthavenbaptistchurch.com/event/sunday-morning-worship-service/2030-05-19/
END:VEVENT
BEGIN:VEVENT
DTSTART;TZID=America/Chicago:20300520T100000
DTEND;TZID=America/Chicago:20300520T110000
DTSTAMP:20260422T013116
CREATED:20260112T163027Z
LAST-MODIFIED:20260112T163027Z
UID:10001131-1905501600-1905505200@easthavenbaptistchurch.com
SUMMARY:Women’s Bible Study
DESCRIPTION:
URL:https://easthavenbaptistchurch.com/event/womens-bible-study/2030-05-20/
END:VEVENT
BEGIN:VEVENT
DTSTART;TZID=America/Chicago:20300526T090000
DTEND;TZID=America/Chicago:20300526T100000
DTSTAMP:20260422T013116
CREATED:20251023T150259Z
LAST-MODIFIED:20251023T150259Z
UID:10000248-1906016400-1906020000@easthavenbaptistchurch.com
SUMMARY:Sunday School
DESCRIPTION:
URL:https://easthavenbaptistchurch.com/event/sunday-school/2030-05-26/
END:VEVENT
BEGIN:VEVENT
DTSTART;TZID=America/Chicago:20300526T103000
DTEND;TZID=America/Chicago:20300526T233000
DTSTAMP:20260422T013116
CREATED:20251023T150259Z
LAST-MODIFIED:20251023T150259Z
UID:10000509-1906021800-1906068600@easthavenbaptistchurch.com
SUMMARY:Sunday Morning Worship Service
DESCRIPTION:
URL:https://easthavenbaptistchurch.com/event/sunday-morning-worship-service/2030-05-26/
END:VEVENT
BEGIN:VEVENT
DTSTART;TZID=America/Chicago:20300527T100000
DTEND;TZID=America/Chicago:20300527T110000
DTSTAMP:20260422T013116
CREATED:20260112T163027Z
LAST-MODIFIED:20260112T163027Z
UID:10001132-1906106400-1906110000@easthavenbaptistchurch.com
SUMMARY:Women’s Bible Study
DESCRIPTION:
URL:https://easthavenbaptistchurch.com/event/womens-bible-study/2030-05-27/
END:VEVENT
END:VCALENDAR