BEGIN:VCALENDAR
VERSION:2.0
PRODID:-//Easthaven Baptist Church - ECPv6.15.9//NONSGML v1.0//EN
CALSCALE:GREGORIAN
METHOD:PUBLISH
X-ORIGINAL-URL:https://easthavenbaptistchurch.com
X-WR-CALDESC:Events for Easthaven Baptist Church
REFRESH-INTERVAL;VALUE=DURATION:PT1H
X-Robots-Tag:noindex
X-PUBLISHED-TTL:PT1H
BEGIN:VTIMEZONE
TZID:America/Chicago
BEGIN:DAYLIGHT
TZOFFSETFROM:-0600
TZOFFSETTO:-0500
TZNAME:CDT
DTSTART:20290311T080000
END:DAYLIGHT
BEGIN:STANDARD
TZOFFSETFROM:-0500
TZOFFSETTO:-0600
TZNAME:CST
DTSTART:20291104T070000
END:STANDARD
BEGIN:DAYLIGHT
TZOFFSETFROM:-0600
TZOFFSETTO:-0500
TZNAME:CDT
DTSTART:20300310T080000
END:DAYLIGHT
BEGIN:STANDARD
TZOFFSETFROM:-0500
TZOFFSETTO:-0600
TZNAME:CST
DTSTART:20301103T070000
END:STANDARD
BEGIN:DAYLIGHT
TZOFFSETFROM:-0600
TZOFFSETTO:-0500
TZNAME:CDT
DTSTART:20310309T080000
END:DAYLIGHT
BEGIN:STANDARD
TZOFFSETFROM:-0500
TZOFFSETTO:-0600
TZNAME:CST
DTSTART:20311102T070000
END:STANDARD
END:VTIMEZONE
BEGIN:VEVENT
DTSTART;TZID=America/Chicago:20300901T090000
DTEND;TZID=America/Chicago:20300901T100000
DTSTAMP:20260422T084412
CREATED:20251023T150259Z
LAST-MODIFIED:20251023T150259Z
UID:10000262-1914483600-1914487200@easthavenbaptistchurch.com
SUMMARY:Sunday School
DESCRIPTION:
URL:https://easthavenbaptistchurch.com/event/sunday-school/2030-09-01/
END:VEVENT
BEGIN:VEVENT
DTSTART;TZID=America/Chicago:20300901T103000
DTEND;TZID=America/Chicago:20300901T233000
DTSTAMP:20260422T084412
CREATED:20251023T150259Z
LAST-MODIFIED:20251023T150259Z
UID:10000523-1914489000-1914535800@easthavenbaptistchurch.com
SUMMARY:Sunday Morning Worship Service
DESCRIPTION:
URL:https://easthavenbaptistchurch.com/event/sunday-morning-worship-service/2030-09-01/
END:VEVENT
BEGIN:VEVENT
DTSTART;TZID=America/Chicago:20300902T100000
DTEND;TZID=America/Chicago:20300902T110000
DTSTAMP:20260422T084412
CREATED:20260112T163027Z
LAST-MODIFIED:20260112T163027Z
UID:10001146-1914573600-1914577200@easthavenbaptistchurch.com
SUMMARY:Women’s Bible Study
DESCRIPTION:
URL:https://easthavenbaptistchurch.com/event/womens-bible-study/2030-09-02/
END:VEVENT
BEGIN:VEVENT
DTSTART;TZID=America/Chicago:20300908T090000
DTEND;TZID=America/Chicago:20300908T100000
DTSTAMP:20260422T084412
CREATED:20251023T150259Z
LAST-MODIFIED:20251023T150259Z
UID:10000263-1915088400-1915092000@easthavenbaptistchurch.com
SUMMARY:Sunday School
DESCRIPTION:
URL:https://easthavenbaptistchurch.com/event/sunday-school/2030-09-08/
END:VEVENT
BEGIN:VEVENT
DTSTART;TZID=America/Chicago:20300908T103000
DTEND;TZID=America/Chicago:20300908T233000
DTSTAMP:20260422T084412
CREATED:20251023T150259Z
LAST-MODIFIED:20251023T150259Z
UID:10000524-1915093800-1915140600@easthavenbaptistchurch.com
SUMMARY:Sunday Morning Worship Service
DESCRIPTION:
URL:https://easthavenbaptistchurch.com/event/sunday-morning-worship-service/2030-09-08/
END:VEVENT
BEGIN:VEVENT
DTSTART;TZID=America/Chicago:20300909T100000
DTEND;TZID=America/Chicago:20300909T110000
DTSTAMP:20260422T084412
CREATED:20260112T163027Z
LAST-MODIFIED:20260112T163027Z
UID:10001147-1915178400-1915182000@easthavenbaptistchurch.com
SUMMARY:Women’s Bible Study
DESCRIPTION:
URL:https://easthavenbaptistchurch.com/event/womens-bible-study/2030-09-09/
END:VEVENT
BEGIN:VEVENT
DTSTART;TZID=America/Chicago:20300915T090000
DTEND;TZID=America/Chicago:20300915T100000
DTSTAMP:20260422T084412
CREATED:20251023T150259Z
LAST-MODIFIED:20251023T150259Z
UID:10000264-1915693200-1915696800@easthavenbaptistchurch.com
SUMMARY:Sunday School
DESCRIPTION:
URL:https://easthavenbaptistchurch.com/event/sunday-school/2030-09-15/
END:VEVENT
BEGIN:VEVENT
DTSTART;TZID=America/Chicago:20300915T103000
DTEND;TZID=America/Chicago:20300915T233000
DTSTAMP:20260422T084412
CREATED:20251023T150259Z
LAST-MODIFIED:20251023T150259Z
UID:10000525-1915698600-1915745400@easthavenbaptistchurch.com
SUMMARY:Sunday Morning Worship Service
DESCRIPTION:
URL:https://easthavenbaptistchurch.com/event/sunday-morning-worship-service/2030-09-15/
END:VEVENT
BEGIN:VEVENT
DTSTART;TZID=America/Chicago:20300916T100000
DTEND;TZID=America/Chicago:20300916T110000
DTSTAMP:20260422T084412
CREATED:20260112T163027Z
LAST-MODIFIED:20260112T163027Z
UID:10001148-1915783200-1915786800@easthavenbaptistchurch.com
SUMMARY:Women’s Bible Study
DESCRIPTION:
URL:https://easthavenbaptistchurch.com/event/womens-bible-study/2030-09-16/
END:VEVENT
BEGIN:VEVENT
DTSTART;TZID=America/Chicago:20300922T090000
DTEND;TZID=America/Chicago:20300922T100000
DTSTAMP:20260422T084412
CREATED:20251023T150259Z
LAST-MODIFIED:20251023T150259Z
UID:10000265-1916298000-1916301600@easthavenbaptistchurch.com
SUMMARY:Sunday School
DESCRIPTION:
URL:https://easthavenbaptistchurch.com/event/sunday-school/2030-09-22/
END:VEVENT
BEGIN:VEVENT
DTSTART;TZID=America/Chicago:20300922T103000
DTEND;TZID=America/Chicago:20300922T233000
DTSTAMP:20260422T084412
CREATED:20251023T150259Z
LAST-MODIFIED:20251023T150259Z
UID:10000526-1916303400-1916350200@easthavenbaptistchurch.com
SUMMARY:Sunday Morning Worship Service
DESCRIPTION:
URL:https://easthavenbaptistchurch.com/event/sunday-morning-worship-service/2030-09-22/
END:VEVENT
BEGIN:VEVENT
DTSTART;TZID=America/Chicago:20300923T100000
DTEND;TZID=America/Chicago:20300923T110000
DTSTAMP:20260422T084412
CREATED:20260112T163027Z
LAST-MODIFIED:20260112T163027Z
UID:10001149-1916388000-1916391600@easthavenbaptistchurch.com
SUMMARY:Women’s Bible Study
DESCRIPTION:
URL:https://easthavenbaptistchurch.com/event/womens-bible-study/2030-09-23/
END:VEVENT
BEGIN:VEVENT
DTSTART;TZID=America/Chicago:20300929T090000
DTEND;TZID=America/Chicago:20300929T100000
DTSTAMP:20260422T084412
CREATED:20251023T150259Z
LAST-MODIFIED:20251023T150259Z
UID:10000266-1916902800-1916906400@easthavenbaptistchurch.com
SUMMARY:Sunday School
DESCRIPTION:
URL:https://easthavenbaptistchurch.com/event/sunday-school/2030-09-29/
END:VEVENT
BEGIN:VEVENT
DTSTART;TZID=America/Chicago:20300929T103000
DTEND;TZID=America/Chicago:20300929T233000
DTSTAMP:20260422T084412
CREATED:20251023T150259Z
LAST-MODIFIED:20251023T150259Z
UID:10000527-1916908200-1916955000@easthavenbaptistchurch.com
SUMMARY:Sunday Morning Worship Service
DESCRIPTION:
URL:https://easthavenbaptistchurch.com/event/sunday-morning-worship-service/2030-09-29/
END:VEVENT
BEGIN:VEVENT
DTSTART;TZID=America/Chicago:20300930T100000
DTEND;TZID=America/Chicago:20300930T110000
DTSTAMP:20260422T084412
CREATED:20260112T163027Z
LAST-MODIFIED:20260112T163027Z
UID:10001150-1916992800-1916996400@easthavenbaptistchurch.com
SUMMARY:Women’s Bible Study
DESCRIPTION:
URL:https://easthavenbaptistchurch.com/event/womens-bible-study/2030-09-30/
END:VEVENT
END:VCALENDAR