BEGIN:VCALENDAR
VERSION:2.0
PRODID:-//Easthaven Baptist Church - ECPv6.15.9//NONSGML v1.0//EN
CALSCALE:GREGORIAN
METHOD:PUBLISH
X-ORIGINAL-URL:https://easthavenbaptistchurch.com
X-WR-CALDESC:Events for Easthaven Baptist Church
REFRESH-INTERVAL;VALUE=DURATION:PT1H
X-Robots-Tag:noindex
X-PUBLISHED-TTL:PT1H
BEGIN:VTIMEZONE
TZID:America/Chicago
BEGIN:DAYLIGHT
TZOFFSETFROM:-0600
TZOFFSETTO:-0500
TZNAME:CDT
DTSTART:20290311T080000
END:DAYLIGHT
BEGIN:STANDARD
TZOFFSETFROM:-0500
TZOFFSETTO:-0600
TZNAME:CST
DTSTART:20291104T070000
END:STANDARD
BEGIN:DAYLIGHT
TZOFFSETFROM:-0600
TZOFFSETTO:-0500
TZNAME:CDT
DTSTART:20300310T080000
END:DAYLIGHT
BEGIN:STANDARD
TZOFFSETFROM:-0500
TZOFFSETTO:-0600
TZNAME:CST
DTSTART:20301103T070000
END:STANDARD
BEGIN:DAYLIGHT
TZOFFSETFROM:-0600
TZOFFSETTO:-0500
TZNAME:CDT
DTSTART:20310309T080000
END:DAYLIGHT
BEGIN:STANDARD
TZOFFSETFROM:-0500
TZOFFSETTO:-0600
TZNAME:CST
DTSTART:20311102T070000
END:STANDARD
END:VTIMEZONE
BEGIN:VEVENT
DTSTART;TZID=America/Chicago:20301007T100000
DTEND;TZID=America/Chicago:20301007T110000
DTSTAMP:20260422T101041
CREATED:20260112T163027Z
LAST-MODIFIED:20260112T163027Z
UID:10001151-1917597600-1917601200@easthavenbaptistchurch.com
SUMMARY:Women’s Bible Study
DESCRIPTION:
URL:https://easthavenbaptistchurch.com/event/womens-bible-study/2030-10-07/
END:VEVENT
BEGIN:VEVENT
DTSTART;TZID=America/Chicago:20301014T100000
DTEND;TZID=America/Chicago:20301014T110000
DTSTAMP:20260422T101041
CREATED:20260112T163027Z
LAST-MODIFIED:20260112T163027Z
UID:10001152-1918202400-1918206000@easthavenbaptistchurch.com
SUMMARY:Women’s Bible Study
DESCRIPTION:
URL:https://easthavenbaptistchurch.com/event/womens-bible-study/2030-10-14/
END:VEVENT
BEGIN:VEVENT
DTSTART;TZID=America/Chicago:20301021T100000
DTEND;TZID=America/Chicago:20301021T110000
DTSTAMP:20260422T101041
CREATED:20260112T163027Z
LAST-MODIFIED:20260112T163027Z
UID:10001153-1918807200-1918810800@easthavenbaptistchurch.com
SUMMARY:Women’s Bible Study
DESCRIPTION:
URL:https://easthavenbaptistchurch.com/event/womens-bible-study/2030-10-21/
END:VEVENT
BEGIN:VEVENT
DTSTART;TZID=America/Chicago:20301028T100000
DTEND;TZID=America/Chicago:20301028T110000
DTSTAMP:20260422T101041
CREATED:20260112T163027Z
LAST-MODIFIED:20260112T163027Z
UID:10001154-1919412000-1919415600@easthavenbaptistchurch.com
SUMMARY:Women’s Bible Study
DESCRIPTION:
URL:https://easthavenbaptistchurch.com/event/womens-bible-study/2030-10-28/
END:VEVENT
END:VCALENDAR