BEGIN:VCALENDAR
VERSION:2.0
PRODID:-//Easthaven Baptist Church - ECPv6.15.9//NONSGML v1.0//EN
CALSCALE:GREGORIAN
METHOD:PUBLISH
X-ORIGINAL-URL:https://easthavenbaptistchurch.com
X-WR-CALDESC:Events for Easthaven Baptist Church
REFRESH-INTERVAL;VALUE=DURATION:PT1H
X-Robots-Tag:noindex
X-PUBLISHED-TTL:PT1H
BEGIN:VTIMEZONE
TZID:America/Chicago
BEGIN:DAYLIGHT
TZOFFSETFROM:-0600
TZOFFSETTO:-0500
TZNAME:CDT
DTSTART:20290311T080000
END:DAYLIGHT
BEGIN:STANDARD
TZOFFSETFROM:-0500
TZOFFSETTO:-0600
TZNAME:CST
DTSTART:20291104T070000
END:STANDARD
BEGIN:DAYLIGHT
TZOFFSETFROM:-0600
TZOFFSETTO:-0500
TZNAME:CDT
DTSTART:20300310T080000
END:DAYLIGHT
BEGIN:STANDARD
TZOFFSETFROM:-0500
TZOFFSETTO:-0600
TZNAME:CST
DTSTART:20301103T070000
END:STANDARD
BEGIN:DAYLIGHT
TZOFFSETFROM:-0600
TZOFFSETTO:-0500
TZNAME:CDT
DTSTART:20310309T080000
END:DAYLIGHT
BEGIN:STANDARD
TZOFFSETFROM:-0500
TZOFFSETTO:-0600
TZNAME:CST
DTSTART:20311102T070000
END:STANDARD
END:VTIMEZONE
BEGIN:VEVENT
DTSTART;TZID=America/Chicago:20301104T100000
DTEND;TZID=America/Chicago:20301104T110000
DTSTAMP:20260422T113840
CREATED:20260112T163027Z
LAST-MODIFIED:20260112T163027Z
UID:10001155-1920016800-1920020400@easthavenbaptistchurch.com
SUMMARY:Women’s Bible Study
DESCRIPTION:
URL:https://easthavenbaptistchurch.com/event/womens-bible-study/2030-11-04/
END:VEVENT
BEGIN:VEVENT
DTSTART;TZID=America/Chicago:20301111T100000
DTEND;TZID=America/Chicago:20301111T110000
DTSTAMP:20260422T113840
CREATED:20260112T163027Z
LAST-MODIFIED:20260112T163027Z
UID:10001156-1920621600-1920625200@easthavenbaptistchurch.com
SUMMARY:Women’s Bible Study
DESCRIPTION:
URL:https://easthavenbaptistchurch.com/event/womens-bible-study/2030-11-11/
END:VEVENT
BEGIN:VEVENT
DTSTART;TZID=America/Chicago:20301118T100000
DTEND;TZID=America/Chicago:20301118T110000
DTSTAMP:20260422T113840
CREATED:20260112T163027Z
LAST-MODIFIED:20260112T163027Z
UID:10001157-1921226400-1921230000@easthavenbaptistchurch.com
SUMMARY:Women’s Bible Study
DESCRIPTION:
URL:https://easthavenbaptistchurch.com/event/womens-bible-study/2030-11-18/
END:VEVENT
BEGIN:VEVENT
DTSTART;TZID=America/Chicago:20301125T100000
DTEND;TZID=America/Chicago:20301125T110000
DTSTAMP:20260422T113840
CREATED:20260112T163027Z
LAST-MODIFIED:20260112T163027Z
UID:10001158-1921831200-1921834800@easthavenbaptistchurch.com
SUMMARY:Women’s Bible Study
DESCRIPTION:
URL:https://easthavenbaptistchurch.com/event/womens-bible-study/2030-11-25/
END:VEVENT
END:VCALENDAR